Workbook
Name CATEGORIA: #REF!
Name Otras: EMISIONES!$EC$118
Name Pastizales: EMISIONES!$EC$121
Name Tierras_de_Cultivo: EMISIONES!$EC$119:$EC$120
Name Tierras_Forestales: EMISIONES!$EC$112:$EC$117

Sheet EMISIONES
B2: HERRAMIENTA DE CÁLCULO DE EMISIONES DE GASES DE EFECTO INVERNADERO PARA PROYECTOS
B5: DATOS GENERALES DEL PROYECTO
B6: NOMBRE DEL PROYECTO: | F6: PERSONA QUE ELABORA EL CÁLCULO:
B7: EMPRESA PROMOTORA: | F7: CORREO ELECTRÓNICO:
B8: CATEGORÍA DEL PROYECTO: | F8: TELÉFONO:
B9: CONTACTO DE LA PROMOTORA: | F9: RESOLUCIÓN
B10: CORREO ELECTRÓNICO DE LA PROMOTORA: | F10: PERIODO CALCULADO:
B12: ALCANCE 1
B13: FUENTES MÓVILES
B14: FUENTE DE EMISIÓN DE GEI (Seleccione de la lista) | C14: REPORTE | D14: N/A | E14: DATOS DE ACTIVIDAD (Seleccione de la lista el dato de actividad que va a reportar) | F14: VALOR DE DATO DE ACTIVIDAD | U14: INCERTIDUMBRE DATOS | Z14: EMISIONES CO2 | AH14: EMISIONES CH4 | AP14: EMISIONES N2O | AX14: EMISIONES HFC | BE14: EMISIONES PFC | BL14: EMISIONES SF6 | BT14: EMISIONES CO2 BIOGÉNICO | CA14: HUELLA DE CARBONO (t CO2 eq) | CB14: INCERTIDUMBRE DE LA FUENTE
F15: UNIDAD | G15: DATO 1 | H15: DATO 2 | I15: DATO 3 | J15: DATO 4 | K15: DATO 5 | L15: DATO 6 | M15: DATO 7 | N15: DATO 8 | O15: DATO 9 | P15: DATO 10 | Q15: DATO 11 | R15: DATO 12 | S15: TOTAL | T15: No. DATOS | U15: PROMEDIO | V15: DESVIACION ESTÁNDAR | W15: FACTOR T | X15: INCERTIDUMBRE SISTEMATICA DATOS | Y15: INCERTIDUMBRE DATOS | Z15: FACTOR DE EMISIÓN CO2eq | AB15: FUENTE BIBLIOGRÁFICA | AC15: INCERTIDUMBRE FACTOR EMISIÓN CO2eq | AD15: EMISIONES CO2eq (tCO2eq) | AE15: EMISIONES CO2eq (tCO2eq) | AF15: INCERTIDUMBRE EMISIONES CO2eq | AG15: Columna Auxiliar | AH15: FACTOR DE EMISIÓN CH4 | AJ15: FUENTE BIBLIOGRÁFICA | AK15: INCERTIDUMBRE FACTOR EMISIÓN CH4 | AL15: EMISIONES CH4 (tCH4) | AM15: EMISIONES CH4 (tCO2eq) | AN15: INCERTIDUMBRE EMISIONES CH4 | AO15: Columna Auxiliar | AP15: FACTOR DE EMISIÓN N2O | AR15: FUENTE BIBLIOGRÁFICA | AS15: INCERTIDUMBRE FACTOR EMISIÓN N2O | AT15: EMISIONES N2O (tN2O) | AU15: EMISIONES N2O (tCO2eq) | AV15: INCERTIDUMBRE EMISIONES N2O | AW15: Columna Auxiliar | AX15: FACTOR DE EMISIÓN HFC | AZ15: FUENTE BIBLIOGRÁFICA | BA15: INCERTIDUMBRE FACTOR EMISIÓN HFC | BB15: EMISIONES HFC (tCO2eq) | BC15: INCERTIDUMBRE EMISIONES HFC | BD15: Columna Auxiliar | BE15: FACTOR DE EMISIÓN PFC | BG15: FUENTE BIBLIOGRÁFICA | BH15: INCERTIDUMBRE FACTOR EMISIÓN PFC | BI15: EMISIONES PFC (tCO2eq) | BJ15: INCERTIDUMBRE EMISIONES PFC | BK15: Columna Auxiliar | BL15: FACTOR DE EMISIÓN SF6 | BN15: FUENTE BIBLIOGRÁFICA | BO15: INCERTIDUMBRE FACTOR EMISIÓN SF6 | BP15: EMISIONES SF6 (t SF6) | BQ15: EMISIONES SF6 (t CO2 eq) | BR15: INCERTIDUMBRE EMISIONES SF6 | BS15: Columna Auxiliar | BT15: FACTOR DE EMISIÓN CO2 (biogénico) | BV15: FUENTE BIBLIOGRÁFICA | BW15: INCERTIDUMBRE FACTOR EMISIÓN CO2 (Biogénico) | BX15: EMISIONES CO2Biogénico (t CO2 Biogénico) | BY15: INCERTIDUMBRE EMISIONES CO2 Biogénico | BZ15: Columna Auxiliar | CC15: Variable Auxiliar = (Huella de carbono x Incertidumbre de la fuente)^2
B16: Consumo de combustibles líquidos | C16: DatosActividad | F16: =VLOOKUP($E16,$CD$114:$DH$479,2,FALSE) -> 0 | S16: =SUM(G16:R16) -> 0 | T16: =COUNT(G16:R16) -> 0 | U16: =IF(T16>1,AVERAGE(G16:R16),0) -> 0 | V16: =IF(T16>1,STDEV(G16:R16),0) -> 0 | W16: =IF(T16>1,VLOOKUP($T16,$CD$383:$CE$395,2,FALSE),0) -> 0 | Y16: =IF(X16>0,X16,IF(T16>1,1-((U16-((V16*W16)/(SQRT(T16))))/U16),VLOOKUP($E16,$CD$114:$DK$479,34,FALSE))) -> 0.05 | Z16: =VLOOKUP($E16,$CD$114:$DH$479,3,FALSE) -> 0 | AA16: =VLOOKUP($E16,$CD$114:$DH$479,4,FALSE) -> 0 | AB16: =IF($S16>0,VLOOKUP($E16,$CD$114:$DH$479,7,FALSE),0) -> 0 | AC16: =IF($S16>0,VLOOKUP($E16,$CD$114:$DH$479,6,FALSE),0) -> 0 | AD16: =($S16*Z16)/1000 -> 0 | AE16: =AD16*$CE$401 -> 0 | AF16: =IF(AD16>0,SQRT(($Y16*$Y16)+(AC16*AC16)),0) -> 0 | AG16: =(AE16*AF16)^2 -> 0 | AH16: =VLOOKUP($E16,$CD$114:$DH$479,21,FALSE) -> 0 | AI16: =VLOOKUP($E16,$CD$114:$DH$479,22,FALSE) -> 0 | AJ16: =IF($S16>0,VLOOKUP($E16,$CD$114:$DH$479,25,FALSE),0) -> 0 | AK16: =IF($S16>0,VLOOKUP($E16,$CD$114:$DH$479,24,FALSE),0) -> 0 | AL16: =($S16*AH16)/1000 -> 0 | AM16: =AL16*$CE$402 -> 0 | AN16: =IF(AL16>0,SQRT(($Y16*$Y16)+(AK16*AK16)),0) -> 0 | AO16: =(AM16*AN16)^2 -> 0 | AP16: =VLOOKUP($E16,$CD$114:$DH$479,27,FALSE) -> 0 | AQ16: =VLOOKUP($E16,$CD$114:$DH$479,28,FALSE) -> 0 | AR16: =IF($S16>0,VLOOKUP($E16,$CD$114:$DH$479,31,FALSE),0) -> 0 | AS16: =IF($S16>0,VLOOKUP($E16,$CD$114:$DH$479,30,FALSE),0) -> 0 | AT16: =($S16*AP16)/1000 -> 0 | AU16: =AT16*$CE$403 -> 0 | AV16: =IF(AT16>0,SQRT(($Y16*$Y16)+(AS16*AS16)),0) -> 0 | AW16: =(AU16*AV16)^2 -> 0 | AX16: 0 | AY16: 0 | AZ16: 0 | BA16: 0 | BB16: =($S16*AX16)/1000 -> 0 | BC16: =IF(BB16>0,SQRT(($Y16*$Y16)+(BA16*BA16)),0) -> 0 | BD16: =(BB16*BC16)^2 -> 0 | BE16: 0 | BF16: 0 | BG16: 0 | BH16: 0 | BI16: =($S16*BE16)/1000 -> 0 | BJ16: =IF(BI16>0,SQRT(($Y16*$Y16)+(BH16*BH16)),0) -> 0 | BK16: =(BI16*BJ16)^2 -> 0 | BL16: 0 | BM16: 0 | BN16: 0 | BO16: 0 | BP16: =($S16*BL16)/1000 -> 0 | BQ16: =BP16*$CE$404 -> 0 | BR16: =IF(BP16>0,SQRT(($Y16*$Y16)+(BO16*BO16)),0) -> 0 | BS16: =(BQ16*BR16)^2 -> 0 | BT16: =VLOOKUP($E16,$CD$114:$DI$479,32,FALSE) -> 0 | BU16: =VLOOKUP($E16,$CD$114:$DH$479,4,FALSE) -> 0 | BV16: =IF($S16>0,VLOOKUP($E16,$CD$114:$DH$479,7,FALSE),0) -> 0 | BW16: =IF($S16>0,VLOOKUP($E16,$CD$114:$DH$479,6,FALSE),0) -> 0 | BX16: =($S16*BT16)/1000 -> 0 | BY16: =IF(BX16>0,SQRT(($Y16*$Y16)+(BW16*BW16)),0) -> 0 | BZ16: =(BX16*BY16)^2 -> 0 | CA16: =IF(C16="EmisionesGEI",D16,AE16+AM16+AU16+BB16+BQ16) -> 0 | CB16: =IF(CA16>0,SQRT(AG16+AO16+AW16+BD16+BS16)/CA16,0) -> 0 | CC16: =(CA16*CB16)^2 -> 0
B17: (Fuentes Móviles) | C17: DatosActividad | F17: =VLOOKUP($E17,$CD$114:$DH$479,2,FALSE) -> 0 | S17: =SUM(G17:R17) -> 0 | T17: =COUNT(G17:R17) -> 0 | U17: =IF(T17>1,AVERAGE(G17:R17),0) -> 0 | V17: =IF(T17>1,STDEV(G17:R17),0) -> 0 | W17: =IF(T17>1,VLOOKUP($T17,$CD$383:$CE$395,2,FALSE),0) -> 0 | Y17: =IF(X17>0,X17,IF(T17>1,1-((U17-((V17*W17)/(SQRT(T17))))/U17),VLOOKUP($E17,$CD$114:$DK$479,34,FALSE))) -> 0.05 | Z17: =VLOOKUP($E17,$CD$114:$DH$479,3,FALSE) -> 0 | AA17: =VLOOKUP($E17,$CD$114:$DH$479,4,FALSE) -> 0 | AB17: =IF($S17>0,VLOOKUP($E17,$CD$114:$DH$479,7,FALSE),0) -> 0 | AC17: =IF($S17>0,VLOOKUP($E17,$CD$114:$DH$479,6,FALSE),0) -> 0 | AD17: =($S17*Z17)/1000 -> 0 | AE17: =AD17*$CE$401 -> 0 | AF17: =IF(AD17>0,SQRT(($Y17*$Y17)+(AC17*AC17)),0) -> 0 | AG17: =(AE17*AF17)^2 -> 0 | AH17: =VLOOKUP($E17,$CD$114:$DH$479,21,FALSE) -> 0 | AI17: =VLOOKUP($E17,$CD$114:$DH$479,22,FALSE) -> 0 | AJ17: =IF($S17>0,VLOOKUP($E17,$CD$114:$DH$479,25,FALSE),0) -> 0 | AK17: =IF($S17>0,VLOOKUP($E17,$CD$114:$DH$479,24,FALSE),0) -> 0 | AL17: =($S17*AH17)/1000 -> 0 | AM17: =AL17*$CE$402 -> 0 | AN17: =IF(AL17>0,SQRT(($Y17*$Y17)+(AK17*AK17)),0) -> 0 | AO17: =(AM17*AN17)^2 -> 0 | AP17: =VLOOKUP($E17,$CD$114:$DH$479,27,FALSE) -> 0 | AQ17: =VLOOKUP($E17,$CD$114:$DH$479,28,FALSE) -> 0 | AR17: =IF($S17>0,VLOOKUP($E17,$CD$114:$DH$479,31,FALSE),0) -> 0 | AS17: =IF($S17>0,VLOOKUP($E17,$CD$114:$DH$479,30,FALSE),0) -> 0 | AT17: =($S17*AP17)/1000 -> 0 | AU17: =AT17*$CE$403 -> 0 | AV17: =IF(AT17>0,SQRT(($Y17*$Y17)+(AS17*AS17)),0) -> 0 | AW17: =(AU17*AV17)^2 -> 0 | AX17: 0 | AY17: 0 | AZ17: 0 | BA17: 0 | BB17: =($S17*AX17)/1000 -> 0 | BC17: =IF(BB17>0,SQRT(($Y17*$Y17)+(BA17*BA17)),0) -> 0 | BD17: =(BB17*BC17)^2 -> 0 | BE17: 0 | BF17: 0 | BG17: 0 | BH17: 0 | BI17: =($S17*BE17)/1000 -> 0 | BJ17: =IF(BI17>0,SQRT(($Y17*$Y17)+(BH17*BH17)),0) -> 0 | BK17: =(BI17*BJ17)^2 -> 0 | BL17: 0 | BM17: 0 | BN17: 0 | BO17: 0 | BP17: =($S17*BL17)/1000 -> 0 | BQ17: =BP17*$CE$404 -> 0 | BR17: =IF(BP17>0,SQRT(($Y17*$Y17)+(BO17*BO17)),0) -> 0 | BS17: =(BQ17*BR17)^2 -> 0 | BT17: =VLOOKUP($E17,$CD$114:$DI$479,32,FALSE) -> 0 | BU17: =VLOOKUP($E17,$CD$114:$DH$479,4,FALSE) -> 0 | BV17: =IF($S17>0,VLOOKUP($E17,$CD$114:$DH$479,7,FALSE),0) -> 0 | BW17: =IF($S17>0,VLOOKUP($E17,$CD$114:$DH$479,6,FALSE),0) -> 0 | BX17: =($S17*BT17)/1000 -> 0 | BY17: =IF(BX17>0,SQRT(($Y17*$Y17)+(BW17*BW17)),0) -> 0 | BZ17: =(BX17*BY17)^2 -> 0 | CA17: =IF(C17="EmisionesGEI",D17,AE17+AM17+AU17+BB17+BQ17) -> 0 | CB17: =IF(CA17>0,SQRT(AG17+AO17+AW17+BD17+BS17)/CA17,0) -> 0 | CC17: =(CA17*CB17)^2 -> 0
C18: DatosActividad | F18: =VLOOKUP($E18,$CD$114:$DH$479,2,FALSE) -> 0 | S18: =SUM(G18:R18) -> 0 | T18: =COUNT(G18:R18) -> 0 | U18: =IF(T18>1,AVERAGE(G18:R18),0) -> 0 | V18: =IF(T18>1,STDEV(G18:R18),0) -> 0 | W18: =IF(T18>1,VLOOKUP($T18,$CD$383:$CE$395,2,FALSE),0) -> 0 | Y18: =IF(X18>0,X18,IF(T18>1,1-((U18-((V18*W18)/(SQRT(T18))))/U18),VLOOKUP($E18,$CD$114:$DK$479,34,FALSE))) -> 0.05 | Z18: =VLOOKUP($E18,$CD$114:$DH$479,3,FALSE) -> 0 | AA18: =VLOOKUP($E18,$CD$114:$DH$479,4,FALSE) -> 0 | AB18: =IF($S18>0,VLOOKUP($E18,$CD$114:$DH$479,7,FALSE),0) -> 0 | AC18: =IF($S18>0,VLOOKUP($E18,$CD$114:$DH$479,6,FALSE),0) -> 0 | AD18: =($S18*Z18)/1000 -> 0 | AE18: =AD18*$CE$401 -> 0 | AF18: =IF(AD18>0,SQRT(($Y18*$Y18)+(AC18*AC18)),0) -> 0 | AG18: =(AE18*AF18)^2 -> 0 | AH18: =VLOOKUP($E18,$CD$114:$DH$479,21,FALSE) -> 0 | AI18: =VLOOKUP($E18,$CD$114:$DH$479,22,FALSE) -> 0 | AJ18: =IF($S18>0,VLOOKUP($E18,$CD$114:$DH$479,25,FALSE),0) -> 0 | AK18: =IF($S18>0,VLOOKUP($E18,$CD$114:$DH$479,24,FALSE),0) -> 0 | AL18: =($S18*AH18)/1000 -> 0 | AM18: =AL18*$CE$402 -> 0 | AN18: =IF(AL18>0,SQRT(($Y18*$Y18)+(AK18*AK18)),0) -> 0 | AO18: =(AM18*AN18)^2 -> 0 | AP18: =VLOOKUP($E18,$CD$114:$DH$479,27,FALSE) -> 0 | AQ18: =VLOOKUP($E18,$CD$114:$DH$479,28,FALSE) -> 0 | AR18: =IF($S18>0,VLOOKUP($E18,$CD$114:$DH$479,31,FALSE),0) -> 0 | AS18: =IF($S18>0,VLOOKUP($E18,$CD$114:$DH$479,30,FALSE),0) -> 0 | AT18: =($S18*AP18)/1000 -> 0 | AU18: =AT18*$CE$403 -> 0 | AV18: =IF(AT18>0,SQRT(($Y18*$Y18)+(AS18*AS18)),0) -> 0 | AW18: =(AU18*AV18)^2 -> 0 | AX18: 0 | AY18: 0 | AZ18: 0 | BA18: 0 | BB18: =($S18*AX18)/1000 -> 0 | BC18: =IF(BB18>0,SQRT(($Y18*$Y18)+(BA18*BA18)),0) -> 0 | BD18: =(BB18*BC18)^2 -> 0 | BE18: 0 | BF18: 0 | BG18: 0 | BH18: 0 | BI18: =($S18*BE18)/1000 -> 0 | BJ18: =IF(BI18>0,SQRT(($Y18*$Y18)+(BH18*BH18)),0) -> 0 | BK18: =(BI18*BJ18)^2 -> 0 | BL18: 0 | BM18: 0 | BN18: 0 | BO18: 0 | BP18: =($S18*BL18)/1000 -> 0 | BQ18: =BP18*$CE$404 -> 0 | BR18: =IF(BP18>0,SQRT(($Y18*$Y18)+(BO18*BO18)),0) -> 0 | BS18: =(BQ18*BR18)^2 -> 0 | BT18: =VLOOKUP($E18,$CD$114:$DI$479,32,FALSE) -> 0 | BU18: =VLOOKUP($E18,$CD$114:$DH$479,4,FALSE) -> 0 | BV18: =IF($S18>0,VLOOKUP($E18,$CD$114:$DH$479,7,FALSE),0) -> 0 | BW18: =IF($S18>0,VLOOKUP($E18,$CD$114:$DH$479,6,FALSE),0) -> 0 | BX18: =($S18*BT18)/1000 -> 0 | BY18: =IF(BX18>0,SQRT(($Y18*$Y18)+(BW18*BW18)),0) -> 0 | BZ18: =(BX18*BY18)^2 -> 0 | CA18: =IF(C18="EmisionesGEI",D18,AE18+AM18+AU18+BB18+BQ18) -> 0 | CB18: =IF(CA18>0,SQRT(AG18+AO18+AW18+BD18+BS18)/CA18,0) -> 0 | CC18: =(CA18*CB18)^2 -> 0
C19: DatosActividad | F19: =VLOOKUP($E19,$CD$114:$DH$479,2,FALSE) -> 0 | S19: =SUM(G19:R19) -> 0 | T19: =COUNT(G19:R19) -> 0 | U19: =IF(T19>1,AVERAGE(G19:R19),0) -> 0 | V19: =IF(T19>1,STDEV(G19:R19),0) -> 0 | W19: =IF(T19>1,VLOOKUP($T19,$CD$383:$CE$395,2,FALSE),0) -> 0 | Y19: =IF(X19>0,X19,IF(T19>1,1-((U19-((V19*W19)/(SQRT(T19))))/U19),VLOOKUP($E19,$CD$114:$DK$479,34,FALSE))) -> 0.05 | Z19: =VLOOKUP($E19,$CD$114:$DH$479,3,FALSE) -> 0 | AA19: =VLOOKUP($E19,$CD$114:$DH$479,4,FALSE) -> 0 | AB19: =IF($S19>0,VLOOKUP($E19,$CD$114:$DH$479,7,FALSE),0) -> 0 | AC19: =IF($S19>0,VLOOKUP($E19,$CD$114:$DH$479,6,FALSE),0) -> 0 | AD19: =($S19*Z19)/1000 -> 0 | AE19: =AD19*$CE$401 -> 0 | AF19: =IF(AD19>0,SQRT(($Y19*$Y19)+(AC19*AC19)),0) -> 0 | AG19: =(AE19*AF19)^2 -> 0 | AH19: =VLOOKUP($E19,$CD$114:$DH$479,21,FALSE) -> 0 | AI19: =VLOOKUP($E19,$CD$114:$DH$479,22,FALSE) -> 0 | AJ19: =IF($S19>0,VLOOKUP($E19,$CD$114:$DH$479,25,FALSE),0) -> 0 | AK19: =IF($S19>0,VLOOKUP($E19,$CD$114:$DH$479,24,FALSE),0) -> 0 | AL19: =($S19*AH19)/1000 -> 0 | AM19: =AL19*$CE$402 -> 0 | AN19: =IF(AL19>0,SQRT(($Y19*$Y19)+(AK19*AK19)),0) -> 0 | AO19: =(AM19*AN19)^2 -> 0 | AP19: =VLOOKUP($E19,$CD$114:$DH$479,27,FALSE) -> 0 | AQ19: =VLOOKUP($E19,$CD$114:$DH$479,28,FALSE) -> 0 | AR19: =IF($S19>0,VLOOKUP($E19,$CD$114:$DH$479,31,FALSE),0) -> 0 | AS19: =IF($S19>0,VLOOKUP($E19,$CD$114:$DH$479,30,FALSE),0) -> 0 | AT19: =($S19*AP19)/1000 -> 0 | AU19: =AT19*$CE$403 -> 0 | AV19: =IF(AT19>0,SQRT(($Y19*$Y19)+(AS19*AS19)),0) -> 0 | AW19: =(AU19*AV19)^2 -> 0 | AX19: 0 | AY19: 0 | AZ19: 0 | BA19: 0 | BB19: =($S19*AX19)/1000 -> 0 | BC19: =IF(BB19>0,SQRT(($Y19*$Y19)+(BA19*BA19)),0) -> 0 | BD19: =(BB19*BC19)^2 -> 0 | BE19: 0 | BF19: 0 | BG19: 0 | BH19: 0 | BI19: =($S19*BE19)/1000 -> 0 | BJ19: =IF(BI19>0,SQRT(($Y19*$Y19)+(BH19*BH19)),0) -> 0 | BK19: =(BI19*BJ19)^2 -> 0 | BL19: 0 | BM19: 0 | BN19: 0 | BO19: 0 | BP19: =($S19*BL19)/1000 -> 0 | BQ19: =BP19*$CE$404 -> 0 | BR19: =IF(BP19>0,SQRT(($Y19*$Y19)+(BO19*BO19)),0) -> 0 | BS19: =(BQ19*BR19)^2 -> 0 | BT19: =VLOOKUP($E19,$CD$114:$DI$479,32,FALSE) -> 0 | BU19: =VLOOKUP($E19,$CD$114:$DH$479,4,FALSE) -> 0 | BV19: =IF($S19>0,VLOOKUP($E19,$CD$114:$DH$479,7,FALSE),0) -> 0 | BW19: =IF($S19>0,VLOOKUP($E19,$CD$114:$DH$479,6,FALSE),0) -> 0 | BX19: =($S19*BT19)/1000 -> 0 | BY19: =IF(BX19>0,SQRT(($Y19*$Y19)+(BW19*BW19)),0) -> 0 | BZ19: =(BX19*BY19)^2 -> 0 | CA19: =IF(C19="EmisionesGEI",D19,AE19+AM19+AU19+BB19+BQ19) -> 0 | CB19: =IF(CA19>0,SQRT(AG19+AO19+AW19+BD19+BS19)/CA19,0) -> 0 | CC19: =(CA19*CB19)^2 -> 0
B20: Consumo de combustibles gaseosos | C20: DatosActividad | F20: =VLOOKUP($E20,$CD$114:$DH$479,2,FALSE) -> 0 | S20: =SUM(G20:R20) -> 0 | T20: =COUNT(G20:R20) -> 0 | U20: =IF(T20>1,AVERAGE(G20:R20),0) -> 0 | V20: =IF(T20>1,STDEV(G20:R20),0) -> 0 | W20: =IF(T20>1,VLOOKUP($T20,$CD$383:$CE$395,2,FALSE),0) -> 0 | Y20: =IF(X20>0,X20,IF(T20>1,1-((U20-((V20*W20)/(SQRT(T20))))/U20),VLOOKUP($E20,$CD$114:$DK$479,34,FALSE))) -> 0.05 | Z20: =VLOOKUP($E20,$CD$114:$DH$479,3,FALSE) -> 0 | AA20: =VLOOKUP($E20,$CD$114:$DH$479,4,FALSE) -> 0 | AB20: =IF($S20>0,VLOOKUP($E20,$CD$114:$DH$479,7,FALSE),0) -> 0 | AC20: =IF($S20>0,VLOOKUP($E20,$CD$114:$DH$479,6,FALSE),0) -> 0 | AD20: =($S20*Z20)/1000 -> 0 | AE20: =AD20*$CE$401 -> 0 | AF20: =IF(AD20>0,SQRT(($Y20*$Y20)+(AC20*AC20)),0) -> 0 | AG20: =(AE20*AF20)^2 -> 0 | AH20: =VLOOKUP($E20,$CD$114:$DH$479,21,FALSE) -> 0 | AI20: =VLOOKUP($E20,$CD$114:$DH$479,22,FALSE) -> 0 | AJ20: =IF($S20>0,VLOOKUP($E20,$CD$114:$DH$479,25,FALSE),0) -> 0 | AK20: =IF($S20>0,VLOOKUP($E20,$CD$114:$DH$479,24,FALSE),0) -> 0 | AL20: =($S20*AH20)/1000 -> 0 | AM20: =AL20*$CE$402 -> 0 | AN20: =IF(AL20>0,SQRT(($Y20*$Y20)+(AK20*AK20)),0) -> 0 | AO20: =(AM20*AN20)^2 -> 0 | AP20: =VLOOKUP($E20,$CD$114:$DH$479,27,FALSE) -> 0 | AQ20: =VLOOKUP($E20,$CD$114:$DH$479,28,FALSE) -> 0 | AR20: =IF($S20>0,VLOOKUP($E20,$CD$114:$DH$479,31,FALSE),0) -> 0 | AS20: =IF($S20>0,VLOOKUP($E20,$CD$114:$DH$479,30,FALSE),0) -> 0 | AT20: =($S20*AP20)/1000 -> 0 | AU20: =AT20*$CE$403 -> 0 | AV20: =IF(AT20>0,SQRT(($Y20*$Y20)+(AS20*AS20)),0) -> 0 | AW20: =(AU20*AV20)^2 -> 0 | AX20: 0 | AY20: 0 | AZ20: 0 | BA20: 0 | BB20: =($S20*AX20)/1000 -> 0 | BC20: =IF(BB20>0,SQRT(($Y20*$Y20)+(BA20*BA20)),0) -> 0 | BD20: =(BB20*BC20)^2 -> 0 | BE20: 0 | BF20: 0 | BG20: 0 | BH20: 0 | BI20: =($S20*BE20)/1000 -> 0 | BJ20: =IF(BI20>0,SQRT(($Y20*$Y20)+(BH20*BH20)),0) -> 0 | BK20: =(BI20*BJ20)^2 -> 0 | BL20: 0 | BM20: 0 | BN20: 0 | BO20: 0 | BP20: =($S20*BL20)/1000 -> 0 | BQ20: =BP20*$CE$404 -> 0 | BR20: =IF(BP20>0,SQRT(($Y20*$Y20)+(BO20*BO20)),0) -> 0 | BS20: =(BQ20*BR20)^2 -> 0 | BT20: =VLOOKUP($E20,$CD$114:$DI$479,32,FALSE) -> 0 | BU20: =VLOOKUP($E20,$CD$114:$DH$479,4,FALSE) -> 0 | BV20: =IF($S20>0,VLOOKUP($E20,$CD$114:$DH$479,7,FALSE),0) -> 0 | BW20: =IF($S20>0,VLOOKUP($E20,$CD$114:$DH$479,6,FALSE),0) -> 0 | BX20: =($S20*BT20)/1000 -> 0 | BY20: =IF(BX20>0,SQRT(($Y20*$Y20)+(BW20*BW20)),0) -> 0 | BZ20: =(BX20*BY20)^2 -> 0 | CA20: =IF(C20="EmisionesGEI",D20,AE20+AM20+AU20+BB20+BQ20) -> 0 | CB20: =IF(CA20>0,SQRT(AG20+AO20+AW20+BD20+BS20)/CA20,0) -> 0 | CC20: =(CA20*CB20)^2 -> 0
B21: (Fuentes Móviles) | C21: DatosActividad | F21: =VLOOKUP($E21,$CD$114:$DH$479,2,FALSE) -> 0 | S21: =SUM(G21:R21) -> 0 | T21: =COUNT(G21:R21) -> 0 | U21: =IF(T21>1,AVERAGE(G21:R21),0) -> 0 | V21: =IF(T21>1,STDEV(G21:R21),0) -> 0 | W21: =IF(T21>1,VLOOKUP($T21,$CD$383:$CE$395,2,FALSE),0) -> 0 | Y21: =IF(X21>0,X21,IF(T21>1,1-((U21-((V21*W21)/(SQRT(T21))))/U21),VLOOKUP($E21,$CD$114:$DK$479,34,FALSE))) -> 0.05 | Z21: =VLOOKUP($E21,$CD$114:$DH$479,3,FALSE) -> 0 | AA21: =VLOOKUP($E21,$CD$114:$DH$479,4,FALSE) -> 0 | AB21: =IF($S21>0,VLOOKUP($E21,$CD$114:$DH$479,7,FALSE),0) -> 0 | AC21: =IF($S21>0,VLOOKUP($E21,$CD$114:$DH$479,6,FALSE),0) -> 0 | AD21: =($S21*Z21)/1000 -> 0 | AE21: =AD21*$CE$401 -> 0 | AF21: =IF(AD21>0,SQRT(($Y21*$Y21)+(AC21*AC21)),0) -> 0 | AG21: =(AE21*AF21)^2 -> 0 | AH21: =VLOOKUP($E21,$CD$114:$DH$479,21,FALSE) -> 0 | AI21: =VLOOKUP($E21,$CD$114:$DH$479,22,FALSE) -> 0 | AJ21: =IF($S21>0,VLOOKUP($E21,$CD$114:$DH$479,25,FALSE),0) -> 0 | AK21: =IF($S21>0,VLOOKUP($E21,$CD$114:$DH$479,24,FALSE),0) -> 0 | AL21: =($S21*AH21)/1000 -> 0 | AM21: =AL21*$CE$402 -> 0 | AN21: =IF(AL21>0,SQRT(($Y21*$Y21)+(AK21*AK21)),0) -> 0 | AO21: =(AM21*AN21)^2 -> 0 | AP21: =VLOOKUP($E21,$CD$114:$DH$479,27,FALSE) -> 0 | AQ21: =VLOOKUP($E21,$CD$114:$DH$479,28,FALSE) -> 0 | AR21: =IF($S21>0,VLOOKUP($E21,$CD$114:$DH$479,31,FALSE),0) -> 0 | AS21: =IF($S21>0,VLOOKUP($E21,$CD$114:$DH$479,30,FALSE),0) -> 0 | AT21: =($S21*AP21)/1000 -> 0 | AU21: =AT21*$CE$403 -> 0 | AV21: =IF(AT21>0,SQRT(($Y21*$Y21)+(AS21*AS21)),0) -> 0 | AW21: =(AU21*AV21)^2 -> 0 | AX21: 0 | AY21: 0 | AZ21: 0 | BA21: 0 | BB21: =($S21*AX21)/1000 -> 0 | BC21: =IF(BB21>0,SQRT(($Y21*$Y21)+(BA21*BA21)),0) -> 0 | BD21: =(BB21*BC21)^2 -> 0 | BE21: 0 | BF21: 0 | BG21: 0 | BH21: 0 | BI21: =($S21*BE21)/1000 -> 0 | BJ21: =IF(BI21>0,SQRT(($Y21*$Y21)+(BH21*BH21)),0) -> 0 | BK21: =(BI21*BJ21)^2 -> 0 | BL21: 0 | BM21: 0 | BN21: 0 | BO21: 0 | BP21: =($S21*BL21)/1000 -> 0 | BQ21: =BP21*$CE$404 -> 0 | BR21: =IF(BP21>0,SQRT(($Y21*$Y21)+(BO21*BO21)),0) -> 0 | BS21: =(BQ21*BR21)^2 -> 0 | BT21: =VLOOKUP($E21,$CD$114:$DI$479,32,FALSE) -> 0 | BU21: =VLOOKUP($E21,$CD$114:$DH$479,4,FALSE) -> 0 | BV21: =IF($S21>0,VLOOKUP($E21,$CD$114:$DH$479,7,FALSE),0) -> 0 | BW21: =IF($S21>0,VLOOKUP($E21,$CD$114:$DH$479,6,FALSE),0) -> 0 | BX21: =($S21*BT21)/1000 -> 0 | BY21: =IF(BX21>0,SQRT(($Y21*$Y21)+(BW21*BW21)),0) -> 0 | BZ21: =(BX21*BY21)^2 -> 0 | CA21: =IF(C21="EmisionesGEI",D21,AE21+AM21+AU21+BB21+BQ21) -> 0 | CB21: =IF(CA21>0,SQRT(AG21+AO21+AW21+BD21+BS21)/CA21,0) -> 0 | CC21: =(CA21*CB21)^2 -> 0
C22: DatosActividad | F22: =VLOOKUP($E22,$CD$114:$DH$479,2,FALSE) -> 0 | S22: =SUM(G22:R22) -> 0 | T22: =COUNT(G22:R22) -> 0 | U22: =IF(T22>1,AVERAGE(G22:R22),0) -> 0 | V22: =IF(T22>1,STDEV(G22:R22),0) -> 0 | W22: =IF(T22>1,VLOOKUP($T22,$CD$383:$CE$395,2,FALSE),0) -> 0 | Y22: =IF(X22>0,X22,IF(T22>1,1-((U22-((V22*W22)/(SQRT(T22))))/U22),VLOOKUP($E22,$CD$114:$DK$479,34,FALSE))) -> 0.05 | Z22: =VLOOKUP($E22,$CD$114:$DH$479,3,FALSE) -> 0 | AA22: =VLOOKUP($E22,$CD$114:$DH$479,4,FALSE) -> 0 | AB22: =IF($S22>0,VLOOKUP($E22,$CD$114:$DH$479,7,FALSE),0) -> 0 | AC22: =IF($S22>0,VLOOKUP($E22,$CD$114:$DH$479,6,FALSE),0) -> 0 | AD22: =($S22*Z22)/1000 -> 0 | AE22: =AD22*$CE$401 -> 0 | AF22: =IF(AD22>0,SQRT(($Y22*$Y22)+(AC22*AC22)),0) -> 0 | AG22: =(AE22*AF22)^2 -> 0 | AH22: =VLOOKUP($E22,$CD$114:$DH$479,21,FALSE) -> 0 | AI22: =VLOOKUP($E22,$CD$114:$DH$479,22,FALSE) -> 0 | AJ22: =IF($S22>0,VLOOKUP($E22,$CD$114:$DH$479,25,FALSE),0) -> 0 | AK22: =IF($S22>0,VLOOKUP($E22,$CD$114:$DH$479,24,FALSE),0) -> 0 | AL22: =($S22*AH22)/1000 -> 0 | AM22: =AL22*$CE$402 -> 0 | AN22: =IF(AL22>0,SQRT(($Y22*$Y22)+(AK22*AK22)),0) -> 0 | AO22: =(AM22*AN22)^2 -> 0 | AP22: =VLOOKUP($E22,$CD$114:$DH$479,27,FALSE) -> 0 | AQ22: =VLOOKUP($E22,$CD$114:$DH$479,28,FALSE) -> 0 | AR22: =IF($S22>0,VLOOKUP($E22,$CD$114:$DH$479,31,FALSE),0) -> 0 | AS22: =IF($S22>0,VLOOKUP($E22,$CD$114:$DH$479,30,FALSE),0) -> 0 | AT22: =($S22*AP22)/1000 -> 0 | AU22: =AT22*$CE$403 -> 0 | AV22: =IF(AT22>0,SQRT(($Y22*$Y22)+(AS22*AS22)),0) -> 0 | AW22: =(AU22*AV22)^2 -> 0 | AX22: 0 | AY22: 0 | AZ22: 0 | BA22: 0 | BB22: =($S22*AX22)/1000 -> 0 | BC22: =IF(BB22>0,SQRT(($Y22*$Y22)+(BA22*BA22)),0) -> 0 | BD22: =(BB22*BC22)^2 -> 0 | BE22: 0 | BF22: 0 | BG22: 0 | BH22: 0 | BI22: =($S22*BE22)/1000 -> 0 | BJ22: =IF(BI22>0,SQRT(($Y22*$Y22)+(BH22*BH22)),0) -> 0 | BK22: =(BI22*BJ22)^2 -> 0 | BL22: 0 | BM22: 0 | BN22: 0 | BO22: 0 | BP22: =($S22*BL22)/1000 -> 0 | BQ22: =BP22*$CE$404 -> 0 | BR22: =IF(BP22>0,SQRT(($Y22*$Y22)+(BO22*BO22)),0) -> 0 | BS22: =(BQ22*BR22)^2 -> 0 | BT22: =VLOOKUP($E22,$CD$114:$DI$479,32,FALSE) -> 0 | BU22: =VLOOKUP($E22,$CD$114:$DH$479,4,FALSE) -> 0 | BV22: =IF($S22>0,VLOOKUP($E22,$CD$114:$DH$479,7,FALSE),0) -> 0 | BW22: =IF($S22>0,VLOOKUP($E22,$CD$114:$DH$479,6,FALSE),0) -> 0 | BX22: =($S22*BT22)/1000 -> 0 | BY22: =IF(BX22>0,SQRT(($Y22*$Y22)+(BW22*BW22)),0) -> 0 | BZ22: =(BX22*BY22)^2 -> 0 | CA22: =IF(C22="EmisionesGEI",D22,AE22+AM22+AU22+BB22+BQ22) -> 0 | CB22: =IF(CA22>0,SQRT(AG22+AO22+AW22+BD22+BS22)/CA22,0) -> 0 | CC22: =(CA22*CB22)^2 -> 0
C23: DatosActividad | F23: =VLOOKUP($E23,$CD$114:$DH$479,2,FALSE) -> 0 | S23: =SUM(G23:R23) -> 0 | T23: =COUNT(G23:R23) -> 0 | U23: =IF(T23>1,AVERAGE(G23:R23),0) -> 0 | V23: =IF(T23>1,STDEV(G23:R23),0) -> 0 | W23: =IF(T23>1,VLOOKUP($T23,$CD$383:$CE$395,2,FALSE),0) -> 0 | Y23: =IF(X23>0,X23,IF(T23>1,1-((U23-((V23*W23)/(SQRT(T23))))/U23),VLOOKUP($E23,$CD$114:$DK$479,34,FALSE))) -> 0.05 | Z23: =VLOOKUP($E23,$CD$114:$DH$479,3,FALSE) -> 0 | AA23: =VLOOKUP($E23,$CD$114:$DH$479,4,FALSE) -> 0 | AB23: =IF($S23>0,VLOOKUP($E23,$CD$114:$DH$479,7,FALSE),0) -> 0 | AC23: =IF($S23>0,VLOOKUP($E23,$CD$114:$DH$479,6,FALSE),0) -> 0 | AD23: =($S23*Z23)/1000 -> 0 | AE23: =AD23*$CE$401 -> 0 | AF23: =IF(AD23>0,SQRT(($Y23*$Y23)+(AC23*AC23)),0) -> 0 | AG23: =(AE23*AF23)^2 -> 0 | AH23: =VLOOKUP($E23,$CD$114:$DH$479,21,FALSE) -> 0 | AI23: =VLOOKUP($E23,$CD$114:$DH$479,22,FALSE) -> 0 | AJ23: =IF($S23>0,VLOOKUP($E23,$CD$114:$DH$479,25,FALSE),0) -> 0 | AK23: =IF($S23>0,VLOOKUP($E23,$CD$114:$DH$479,24,FALSE),0) -> 0 | AL23: =($S23*AH23)/1000 -> 0 | AM23: =AL23*$CE$402 -> 0 | AN23: =IF(AL23>0,SQRT(($Y23*$Y23)+(AK23*AK23)),0) -> 0 | AO23: =(AM23*AN23)^2 -> 0 | AP23: =VLOOKUP($E23,$CD$114:$DH$479,27,FALSE) -> 0 | AQ23: =VLOOKUP($E23,$CD$114:$DH$479,28,FALSE) -> 0 | AR23: =IF($S23>0,VLOOKUP($E23,$CD$114:$DH$479,31,FALSE),0) -> 0 | AS23: =IF($S23>0,VLOOKUP($E23,$CD$114:$DH$479,30,FALSE),0) -> 0 | AT23: =($S23*AP23)/1000 -> 0 | AU23: =AT23*$CE$403 -> 0 | AV23: =IF(AT23>0,SQRT(($Y23*$Y23)+(AS23*AS23)),0) -> 0 | AW23: =(AU23*AV23)^2 -> 0 | AX23: 0 | AY23: 0 | AZ23: 0 | BA23: 0 | BB23: =($S23*AX23)/1000 -> 0 | BC23: =IF(BB23>0,SQRT(($Y23*$Y23)+(BA23*BA23)),0) -> 0 | BD23: =(BB23*BC23)^2 -> 0 | BE23: 0 | BF23: 0 | BG23: 0 | BH23: 0 | BI23: =($S23*BE23)/1000 -> 0 | BJ23: =IF(BI23>0,SQRT(($Y23*$Y23)+(BH23*BH23)),0) -> 0 | BK23: =(BI23*BJ23)^2 -> 0 | BL23: 0 | BM23: 0 | BN23: 0 | BO23: 0 | BP23: =($S23*BL23)/1000 -> 0 | BQ23: =BP23*$CE$404 -> 0 | BR23: =IF(BP23>0,SQRT(($Y23*$Y23)+(BO23*BO23)),0) -> 0 | BS23: =(BQ23*BR23)^2 -> 0 | BT23: =VLOOKUP($E23,$CD$114:$DI$479,32,FALSE) -> 0 | BU23: =VLOOKUP($E23,$CD$114:$DH$479,4,FALSE) -> 0 | BV23: =IF($S23>0,VLOOKUP($E23,$CD$114:$DH$479,7,FALSE),0) -> 0 | BW23: =IF($S23>0,VLOOKUP($E23,$CD$114:$DH$479,6,FALSE),0) -> 0 | BX23: =($S23*BT23)/1000 -> 0 | BY23: =IF(BX23>0,SQRT(($Y23*$Y23)+(BW23*BW23)),0) -> 0 | BZ23: =(BX23*BY23)^2 -> 0 | CA23: =IF(C23="EmisionesGEI",D23,AE23+AM23+AU23+BB23+BQ23) -> 0 | CB23: =IF(CA23>0,SQRT(AG23+AO23+AW23+BD23+BS23)/CA23,0) -> 0 | CC23: =(CA23*CB23)^2 -> 0
B24: SUBTOTAL COMBUSTIBLES | AE24: =SUM(AE16:AE23) -> 0 | AF24: =IF(AE24>0,SQRT(SUM(AG16:AG23))/AE24,0) -> 0 | AG24: =(AE24*AF24)^2 -> 0 | AM24: =SUM(AM16:AM23) -> 0 | AN24: =IF(AM24>0,SQRT(SUM(AO16:AO23))/AM24,0) -> 0 | AO24: =(AM24*AN24)^2 -> 0 | AU24: =SUM(AU16:AU23) -> 0 | AV24: =IF(AU24>0,SQRT(SUM(AW16:AW23))/AU24,0) -> 0 | AW24: =(AU24*AV24)^2 -> 0 | BB24: =SUM(BB16:BB23) -> 0 | BC24: =IF(BB24>0,SQRT(SUM(BD16:BD23))/BB24,0) -> 0 | BD24: =(BB24*BC24)^2 -> 0 | BI24: =SUM(BI16:BI23) -> 0 | BJ24: =IF(BI24>0,SQRT(SUM(BK16:BK23))/BI24,0) -> 0 | BK24: =(BI24*BJ24)^2 -> 0 | BQ24: =SUM(BQ16:BQ23) -> 0 | BR24: =IF(BQ24>0,SQRT(SUM(BS16:BS23))/BQ24,0) -> 0 | BS24: =(BQ24*BR24)^2 -> 0 | BX24: =SUM(BX16:BX23) -> 0 | BY24: =IF(BX24>0,SQRT(SUM(BZ16:BZ23))/BX24,0) -> 0 | BZ24: =(BX24*BY24)^2 -> 0 | CA24: =SUM(CA16:CA23) -> 0 | CB24: =IF(CA24>0,SQRT(SUM(CC16:CC23))/CA24,0) -> 0 | CC24: =(CA24*CB24)^2 -> 0
B25: Extintores (Fuentes Móviles) | C25: DatosActividad | F25: =VLOOKUP($E25,$CD$114:$DH$479,2,FALSE) -> 0 | S25: =SUM(G25:R25) -> 0 | T25: =COUNT(G25:R25) -> 0 | U25: =IF(T25>1,AVERAGE(G25:R25),0) -> 0 | V25: =IF(T25>1,STDEV(G25:R25),0) -> 0 | W25: =IF(T25>1,VLOOKUP($T25,$CD$383:$CE$395,2,FALSE),0) -> 0 | Y25: =IF(X25>0,X25,IF(T25>1,1-((U25-((V25*W25)/(SQRT(T25))))/U25),VLOOKUP($E25,$CD$114:$DK$479,34,FALSE))) -> 0.05 | Z25: =VLOOKUP($E25,$CD$114:$DH$479,3,FALSE) -> 0 | AA25: =VLOOKUP($E25,$CD$114:$DH$479,4,FALSE) -> 0 | AB25: =IF($S25>0,VLOOKUP($E25,$CD$114:$DH$479,7,FALSE),0) -> 0 | AC25: =IF($S25>0,VLOOKUP($E25,$CD$114:$DH$479,6,FALSE),0) -> 0 | AD25: =($S25*Z25)/1000 -> 0 | AE25: =AD25*$CE$401 -> 0 | AF25: =IF(AD25>0,SQRT(($Y25*$Y25)+(AC25*AC25)),0) -> 0 | AG25: =(AE25*AF25)^2 -> 0 | AH25: 0 | AI25: 0 | AJ25: 0 | AK25: 0 | AL25: =($S25*AH25)/1000 -> 0 | AM25: =AL25*$CE$402 -> 0 | AN25: =IF(AL25>0,SQRT(($Y25*$Y25)+(AK25*AK25)),0) -> 0 | AO25: =(AM25*AN25)^2 -> 0 | AP25: 0 | AQ25: 0 | AR25: 0 | AS25: 0 | AT25: =($S25*AP25)/1000 -> 0 | AU25: =AT25*$CE$403 -> 0 | AV25: =IF(AT25>0,SQRT(($Y25*$Y25)+(AS25*AS25)),0) -> 0 | AW25: =(AU25*AV25)^2 -> 0 | AX25: 0 | AY25: 0 | AZ25: 0 | BA25: 0 | BB25: =($S25*AX25)/1000 -> 0 | BC25: =IF(BB25>0,SQRT(($Y25*$Y25)+(BA25*BA25)),0) -> 0 | BD25: =(BB25*BC25)^2 -> 0 | BE25: 0 | BF25: 0 | BG25: 0 | BH25: 0 | BI25: =($S25*BE25)/1000 -> 0 | BJ25: =IF(BI25>0,SQRT(($Y25*$Y25)+(BH25*BH25)),0) -> 0 | BK25: =(BI25*BJ25)^2 -> 0 | BL25: 0 | BM25: 0 | BN25: 0 | BO25: 0 | BP25: =($S25*BL25)/1000 -> 0 | BQ25: =BP25*$CE$404 -> 0 | BR25: =IF(BP25>0,SQRT(($Y25*$Y25)+(BO25*BO25)),0) -> 0 | BS25: =(BQ25*BR25)^2 -> 0 | BT25: 0 | BU25: 0 | BV25: 0 | BW25: 0 | BX25: 0 | BY25: 0 | BZ25: =(BX25*BY25)^2 -> 0 | CA25: =IF(C25="EmisionesGEI",D25,AE25+AM25+AU25+BB25+BQ25) -> 0 | CB25: =IF(CA25>0,SQRT(AG25+AO25+AW25+BD25+BS25)/CA25,0) -> 0 | CC25: =(CA25*CB25)^2 -> 0
C26: DatosActividad | F26: =VLOOKUP($E26,$CD$114:$DH$479,2,FALSE) -> 0 | S26: =SUM(G26:R26) -> 0 | T26: =COUNT(G26:R26) -> 0 | U26: =IF(T26>1,AVERAGE(G26:R26),0) -> 0 | V26: =IF(T26>1,STDEV(G26:R26),0) -> 0 | W26: =IF(T26>1,VLOOKUP($T26,$CD$383:$CE$395,2,FALSE),0) -> 0 | Y26: =IF(X26>0,X26,IF(T26>1,1-((U26-((V26*W26)/(SQRT(T26))))/U26),VLOOKUP($E26,$CD$114:$DK$479,34,FALSE))) -> 0.05 | Z26: 0 | AA26: 0 | AB26: 0 | AC26: 0 | AD26: =($S26*Z26)/1000 -> 0 | AE26: =AD26*$CE$401 -> 0 | AF26: =IF(AD26>0,SQRT(($Y26*$Y26)+(AC26*AC26)),0) -> 0 | AG26: =(AE26*AF26)^2 -> 0 | AH26: 0 | AI26: 0 | AJ26: 0 | AK26: 0 | AL26: =($S26*AH26)/1000 -> 0 | AM26: =AL26*$CE$402 -> 0 | AN26: =IF(AL26>0,SQRT(($Y26*$Y26)+(AK26*AK26)),0) -> 0 | AO26: =(AM26*AN26)^2 -> 0 | AP26: 0 | AQ26: 0 | AR26: 0 | AS26: 0 | AT26: =($S26*AP26)/1000 -> 0 | AU26: =AT26*$CE$403 -> 0 | AV26: =IF(AT26>0,SQRT(($Y26*$Y26)+(AS26*AS26)),0) -> 0 | AW26: =(AU26*AV26)^2 -> 0 | AX26: =VLOOKUP($E26,$CD$114:$DH$479,3,FALSE) -> 0 | AY26: =VLOOKUP($E26,$CD$114:$DH$479,4,FALSE) -> 0 | AZ26: =IF($S26>0,VLOOKUP($E26,$CD$114:$DH$479,7,FALSE),0) -> 0 | BA26: =IF($S26>0,VLOOKUP($E26,$CD$114:$DH$479,6,FALSE),0) -> 0 | BB26: =($S26*AX26)/1000 -> 0 | BC26: =IF(BB26>0,SQRT(($Y26*$Y26)+(BA26*BA26)),0) -> 0 | BD26: =(BB26*BC26)^2 -> 0 | BE26: 0 | BF26: =VLOOKUP($E26,$CD$114:$DH$479,4,FALSE) -> 0 | BG26: =IF($S26>0,VLOOKUP($E26,$CD$114:$DH$479,7,FALSE),0) -> 0 | BH26: =IF($S26>0,VLOOKUP($E26,$CD$114:$DH$479,6,FALSE),0) -> 0 | BI26: =($S26*BE26)/1000 -> 0 | BJ26: =IF(BI26>0,SQRT(($Y26*$Y26)+(BH26*BH26)),0) -> 0 | BK26: =(BI26*BJ26)^2 -> 0 | BL26: 0 | BM26: 0 | BN26: 0 | BO26: 0 | BP26: =($S26*BL26)/1000 -> 0 | BQ26: =BP26*$CE$404 -> 0 | BR26: =IF(BP26>0,SQRT(($Y26*$Y26)+(BO26*BO26)),0) -> 0 | BS26: =(BQ26*BR26)^2 -> 0 | BT26: 0 | BU26: 0 | BV26: 0 | BW26: 0 | BX26: 0 | BY26: 0 | BZ26: =(BX26*BY26)^2 -> 0 | CA26: =IF(C26="EmisionesGEI",D26,AE26+AM26+AU26+BB26+BQ26) -> 0 | CB26: =IF(CA26>0,SQRT(AG26+AO26+AW26+BD26+BS26)/CA26,0) -> 0 | CC26: =(CA26*CB26)^2 -> 0
B27: SUBTOTAL OTROS | AE27: =SUM(AE25:AE26) -> 0 | AF27: =IF(AE27>0,SQRT(SUM(AG25:AG26))/AE27,0) -> 0 | AG27: =(AE27*AF27)^2 -> 0 | AM27: =SUM(AM25:AM26) -> 0 | AN27: =IF(AM27>0,SQRT(SUM(AO25:AO26))/AM27,0) -> 0 | AO27: =(AM27*AN27)^2 -> 0 | AU27: =SUM(AU25:AU26) -> 0 | AV27: =IF(AU27>0,SQRT(SUM(AW25:AW26))/AU27,0) -> 0 | AW27: =(AU27*AV27)^2 -> 0 | BB27: =SUM(BB25:BB26) -> 0 | BC27: =IF(BB27>0,SQRT(SUM(BD25:BD26))/BB27,0) -> 0 | BD27: =(BB27*BC27)^2 -> 0 | BI27: =SUM(BI25:BI26) -> 0 | BJ27: =IF(BI27>0,SQRT(SUM(BK25:BK26))/BI27,0) -> 0 | BK27: =(BI27*BJ27)^2 -> 0 | BQ27: =SUM(BQ25:BQ26) -> 0 | BR27: =IF(BQ27>0,SQRT(SUM(BS25:BS26))/BQ27,0) -> 0 | BS27: =(BQ27*BR27)^2 -> 0 | BX27: =SUM(BX25:BX26) -> 0 | BY27: =IF(BX27>0,SQRT(SUM(BZ25:BZ26))/BX27,0) -> 0 | BZ27: =(BX27*BY27)^2 -> 0 | CA27: =SUM(CA25:CA26) -> 0 | CB27: =IF(CA27>0,SQRT(SUM(CC25:CC26))/CA27,0) -> 0 | CC27: =(CA27*CB27)^2 -> 0
B28: SUBTOTAL FUENTES MÓVILES | AE28: =+AE24+AE27 -> 0 | AF28: =IF(AE28>0,(SQRT(AG24+AG27))/AE28,0) -> 0 | AG28: =(AE28*AF28)^2 -> 0 | AM28: =+AM24+AM27 -> 0 | AN28: =IF(AM28>0,(SQRT(AO24+AO27))/AM28,0) -> 0 | AO28: =(AM28*AN28)^2 -> 0 | AU28: =+AU24+AU27 -> 0 | AV28: =IF(AU28>0,(SQRT(AW24+AW27))/AU28,0) -> 0 | AW28: =(AU28*AV28)^2 -> 0 | BB28: =+BB24+BB27 -> 0 | BC28: =IF(BB28>0,(SQRT(BD24+BD27))/BB28,0) -> 0 | BD28: =(BB28*BC28)^2 -> 0 | BI28: =+BI24+BI27 -> 0 | BJ28: =IF(BI28>0,(SQRT(BK24+BK27))/BI28,0) -> 0 | BK28: =(BI28*BJ28)^2 -> 0 | BQ28: =+BQ24+BQ27 -> 0 | BR28: =IF(BQ28>0,(SQRT(BS24+BS27))/BQ28,0) -> 0 | BS28: =(BQ28*BR28)^2 -> 0 | BX28: =+BX24+BX27 -> 0 | BY28: =IF(BX28>0,(SQRT(BZ24+BZ27))/BX28,0) -> 0 | BZ28: =(BX28*BY28)^2 -> 0 | CA28: =+CA24+CA27 -> 0 | CB28: =IF(CA28>0,(SQRT(CC24+CC27))/CA28,0) -> 0 | CC28: =(CA28*CB28)^2 -> 0
B30: FUENTES FIJAS
B31: FUENTE DE EMISIÓN DE GEI (Seleccione de la lista) | C31: REPORTE | D31: N/A | E31: DATOS DE ACTIVIDAD (Seleccione de la lista el dato de actividad que va a reportar) | F31: VALOR DE DATO DE ACTIVIDAD | U31: INCERTIDUMBRE DATOS | Z31: EMISIONES CO2 | AH31: EMISIONES CH4 | AP31: EMISIONES N2O | AX31: EMISIONES HFC | BE31: EMISIONES PFC | BL31: EMISIONES SF6 | BT31: EMISIONES CO2 BIOGÉNICO | CA31: HUELLA DE CARBONO (t CO2 eq) | CB31: INCERTIDUMBRE DE LA FUENTE
F32: UNIDAD | G32: DATO 1 | H32: DATO 2 | I32: DATO 3 | J32: DATO 4 | K32: DATO 5 | L32: DATO 6 | M32: DATO 7 | N32: DATO 8 | O32: DATO 9 | P32: DATO 10 | Q32: DATO 11 | R32: DATO 12 | S32: TOTAL | T32: No. DATOS | U32: PROMEDIO | V32: DESVIACION ESTÁNDAR | W32: FACTOR T | X32: INCERTIDUMBRE SISTEMATICA DATOS | Y32: INCERTIDUMBRE DATOS | Z32: FACTOR DE EMISIÓN CO2eq | AB32: FUENTE BIBLIOGRÁFICA | AC32: INCERTIDUMBRE FACTOR EMISIÓN CO2eq | AD32: EMISIONES CO2eq (tCO2eq) | AE32: EMISIONES CO2eq (tCO2eq) | AF32: INCERTIDUMBRE EMISIONES CO2eq | AG32: Columna Auxiliar | AH32: FACTOR DE EMISIÓN CH4 | AJ32: FUENTE BIBLIOGRÁFICA | AK32: INCERTIDUMBRE FACTOR EMISIÓN CH4 | AL32: EMISIONES CH4 (tCH4) | AM32: EMISIONES CH4 (tCO2eq) | AN32: INCERTIDUMBRE EMISIONES CH4 | AO32: Columna Auxiliar | AP32: FACTOR DE EMISIÓN N2O | AR32: FUENTE BIBLIOGRÁFICA | AS32: INCERTIDUMBRE FACTOR EMISIÓN N2O | AT32: EMISIONES N2O (tN2O) | AU32: EMISIONES N2O (tCO2eq) | AV32: INCERTIDUMBRE EMISIONES N2O | AW32: Columna Auxiliar | AX32: FACTOR DE EMISIÓN HFC | AZ32: FUENTE BIBLIOGRÁFICA | BA32: INCERTIDUMBRE FACTOR EMISIÓN HFC | BB32: EMISIONES HFC (tCO2eq) | BC32: INCERTIDUMBRE EMISIONES HFC | BD32: Columna Auxiliar | BE32: FACTOR DE EMISIÓN PFC | BG32: FUENTE BIBLIOGRÁFICA | BH32: INCERTIDUMBRE FACTOR EMISIÓN PFC | BI32: EMISIONES PFC (tCO2eq) | BJ32: INCERTIDUMBRE EMISIONES PFC | BK32: Columna Auxiliar | BL32: FACTOR DE EMISIÓN SF6 | BN32: FUENTE BIBLIOGRÁFICA | BO32: INCERTIDUMBRE FACTOR EMISIÓN SF6 | BP32: EMISIONES SF6 (tSF6) | BQ32: EMISIONES SF6 (tCO2eq) | BR32: INCERTIDUMBRE EMISIONES SF6 | BS32: Columna Auxiliar | BT32: FACTOR DE EMISIÓN CO2 (biogénico) | BV32: FUENTE BIBLIOGRÁFICA | BW32: INCERTIDUMBRE FACTOR EMISIÓN CO2 (Biogénico) | BX32: EMISIONES CO2Biogénico (tCO2 Biogénico) | BY32: INCERTIDUMBRE EMISIONES CO2 Biogénico | BZ32: Columna Auxiliar | CC32: Variable Auxiliar = (Huella de carbono x Incertidumbre de la fuente)^2
B33: Consumo de combustibles sólidos | C33: DatosActividad | F33: =VLOOKUP($E33,$CD$114:$DH$479,2,FALSE) -> 0 | S33: =SUM(G33:R33) -> 0 | T33: =COUNT(G33:R33) -> 0 | U33: =IF(T33>1,AVERAGE(G33:R33),0) -> 0 | V33: =IF(T33>1,STDEV(G33:R33),0) -> 0 | W33: =IF(T33>1,VLOOKUP($T33,$CD$383:$CE$395,2,FALSE),0) -> 0 | Y33: =IF(X33>0,X33,IF(T33>1,1-((U33-((V33*W33)/(SQRT(T33))))/U33),VLOOKUP($E33,$CD$114:$DK$479,34,FALSE))) -> 0.05 | Z33: =VLOOKUP($E33,$CD$114:$DH$479,3,FALSE) -> 0 | AA33: =VLOOKUP($E33,$CD$114:$DH$479,4,FALSE) -> 0 | AB33: =IF($S33>0,VLOOKUP($E33,$CD$114:$DH$479,7,FALSE),0) -> 0 | AC33: =IF($S33>0,VLOOKUP($E33,$CD$114:$DH$479,6,FALSE),0) -> 0 | AD33: =($S33*Z33)/1000 -> 0 | AE33: =AD33*$CE$401 -> 0 | AF33: =IF(AD33>0,SQRT(($Y33*$Y33)+(AC33*AC33)),0) -> 0 | AG33: =(AE33*AF33)^2 -> 0 | AH33: =VLOOKUP($E33,$CD$114:$DH$479,9,FALSE) -> 0 | AI33: =VLOOKUP($E33,$CD$114:$DH$479,10,FALSE) -> 0 | AJ33: =IF($S33>0,VLOOKUP($E33,$CD$114:$DH$479,13,FALSE),0) -> 0 | AK33: =IF($S33>0,VLOOKUP($E33,$CD$114:$DH$479,12,FALSE),0) -> 0 | AL33: =($S33*AH33)/1000 -> 0 | AM33: =AL33*$CE$402 -> 0 | AN33: =IF(AL33>0,SQRT(($Y33*$Y33)+(AK33*AK33)),0) -> 0 | AO33: =(AM33*AN33)^2 -> 0 | AP33: =VLOOKUP($E33,$CD$114:$DH$479,15,FALSE) -> 0 | AQ33: =VLOOKUP($E33,$CD$114:$DH$479,16,FALSE) -> 0 | AR33: =IF($S33>0,VLOOKUP($E33,$CD$114:$DH$479,19,FALSE),0) -> 0 | AS33: =IF($S33>0,VLOOKUP($E33,$CD$114:$DH$479,18,FALSE),0) -> 0 | AT33: =($S33*AP33)/1000 -> 0 | AU33: =AT33*$CE$403 -> 0 | AV33: =IF(AT33>0,SQRT(($Y33*$Y33)+(AS33*AS33)),0) -> 0 | AW33: =(AU33*AV33)^2 -> 0 | AX33: 0 | AY33: 0 | AZ33: 0 | BA33: 0 | BB33: =($S33*AX33)/1000 -> 0 | BC33: =IF(BB33>0,SQRT(($Y33*$Y33)+(BA33*BA33)),0) -> 0 | BD33: =(BB33*BC33)^2 -> 0 | BE33: 0 | BF33: 0 | BG33: 0 | BH33: 0 | BI33: =($S33*BE33)/1000 -> 0 | BJ33: =IF(BI33>0,SQRT(($Y33*$Y33)+(BH33*BH33)),0) -> 0 | BK33: =(BI33*BJ33)^2 -> 0 | BL33: 0 | BM33: 0 | BN33: 0 | BO33: 0 | BP33: =($S33*BL33)/1000 -> 0 | BQ33: =BP33*$CE$404 -> 0 | BR33: =IF(BP33>0,SQRT(($Y33*$Y33)+(BO33*BO33)),0) -> 0 | BS33: =(BQ33*BR33)^2 -> 0 | BT33: =VLOOKUP($E33,$CD$114:$DI$479,32,FALSE) -> 0 | BU33: =VLOOKUP($E33,$CD$114:$DH$479,4,FALSE) -> 0 | BV33: =IF($S33>0,VLOOKUP($E33,$CD$114:$DH$479,7,FALSE),0) -> 0 | BW33: =IF($S33>0,VLOOKUP($E33,$CD$114:$DH$479,6,FALSE),0) -> 0 | BX33: =($S33*BT33)/1000 -> 0 | BY33: =IF(BX33>0,SQRT(($Y33*$Y33)+(BW33*BW33)),0) -> 0 | BZ33: =(BX33*BY33)^2 -> 0 | CA33: =IF(C33="EmisionesGEI",D33,AE33+AM33+AU33+BB33+BQ33) -> 0 | CB33: =IF(CA33>0,SQRT(AG33+AO33+AW33+BD33+BS33)/CA33,0) -> 0 | CC33: =(CA33*CB33)^2 -> 0
B34: (Fuentes Fijas) | C34: DatosActividad | F34: =VLOOKUP($E34,$CD$114:$DH$479,2,FALSE) -> 0 | S34: =SUM(G34:R34) -> 0 | T34: =COUNT(G34:R34) -> 0 | U34: =IF(T34>1,AVERAGE(G34:R34),0) -> 0 | V34: =IF(T34>1,STDEV(G34:R34),0) -> 0 | W34: =IF(T34>1,VLOOKUP($T34,$CD$383:$CE$395,2,FALSE),0) -> 0 | Y34: =IF(X34>0,X34,IF(T34>1,1-((U34-((V34*W34)/(SQRT(T34))))/U34),VLOOKUP($E34,$CD$114:$DK$479,34,FALSE))) -> 0.05 | Z34: =VLOOKUP($E34,$CD$114:$DH$479,3,FALSE) -> 0 | AA34: =VLOOKUP($E34,$CD$114:$DH$479,4,FALSE) -> 0 | AB34: =IF($S34>0,VLOOKUP($E34,$CD$114:$DH$479,7,FALSE),0) -> 0 | AC34: =IF($S34>0,VLOOKUP($E34,$CD$114:$DH$479,6,FALSE),0) -> 0 | AD34: =($S34*Z34)/1000 -> 0 | AE34: =AD34*$CE$401 -> 0 | AF34: =IF(AD34>0,SQRT(($Y34*$Y34)+(AC34*AC34)),0) -> 0 | AG34: =(AE34*AF34)^2 -> 0 | AH34: =VLOOKUP($E34,$CD$114:$DH$479,9,FALSE) -> 0 | AI34: =VLOOKUP($E34,$CD$114:$DH$479,10,FALSE) -> 0 | AJ34: =IF($S34>0,VLOOKUP($E34,$CD$114:$DH$479,13,FALSE),0) -> 0 | AK34: =IF($S34>0,VLOOKUP($E34,$CD$114:$DH$479,12,FALSE),0) -> 0 | AL34: =($S34*AH34)/1000 -> 0 | AM34: =AL34*$CE$402 -> 0 | AN34: =IF(AL34>0,SQRT(($Y34*$Y34)+(AK34*AK34)),0) -> 0 | AO34: =(AM34*AN34)^2 -> 0 | AP34: =VLOOKUP($E34,$CD$114:$DH$479,15,FALSE) -> 0 | AQ34: =VLOOKUP($E34,$CD$114:$DH$479,16,FALSE) -> 0 | AR34: =IF($S34>0,VLOOKUP($E34,$CD$114:$DH$479,19,FALSE),0) -> 0 | AS34: =IF($S34>0,VLOOKUP($E34,$CD$114:$DH$479,18,FALSE),0) -> 0 | AT34: =($S34*AP34)/1000 -> 0 | AU34: =AT34*$CE$403 -> 0 | AV34: =IF(AT34>0,SQRT(($Y34*$Y34)+(AS34*AS34)),0) -> 0 | AW34: =(AU34*AV34)^2 -> 0 | AX34: 0 | AY34: 0 | AZ34: 0 | BA34: 0 | BB34: =($S34*AX34)/1000 -> 0 | BC34: =IF(BB34>0,SQRT(($Y34*$Y34)+(BA34*BA34)),0) -> 0 | BD34: =(BB34*BC34)^2 -> 0 | BE34: 0 | BF34: 0 | BG34: 0 | BH34: 0 | BI34: =($S34*BE34)/1000 -> 0 | BJ34: =IF(BI34>0,SQRT(($Y34*$Y34)+(BH34*BH34)),0) -> 0 | BK34: =(BI34*BJ34)^2 -> 0 | BL34: 0 | BM34: 0 | BN34: 0 | BO34: 0 | BP34: =($S34*BL34)/1000 -> 0 | BQ34: =BP34*$CE$404 -> 0 | BR34: =IF(BP34>0,SQRT(($Y34*$Y34)+(BO34*BO34)),0) -> 0 | BS34: =(BQ34*BR34)^2 -> 0 | BT34: =VLOOKUP($E34,$CD$114:$DI$479,32,FALSE) -> 0 | BU34: =VLOOKUP($E34,$CD$114:$DH$479,4,FALSE) -> 0 | BV34: =IF($S34>0,VLOOKUP($E34,$CD$114:$DH$479,7,FALSE),0) -> 0 | BW34: =IF($S34>0,VLOOKUP($E34,$CD$114:$DH$479,6,FALSE),0) -> 0 | BX34: =($S34*BT34)/1000 -> 0 | BY34: =IF(BX34>0,SQRT(($Y34*$Y34)+(BW34*BW34)),0) -> 0 | BZ34: =(BX34*BY34)^2 -> 0 | CA34: =IF(C34="EmisionesGEI",D34,AE34+AM34+AU34+BB34+BQ34) -> 0 | CB34: =IF(CA34>0,SQRT(AG34+AO34+AW34+BD34+BS34)/CA34,0) -> 0 | CC34: =(CA34*CB34)^2 -> 0
C35: DatosActividad | F35: =VLOOKUP($E35,$CD$114:$DH$479,2,FALSE) -> 0 | S35: =SUM(G35:R35) -> 0 | T35: =COUNT(G35:R35) -> 0 | U35: =IF(T35>1,AVERAGE(G35:R35),0) -> 0 | V35: =IF(T35>1,STDEV(G35:R35),0) -> 0 | W35: =IF(T35>1,VLOOKUP($T35,$CD$383:$CE$395,2,FALSE),0) -> 0 | Y35: =IF(X35>0,X35,IF(T35>1,1-((U35-((V35*W35)/(SQRT(T35))))/U35),VLOOKUP($E35,$CD$114:$DK$479,34,FALSE))) -> 0.05 | Z35: =VLOOKUP($E35,$CD$114:$DH$479,3,FALSE) -> 0 | AA35: =VLOOKUP($E35,$CD$114:$DH$479,4,FALSE) -> 0 | AB35: =IF($S35>0,VLOOKUP($E35,$CD$114:$DH$479,7,FALSE),0) -> 0 | AC35: =IF($S35>0,VLOOKUP($E35,$CD$114:$DH$479,6,FALSE),0) -> 0 | AD35: =($S35*Z35)/1000 -> 0 | AE35: =AD35*$CE$401 -> 0 | AF35: =IF(AD35>0,SQRT(($Y35*$Y35)+(AC35*AC35)),0) -> 0 | AG35: =(AE35*AF35)^2 -> 0 | AH35: =VLOOKUP($E35,$CD$114:$DH$479,9,FALSE) -> 0 | AI35: =VLOOKUP($E35,$CD$114:$DH$479,10,FALSE) -> 0 | AJ35: =IF($S35>0,VLOOKUP($E35,$CD$114:$DH$479,13,FALSE),0) -> 0 | AK35: =IF($S35>0,VLOOKUP($E35,$CD$114:$DH$479,12,FALSE),0) -> 0 | AL35: =($S35*AH35)/1000 -> 0 | AM35: =AL35*$CE$402 -> 0 | AN35: =IF(AL35>0,SQRT(($Y35*$Y35)+(AK35*AK35)),0) -> 0 | AO35: =(AM35*AN35)^2 -> 0 | AP35: =VLOOKUP($E35,$CD$114:$DH$479,15,FALSE) -> 0 | AQ35: =VLOOKUP($E35,$CD$114:$DH$479,16,FALSE) -> 0 | AR35: =IF($S35>0,VLOOKUP($E35,$CD$114:$DH$479,19,FALSE),0) -> 0 | AS35: =IF($S35>0,VLOOKUP($E35,$CD$114:$DH$479,18,FALSE),0) -> 0 | AT35: =($S35*AP35)/1000 -> 0 | AU35: =AT35*$CE$403 -> 0 | AV35: =IF(AT35>0,SQRT(($Y35*$Y35)+(AS35*AS35)),0) -> 0 | AW35: =(AU35*AV35)^2 -> 0 | AX35: 0 | AY35: 0 | AZ35: 0 | BA35: 0 | BB35: =($S35*AX35)/1000 -> 0 | BC35: =IF(BB35>0,SQRT(($Y35*$Y35)+(BA35*BA35)),0) -> 0 | BD35: =(BB35*BC35)^2 -> 0 | BE35: 0 | BF35: 0 | BG35: 0 | BH35: 0 | BI35: =($S35*BE35)/1000 -> 0 | BJ35: =IF(BI35>0,SQRT(($Y35*$Y35)+(BH35*BH35)),0) -> 0 | BK35: =(BI35*BJ35)^2 -> 0 | BL35: 0 | BM35: 0 | BN35: 0 | BO35: 0 | BP35: =($S35*BL35)/1000 -> 0 | BQ35: =BP35*$CE$404 -> 0 | BR35: =IF(BP35>0,SQRT(($Y35*$Y35)+(BO35*BO35)),0) -> 0 | BS35: =(BQ35*BR35)^2 -> 0 | BT35: =VLOOKUP($E35,$CD$114:$DI$479,32,FALSE) -> 0 | BU35: =VLOOKUP($E35,$CD$114:$DH$479,4,FALSE) -> 0 | BV35: =IF($S35>0,VLOOKUP($E35,$CD$114:$DH$479,7,FALSE),0) -> 0 | BW35: =IF($S35>0,VLOOKUP($E35,$CD$114:$DH$479,6,FALSE),0) -> 0 | BX35: =($S35*BT35)/1000 -> 0 | BY35: =IF(BX35>0,SQRT(($Y35*$Y35)+(BW35*BW35)),0) -> 0 | BZ35: =(BX35*BY35)^2 -> 0 | CA35: =IF(C35="EmisionesGEI",D35,AE35+AM35+AU35+BB35+BQ35) -> 0 | CB35: =IF(CA35>0,SQRT(AG35+AO35+AW35+BD35+BS35)/CA35,0) -> 0 | CC35: =(CA35*CB35)^2 -> 0
C36: DatosActividad | F36: =VLOOKUP($E36,$CD$114:$DH$479,2,FALSE) -> 0 | S36: =SUM(G36:R36) -> 0 | T36: =COUNT(G36:R36) -> 0 | U36: =IF(T36>1,AVERAGE(G36:R36),0) -> 0 | V36: =IF(T36>1,STDEV(G36:R36),0) -> 0 | W36: =IF(T36>1,VLOOKUP($T36,$CD$383:$CE$395,2,FALSE),0) -> 0 | Y36: =IF(X36>0,X36,IF(T36>1,1-((U36-((V36*W36)/(SQRT(T36))))/U36),VLOOKUP($E36,$CD$114:$DK$479,34,FALSE))) -> 0.05 | Z36: =VLOOKUP($E36,$CD$114:$DH$479,3,FALSE) -> 0 | AA36: =VLOOKUP($E36,$CD$114:$DH$479,4,FALSE) -> 0 | AB36: =IF($S36>0,VLOOKUP($E36,$CD$114:$DH$479,7,FALSE),0) -> 0 | AC36: =IF($S36>0,VLOOKUP($E36,$CD$114:$DH$479,6,FALSE),0) -> 0 | AD36: =($S36*Z36)/1000 -> 0 | AE36: =AD36*$CE$401 -> 0 | AF36: =IF(AD36>0,SQRT(($Y36*$Y36)+(AC36*AC36)),0) -> 0 | AG36: =(AE36*AF36)^2 -> 0 | AH36: =VLOOKUP($E36,$CD$114:$DH$479,9,FALSE) -> 0 | AI36: =VLOOKUP($E36,$CD$114:$DH$479,10,FALSE) -> 0 | AJ36: =IF($S36>0,VLOOKUP($E36,$CD$114:$DH$479,13,FALSE),0) -> 0 | AK36: =IF($S36>0,VLOOKUP($E36,$CD$114:$DH$479,12,FALSE),0) -> 0 | AL36: =($S36*AH36)/1000 -> 0 | AM36: =AL36*$CE$402 -> 0 | AN36: =IF(AL36>0,SQRT(($Y36*$Y36)+(AK36*AK36)),0) -> 0 | AO36: =(AM36*AN36)^2 -> 0 | AP36: =VLOOKUP($E36,$CD$114:$DH$479,15,FALSE) -> 0 | AQ36: =VLOOKUP($E36,$CD$114:$DH$479,16,FALSE) -> 0 | AR36: =IF($S36>0,VLOOKUP($E36,$CD$114:$DH$479,19,FALSE),0) -> 0 | AS36: =IF($S36>0,VLOOKUP($E36,$CD$114:$DH$479,18,FALSE),0) -> 0 | AT36: =($S36*AP36)/1000 -> 0 | AU36: =AT36*$CE$403 -> 0 | AV36: =IF(AT36>0,SQRT(($Y36*$Y36)+(AS36*AS36)),0) -> 0 | AW36: =(AU36*AV36)^2 -> 0 | AX36: 0 | AY36: 0 | AZ36: 0 | BA36: 0 | BB36: =($S36*AX36)/1000 -> 0 | BC36: =IF(BB36>0,SQRT(($Y36*$Y36)+(BA36*BA36)),0) -> 0 | BD36: =(BB36*BC36)^2 -> 0 | BE36: 0 | BF36: 0 | BG36: 0 | BH36: 0 | BI36: =($S36*BE36)/1000 -> 0 | BJ36: =IF(BI36>0,SQRT(($Y36*$Y36)+(BH36*BH36)),0) -> 0 | BK36: =(BI36*BJ36)^2 -> 0 | BL36: 0 | BM36: 0 | BN36: 0 | BO36: 0 | BP36: =($S36*BL36)/1000 -> 0 | BQ36: =BP36*$CE$404 -> 0 | BR36: =IF(BP36>0,SQRT(($Y36*$Y36)+(BO36*BO36)),0) -> 0 | BS36: =(BQ36*BR36)^2 -> 0 | BT36: =VLOOKUP($E36,$CD$114:$DI$479,32,FALSE) -> 0 | BU36: =VLOOKUP($E36,$CD$114:$DH$479,4,FALSE) -> 0 | BV36: =IF($S36>0,VLOOKUP($E36,$CD$114:$DH$479,7,FALSE),0) -> 0 | BW36: =IF($S36>0,VLOOKUP($E36,$CD$114:$DH$479,6,FALSE),0) -> 0 | BX36: =($S36*BT36)/1000 -> 0 | BY36: =IF(BX36>0,SQRT(($Y36*$Y36)+(BW36*BW36)),0) -> 0 | BZ36: =(BX36*BY36)^2 -> 0 | CA36: =IF(C36="EmisionesGEI",D36,AE36+AM36+AU36+BB36+BQ36) -> 0 | CB36: =IF(CA36>0,SQRT(AG36+AO36+AW36+BD36+BS36)/CA36,0) -> 0 | CC36: =(CA36*CB36)^2 -> 0
B37: Consumo de combustibles líquidos | C37: DatosActividad | F37: =VLOOKUP($E37,$CD$114:$DH$479,2,FALSE) -> 0 | S37: =SUM(G37:R37) -> 0 | T37: =COUNT(G37:R37) -> 0 | U37: =IF(T37>1,AVERAGE(G37:R37),0) -> 0 | V37: =IF(T37>1,STDEV(G37:R37),0) -> 0 | W37: =IF(T37>1,VLOOKUP($T37,$CD$383:$CE$395,2,FALSE),0) -> 0 | Y37: =IF(X37>0,X37,IF(T37>1,1-((U37-((V37*W37)/(SQRT(T37))))/U37),VLOOKUP($E37,$CD$114:$DK$479,34,FALSE))) -> 0.05 | Z37: =VLOOKUP($E37,$CD$114:$DH$479,3,FALSE) -> 0 | AA37: =VLOOKUP($E37,$CD$114:$DH$479,4,FALSE) -> 0 | AB37: =IF($S37>0,VLOOKUP($E37,$CD$114:$DH$479,7,FALSE),0) -> 0 | AC37: =IF($S37>0,VLOOKUP($E37,$CD$114:$DH$479,6,FALSE),0) -> 0 | AD37: =($S37*Z37)/1000 -> 0 | AE37: =AD37*$CE$401 -> 0 | AF37: =IF(AD37>0,SQRT(($Y37*$Y37)+(AC37*AC37)),0) -> 0 | AG37: =(AE37*AF37)^2 -> 0 | AH37: =VLOOKUP($E37,$CD$114:$DH$479,9,FALSE) -> 0 | AI37: =VLOOKUP($E37,$CD$114:$DH$479,10,FALSE) -> 0 | AJ37: =IF($S37>0,VLOOKUP($E37,$CD$114:$DH$479,13,FALSE),0) -> 0 | AK37: =IF($S37>0,VLOOKUP($E37,$CD$114:$DH$479,12,FALSE),0) -> 0 | AL37: =($S37*AH37)/1000 -> 0 | AM37: =AL37*$CE$402 -> 0 | AN37: =IF(AL37>0,SQRT(($Y37*$Y37)+(AK37*AK37)),0) -> 0 | AO37: =(AM37*AN37)^2 -> 0 | AP37: =VLOOKUP($E37,$CD$114:$DH$479,15,FALSE) -> 0 | AQ37: =VLOOKUP($E37,$CD$114:$DH$479,16,FALSE) -> 0 | AR37: =IF($S37>0,VLOOKUP($E37,$CD$114:$DH$479,19,FALSE),0) -> 0 | AS37: =IF($S37>0,VLOOKUP($E37,$CD$114:$DH$479,18,FALSE),0) -> 0 | AT37: =($S37*AP37)/1000 -> 0 | AU37: =AT37*$CE$403 -> 0 | AV37: =IF(AT37>0,SQRT(($Y37*$Y37)+(AS37*AS37)),0) -> 0 | AW37: =(AU37*AV37)^2 -> 0 | AX37: 0 | AY37: 0 | AZ37: 0 | BA37: 0 | BB37: =($S37*AX37)/1000 -> 0 | BC37: =IF(BB37>0,SQRT(($Y37*$Y37)+(BA37*BA37)),0) -> 0 | BD37: =(BB37*BC37)^2 -> 0 | BE37: 0 | BF37: 0 | BG37: 0 | BH37: 0 | BI37: =($S37*BE37)/1000 -> 0 | BJ37: =IF(BI37>0,SQRT(($Y37*$Y37)+(BH37*BH37)),0) -> 0 | BK37: =(BI37*BJ37)^2 -> 0 | BL37: 0 | BM37: 0 | BN37: 0 | BO37: 0 | BP37: =($S37*BL37)/1000 -> 0 | BQ37: =BP37*$CE$404 -> 0 | BR37: =IF(BP37>0,SQRT(($Y37*$Y37)+(BO37*BO37)),0) -> 0 | BS37: =(BQ37*BR37)^2 -> 0 | BT37: =VLOOKUP($E37,$CD$114:$DI$479,32,FALSE) -> 0 | BU37: =VLOOKUP($E37,$CD$114:$DH$479,4,FALSE) -> 0 | BV37: =IF($S37>0,VLOOKUP($E37,$CD$114:$DH$479,7,FALSE),0) -> 0 | BW37: =IF($S37>0,VLOOKUP($E37,$CD$114:$DH$479,6,FALSE),0) -> 0 | BX37: =($S37*BT37)/1000 -> 0 | BY37: =IF(BX37>0,SQRT(($Y37*$Y37)+(BW37*BW37)),0) -> 0 | BZ37: =(BX37*BY37)^2 -> 0 | CA37: =IF(C37="EmisionesGEI",D37,AE37+AM37+AU37+BB37+BQ37) -> 0 | CB37: =IF(CA37>0,SQRT(AG37+AO37+AW37+BD37+BS37)/CA37,0) -> 0 | CC37: =(CA37*CB37)^2 -> 0
B38: (Fuentes Fijas) | C38: DatosActividad | F38: =VLOOKUP($E38,$CD$114:$DH$479,2,FALSE) -> 0 | S38: =SUM(G38:R38) -> 0 | T38: =COUNT(G38:R38) -> 0 | U38: =IF(T38>1,AVERAGE(G38:R38),0) -> 0 | V38: =IF(T38>1,STDEV(G38:R38),0) -> 0 | W38: =IF(T38>1,VLOOKUP($T38,$CD$383:$CE$395,2,FALSE),0) -> 0 | Y38: =IF(X38>0,X38,IF(T38>1,1-((U38-((V38*W38)/(SQRT(T38))))/U38),VLOOKUP($E38,$CD$114:$DK$479,34,FALSE))) -> 0.05 | Z38: =VLOOKUP($E38,$CD$114:$DH$479,3,FALSE) -> 0 | AA38: =VLOOKUP($E38,$CD$114:$DH$479,4,FALSE) -> 0 | AB38: =IF($S38>0,VLOOKUP($E38,$CD$114:$DH$479,7,FALSE),0) -> 0 | AC38: =IF($S38>0,VLOOKUP($E38,$CD$114:$DH$479,6,FALSE),0) -> 0 | AD38: =($S38*Z38)/1000 -> 0 | AE38: =AD38*$CE$401 -> 0 | AF38: =IF(AD38>0,SQRT(($Y38*$Y38)+(AC38*AC38)),0) -> 0 | AG38: =(AE38*AF38)^2 -> 0 | AH38: =VLOOKUP($E38,$CD$114:$DH$479,9,FALSE) -> 0 | AI38: =VLOOKUP($E38,$CD$114:$DH$479,10,FALSE) -> 0 | AJ38: =IF($S38>0,VLOOKUP($E38,$CD$114:$DH$479,13,FALSE),0) -> 0 | AK38: =IF($S38>0,VLOOKUP($E38,$CD$114:$DH$479,12,FALSE),0) -> 0 | AL38: =($S38*AH38)/1000 -> 0 | AM38: =AL38*$CE$402 -> 0 | AN38: =IF(AL38>0,SQRT(($Y38*$Y38)+(AK38*AK38)),0) -> 0 | AO38: =(AM38*AN38)^2 -> 0 | AP38: =VLOOKUP($E38,$CD$114:$DH$479,15,FALSE) -> 0 | AQ38: =VLOOKUP($E38,$CD$114:$DH$479,16,FALSE) -> 0 | AR38: =IF($S38>0,VLOOKUP($E38,$CD$114:$DH$479,19,FALSE),0) -> 0 | AS38: =IF($S38>0,VLOOKUP($E38,$CD$114:$DH$479,18,FALSE),0) -> 0 | AT38: =($S38*AP38)/1000 -> 0 | AU38: =AT38*$CE$403 -> 0 | AV38: =IF(AT38>0,SQRT(($Y38*$Y38)+(AS38*AS38)),0) -> 0 | AW38: =(AU38*AV38)^2 -> 0 | AX38: 0 | AY38: 0 | AZ38: 0 | BA38: 0 | BB38: =($S38*AX38)/1000 -> 0 | BC38: =IF(BB38>0,SQRT(($Y38*$Y38)+(BA38*BA38)),0) -> 0 | BD38: =(BB38*BC38)^2 -> 0 | BE38: 0 | BF38: 0 | BG38: 0 | BH38: 0 | BI38: =($S38*BE38)/1000 -> 0 | BJ38: =IF(BI38>0,SQRT(($Y38*$Y38)+(BH38*BH38)),0) -> 0 | BK38: =(BI38*BJ38)^2 -> 0 | BL38: 0 | BM38: 0 | BN38: 0 | BO38: 0 | BP38: =($S38*BL38)/1000 -> 0 | BQ38: =BP38*$CE$404 -> 0 | BR38: =IF(BP38>0,SQRT(($Y38*$Y38)+(BO38*BO38)),0) -> 0 | BS38: =(BQ38*BR38)^2 -> 0 | BT38: =VLOOKUP($E38,$CD$114:$DI$479,32,FALSE) -> 0 | BU38: =VLOOKUP($E38,$CD$114:$DH$479,4,FALSE) -> 0 | BV38: =IF($S38>0,VLOOKUP($E38,$CD$114:$DH$479,7,FALSE),0) -> 0 | BW38: =IF($S38>0,VLOOKUP($E38,$CD$114:$DH$479,6,FALSE),0) -> 0 | BX38: =($S38*BT38)/1000 -> 0 | BY38: =IF(BX38>0,SQRT(($Y38*$Y38)+(BW38*BW38)),0) -> 0 | BZ38: =(BX38*BY38)^2 -> 0 | CA38: =IF(C38="EmisionesGEI",D38,AE38+AM38+AU38+BB38+BQ38) -> 0 | CB38: =IF(CA38>0,SQRT(AG38+AO38+AW38+BD38+BS38)/CA38,0) -> 0 | CC38: =(CA38*CB38)^2 -> 0
C39: DatosActividad | F39: =VLOOKUP($E39,$CD$114:$DH$479,2,FALSE) -> 0 | S39: =SUM(G39:R39) -> 0 | T39: =COUNT(G39:R39) -> 0 | U39: =IF(T39>1,AVERAGE(G39:R39),0) -> 0 | V39: =IF(T39>1,STDEV(G39:R39),0) -> 0 | W39: =IF(T39>1,VLOOKUP($T39,$CD$383:$CE$395,2,FALSE),0) -> 0 | Y39: =IF(X39>0,X39,IF(T39>1,1-((U39-((V39*W39)/(SQRT(T39))))/U39),VLOOKUP($E39,$CD$114:$DK$479,34,FALSE))) -> 0.05 | Z39: =VLOOKUP($E39,$CD$114:$DH$479,3,FALSE) -> 0 | AA39: =VLOOKUP($E39,$CD$114:$DH$479,4,FALSE) -> 0 | AB39: =IF($S39>0,VLOOKUP($E39,$CD$114:$DH$479,7,FALSE),0) -> 0 | AC39: =IF($S39>0,VLOOKUP($E39,$CD$114:$DH$479,6,FALSE),0) -> 0 | AD39: =($S39*Z39)/1000 -> 0 | AE39: =AD39*$CE$401 -> 0 | AF39: =IF(AD39>0,SQRT(($Y39*$Y39)+(AC39*AC39)),0) -> 0 | AG39: =(AE39*AF39)^2 -> 0 | AH39: =VLOOKUP($E39,$CD$114:$DH$479,9,FALSE) -> 0 | AI39: =VLOOKUP($E39,$CD$114:$DH$479,10,FALSE) -> 0 | AJ39: =IF($S39>0,VLOOKUP($E39,$CD$114:$DH$479,13,FALSE),0) -> 0 | AK39: =IF($S39>0,VLOOKUP($E39,$CD$114:$DH$479,12,FALSE),0) -> 0 | AL39: =($S39*AH39)/1000 -> 0 | AM39: =AL39*$CE$402 -> 0 | AN39: =IF(AL39>0,SQRT(($Y39*$Y39)+(AK39*AK39)),0) -> 0 | AO39: =(AM39*AN39)^2 -> 0 | AP39: =VLOOKUP($E39,$CD$114:$DH$479,15,FALSE) -> 0 | AQ39: =VLOOKUP($E39,$CD$114:$DH$479,16,FALSE) -> 0 | AR39: =IF($S39>0,VLOOKUP($E39,$CD$114:$DH$479,19,FALSE),0) -> 0 | AS39: =IF($S39>0,VLOOKUP($E39,$CD$114:$DH$479,18,FALSE),0) -> 0 | AT39: =($S39*AP39)/1000 -> 0 | AU39: =AT39*$CE$403 -> 0 | AV39: =IF(AT39>0,SQRT(($Y39*$Y39)+(AS39*AS39)),0) -> 0 | AW39: =(AU39*AV39)^2 -> 0 | AX39: 0 | AY39: 0 | AZ39: 0 | BA39: 0 | BB39: =($S39*AX39)/1000 -> 0 | BC39: =IF(BB39>0,SQRT(($Y39*$Y39)+(BA39*BA39)),0) -> 0 | BD39: =(BB39*BC39)^2 -> 0 | BE39: 0 | BF39: 0 | BG39: 0 | BH39: 0 | BI39: =($S39*BE39)/1000 -> 0 | BJ39: =IF(BI39>0,SQRT(($Y39*$Y39)+(BH39*BH39)),0) -> 0 | BK39: =(BI39*BJ39)^2 -> 0 | BL39: 0 | BM39: 0 | BN39: 0 | BO39: 0 | BP39: =($S39*BL39)/1000 -> 0 | BQ39: =BP39*$CE$404 -> 0 | BR39: =IF(BP39>0,SQRT(($Y39*$Y39)+(BO39*BO39)),0) -> 0 | BS39: =(BQ39*BR39)^2 -> 0 | BT39: =VLOOKUP($E39,$CD$114:$DI$479,32,FALSE) -> 0 | BU39: =VLOOKUP($E39,$CD$114:$DH$479,4,FALSE) -> 0 | BV39: =IF($S39>0,VLOOKUP($E39,$CD$114:$DH$479,7,FALSE),0) -> 0 | BW39: =IF($S39>0,VLOOKUP($E39,$CD$114:$DH$479,6,FALSE),0) -> 0 | BX39: =($S39*BT39)/1000 -> 0 | BY39: =IF(BX39>0,SQRT(($Y39*$Y39)+(BW39*BW39)),0) -> 0 | BZ39: =(BX39*BY39)^2 -> 0 | CA39: =IF(C39="EmisionesGEI",D39,AE39+AM39+AU39+BB39+BQ39) -> 0 | CB39: =IF(CA39>0,SQRT(AG39+AO39+AW39+BD39+BS39)/CA39,0) -> 0 | CC39: =(CA39*CB39)^2 -> 0
C40: DatosActividad | F40: =VLOOKUP($E40,$CD$114:$DH$479,2,FALSE) -> 0 | S40: =SUM(G40:R40) -> 0 | T40: =COUNT(G40:R40) -> 0 | U40: =IF(T40>1,AVERAGE(G40:R40),0) -> 0 | V40: =IF(T40>1,STDEV(G40:R40),0) -> 0 | W40: =IF(T40>1,VLOOKUP($T40,$CD$383:$CE$395,2,FALSE),0) -> 0 | Y40: =IF(X40>0,X40,IF(T40>1,1-((U40-((V40*W40)/(SQRT(T40))))/U40),VLOOKUP($E40,$CD$114:$DK$479,34,FALSE))) -> 0.05 | Z40: =VLOOKUP($E40,$CD$114:$DH$479,3,FALSE) -> 0 | AA40: =VLOOKUP($E40,$CD$114:$DH$479,4,FALSE) -> 0 | AB40: =IF($S40>0,VLOOKUP($E40,$CD$114:$DH$479,7,FALSE),0) -> 0 | AC40: =IF($S40>0,VLOOKUP($E40,$CD$114:$DH$479,6,FALSE),0) -> 0 | AD40: =($S40*Z40)/1000 -> 0 | AE40: =AD40*$CE$401 -> 0 | AF40: =IF(AD40>0,SQRT(($Y40*$Y40)+(AC40*AC40)),0) -> 0 | AG40: =(AE40*AF40)^2 -> 0 | AH40: =VLOOKUP($E40,$CD$114:$DH$479,9,FALSE) -> 0 | AI40: =VLOOKUP($E40,$CD$114:$DH$479,10,FALSE) -> 0 | AJ40: =IF($S40>0,VLOOKUP($E40,$CD$114:$DH$479,13,FALSE),0) -> 0 | AK40: =IF($S40>0,VLOOKUP($E40,$CD$114:$DH$479,12,FALSE),0) -> 0 | AL40: =($S40*AH40)/1000 -> 0 | AM40: =AL40*$CE$402 -> 0 | AN40: =IF(AL40>0,SQRT(($Y40*$Y40)+(AK40*AK40)),0) -> 0 | AO40: =(AM40*AN40)^2 -> 0 | AP40: =VLOOKUP($E40,$CD$114:$DH$479,15,FALSE) -> 0 | AQ40: =VLOOKUP($E40,$CD$114:$DH$479,16,FALSE) -> 0 | AR40: =IF($S40>0,VLOOKUP($E40,$CD$114:$DH$479,19,FALSE),0) -> 0 | AS40: =IF($S40>0,VLOOKUP($E40,$CD$114:$DH$479,18,FALSE),0) -> 0 | AT40: =($S40*AP40)/1000 -> 0 | AU40: =AT40*$CE$403 -> 0 | AV40: =IF(AT40>0,SQRT(($Y40*$Y40)+(AS40*AS40)),0) -> 0 | AW40: =(AU40*AV40)^2 -> 0 | AX40: 0 | AY40: 0 | AZ40: 0 | BA40: 0 | BB40: =($S40*AX40)/1000 -> 0 | BC40: =IF(BB40>0,SQRT(($Y40*$Y40)+(BA40*BA40)),0) -> 0 | BD40: =(BB40*BC40)^2 -> 0 | BE40: 0 | BF40: 0 | BG40: 0 | BH40: 0 | BI40: =($S40*BE40)/1000 -> 0 | BJ40: =IF(BI40>0,SQRT(($Y40*$Y40)+(BH40*BH40)),0) -> 0 | BK40: =(BI40*BJ40)^2 -> 0 | BL40: 0 | BM40: 0 | BN40: 0 | BO40: 0 | BP40: =($S40*BL40)/1000 -> 0 | BQ40: =BP40*$CE$404 -> 0 | BR40: =IF(BP40>0,SQRT(($Y40*$Y40)+(BO40*BO40)),0) -> 0 | BS40: =(BQ40*BR40)^2 -> 0 | BT40: =VLOOKUP($E40,$CD$114:$DI$479,32,FALSE) -> 0 | BU40: =VLOOKUP($E40,$CD$114:$DH$479,4,FALSE) -> 0 | BV40: =IF($S40>0,VLOOKUP($E40,$CD$114:$DH$479,7,FALSE),0) -> 0 | BW40: =IF($S40>0,VLOOKUP($E40,$CD$114:$DH$479,6,FALSE),0) -> 0 | BX40: =($S40*BT40)/1000 -> 0 | BY40: =IF(BX40>0,SQRT(($Y40*$Y40)+(BW40*BW40)),0) -> 0 | BZ40: =(BX40*BY40)^2 -> 0 | CA40: =IF(C40="EmisionesGEI",D40,AE40+AM40+AU40+BB40+BQ40) -> 0 | CB40: =IF(CA40>0,SQRT(AG40+AO40+AW40+BD40+BS40)/CA40,0) -> 0 | CC40: =(CA40*CB40)^2 -> 0
B41: Consumo de combustibles gaseosos | C41: DatosActividad | F41: =VLOOKUP($E41,$CD$114:$DH$479,2,FALSE) -> 0 | S41: =SUM(G41:R41) -> 0 | T41: =COUNT(G41:R41) -> 0 | U41: =IF(T41>1,AVERAGE(G41:R41),0) -> 0 | V41: =IF(T41>1,STDEV(G41:R41),0) -> 0 | W41: =IF(T41>1,VLOOKUP($T41,$CD$383:$CE$395,2,FALSE),0) -> 0 | Y41: =IF(X41>0,X41,IF(T41>1,1-((U41-((V41*W41)/(SQRT(T41))))/U41),VLOOKUP($E41,$CD$114:$DK$479,34,FALSE))) -> 0.05 | Z41: =VLOOKUP($E41,$CD$114:$DH$479,3,FALSE) -> 0 | AA41: =VLOOKUP($E41,$CD$114:$DH$479,4,FALSE) -> 0 | AB41: =IF($S41>0,VLOOKUP($E41,$CD$114:$DH$479,7,FALSE),0) -> 0 | AC41: =IF($S41>0,VLOOKUP($E41,$CD$114:$DH$479,6,FALSE),0) -> 0 | AD41: =($S41*Z41)/1000 -> 0 | AE41: =AD41*$CE$401 -> 0 | AF41: =IF(AD41>0,SQRT(($Y41*$Y41)+(AC41*AC41)),0) -> 0 | AG41: =(AE41*AF41)^2 -> 0 | AH41: =VLOOKUP($E41,$CD$114:$DH$479,9,FALSE) -> 0 | AI41: =VLOOKUP($E41,$CD$114:$DH$479,10,FALSE) -> 0 | AJ41: =IF($S41>0,VLOOKUP($E41,$CD$114:$DH$479,13,FALSE),0) -> 0 | AK41: =IF($S41>0,VLOOKUP($E41,$CD$114:$DH$479,12,FALSE),0) -> 0 | AL41: =($S41*AH41)/1000 -> 0 | AM41: =AL41*$CE$402 -> 0 | AN41: =IF(AL41>0,SQRT(($Y41*$Y41)+(AK41*AK41)),0) -> 0 | AO41: =(AM41*AN41)^2 -> 0 | AP41: =VLOOKUP($E41,$CD$114:$DH$479,15,FALSE) -> 0 | AQ41: =VLOOKUP($E41,$CD$114:$DH$479,16,FALSE) -> 0 | AR41: =IF($S41>0,VLOOKUP($E41,$CD$114:$DH$479,19,FALSE),0) -> 0 | AS41: =IF($S41>0,VLOOKUP($E41,$CD$114:$DH$479,18,FALSE),0) -> 0 | AT41: =($S41*AP41)/1000 -> 0 | AU41: =AT41*$CE$403 -> 0 | AV41: =IF(AT41>0,SQRT(($Y41*$Y41)+(AS41*AS41)),0) -> 0 | AW41: =(AU41*AV41)^2 -> 0 | AX41: 0 | AY41: 0 | AZ41: 0 | BA41: 0 | BB41: =($S41*AX41)/1000 -> 0 | BC41: =IF(BB41>0,SQRT(($Y41*$Y41)+(BA41*BA41)),0) -> 0 | BD41: =(BB41*BC41)^2 -> 0 | BE41: 0 | BF41: 0 | BG41: 0 | BH41: 0 | BI41: =($S41*BE41)/1000 -> 0 | BJ41: =IF(BI41>0,SQRT(($Y41*$Y41)+(BH41*BH41)),0) -> 0 | BK41: =(BI41*BJ41)^2 -> 0 | BL41: 0 | BM41: 0 | BN41: 0 | BO41: 0 | BP41: =($S41*BL41)/1000 -> 0 | BQ41: =BP41*$CE$404 -> 0 | BR41: =IF(BP41>0,SQRT(($Y41*$Y41)+(BO41*BO41)),0) -> 0 | BS41: =(BQ41*BR41)^2 -> 0 | BT41: =VLOOKUP($E41,$CD$114:$DI$479,32,FALSE) -> 0 | BU41: =VLOOKUP($E41,$CD$114:$DH$479,4,FALSE) -> 0 | BV41: =IF($S41>0,VLOOKUP($E41,$CD$114:$DH$479,7,FALSE),0) -> 0 | BW41: =IF($S41>0,VLOOKUP($E41,$CD$114:$DH$479,6,FALSE),0) -> 0 | BX41: =($S41*BT41)/1000 -> 0 | BY41: =IF(BX41>0,SQRT(($Y41*$Y41)+(BW41*BW41)),0) -> 0 | BZ41: =(BX41*BY41)^2 -> 0 | CA41: =IF(C41="EmisionesGEI",D41,AE41+AM41+AU41+BB41+BQ41) -> 0 | CB41: =IF(CA41>0,SQRT(AG41+AO41+AW41+BD41+BS41)/CA41,0) -> 0 | CC41: =(CA41*CB41)^2 -> 0
B42: (Fuentes Fijas) | C42: DatosActividad | F42: =VLOOKUP($E42,$CD$114:$DH$479,2,FALSE) -> 0 | S42: =SUM(G42:R42) -> 0 | T42: =COUNT(G42:R42) -> 0 | U42: =IF(T42>1,AVERAGE(G42:R42),0) -> 0 | V42: =IF(T42>1,STDEV(G42:R42),0) -> 0 | W42: =IF(T42>1,VLOOKUP($T42,$CD$383:$CE$395,2,FALSE),0) -> 0 | Y42: =IF(X42>0,X42,IF(T42>1,1-((U42-((V42*W42)/(SQRT(T42))))/U42),VLOOKUP($E42,$CD$114:$DK$479,34,FALSE))) -> 0.05 | Z42: =VLOOKUP($E42,$CD$114:$DH$479,3,FALSE) -> 0 | AA42: =VLOOKUP($E42,$CD$114:$DH$479,4,FALSE) -> 0 | AB42: =IF($S42>0,VLOOKUP($E42,$CD$114:$DH$479,7,FALSE),0) -> 0 | AC42: =IF($S42>0,VLOOKUP($E42,$CD$114:$DH$479,6,FALSE),0) -> 0 | AD42: =($S42*Z42)/1000 -> 0 | AE42: =AD42*$CE$401 -> 0 | AF42: =IF(AD42>0,SQRT(($Y42*$Y42)+(AC42*AC42)),0) -> 0 | AG42: =(AE42*AF42)^2 -> 0 | AH42: =VLOOKUP($E42,$CD$114:$DH$479,9,FALSE) -> 0 | AI42: =VLOOKUP($E42,$CD$114:$DH$479,10,FALSE) -> 0 | AJ42: =IF($S42>0,VLOOKUP($E42,$CD$114:$DH$479,13,FALSE),0) -> 0 | AK42: =IF($S42>0,VLOOKUP($E42,$CD$114:$DH$479,12,FALSE),0) -> 0 | AL42: =($S42*AH42)/1000 -> 0 | AM42: =AL42*$CE$402 -> 0 | AN42: =IF(AL42>0,SQRT(($Y42*$Y42)+(AK42*AK42)),0) -> 0 | AO42: =(AM42*AN42)^2 -> 0 | AP42: =VLOOKUP($E42,$CD$114:$DH$479,15,FALSE) -> 0 | AQ42: =VLOOKUP($E42,$CD$114:$DH$479,16,FALSE) -> 0 | AR42: =IF($S42>0,VLOOKUP($E42,$CD$114:$DH$479,19,FALSE),0) -> 0 | AS42: =IF($S42>0,VLOOKUP($E42,$CD$114:$DH$479,18,FALSE),0) -> 0 | AT42: =($S42*AP42)/1000 -> 0 | AU42: =AT42*$CE$403 -> 0 | AV42: =IF(AT42>0,SQRT(($Y42*$Y42)+(AS42*AS42)),0) -> 0 | AW42: =(AU42*AV42)^2 -> 0 | AX42: 0 | AY42: 0 | AZ42: 0 | BA42: 0 | BB42: =($S42*AX42)/1000 -> 0 | BC42: =IF(BB42>0,SQRT(($Y42*$Y42)+(BA42*BA42)),0) -> 0 | BD42: =(BB42*BC42)^2 -> 0 | BE42: 0 | BF42: 0 | BG42: 0 | BH42: 0 | BI42: =($S42*BE42)/1000 -> 0 | BJ42: =IF(BI42>0,SQRT(($Y42*$Y42)+(BH42*BH42)),0) -> 0 | BK42: =(BI42*BJ42)^2 -> 0 | BL42: 0 | BM42: 0 | BN42: 0 | BO42: 0 | BP42: =($S42*BL42)/1000 -> 0 | BQ42: =BP42*$CE$404 -> 0 | BR42: =IF(BP42>0,SQRT(($Y42*$Y42)+(BO42*BO42)),0) -> 0 | BS42: =(BQ42*BR42)^2 -> 0 | BT42: =VLOOKUP($E42,$CD$114:$DI$479,32,FALSE) -> 0 | BU42: =VLOOKUP($E42,$CD$114:$DH$479,4,FALSE) -> 0 | BV42: =IF($S42>0,VLOOKUP($E42,$CD$114:$DH$479,7,FALSE),0) -> 0 | BW42: =IF($S42>0,VLOOKUP($E42,$CD$114:$DH$479,6,FALSE),0) -> 0 | BX42: =($S42*BT42)/1000 -> 0 | BY42: =IF(BX42>0,SQRT(($Y42*$Y42)+(BW42*BW42)),0) -> 0 | BZ42: =(BX42*BY42)^2 -> 0 | CA42: =IF(C42="EmisionesGEI",D42,AE42+AM42+AU42+BB42+BQ42) -> 0 | CB42: =IF(CA42>0,SQRT(AG42+AO42+AW42+BD42+BS42)/CA42,0) -> 0 | CC42: =(CA42*CB42)^2 -> 0
C43: DatosActividad | F43: =VLOOKUP($E43,$CD$114:$DH$479,2,FALSE) -> 0 | S43: =SUM(G43:R43) -> 0 | T43: =COUNT(G43:R43) -> 0 | U43: =IF(T43>1,AVERAGE(G43:R43),0) -> 0 | V43: =IF(T43>1,STDEV(G43:R43),0) -> 0 | W43: =IF(T43>1,VLOOKUP($T43,$CD$383:$CE$395,2,FALSE),0) -> 0 | Y43: =IF(X43>0,X43,IF(T43>1,1-((U43-((V43*W43)/(SQRT(T43))))/U43),VLOOKUP($E43,$CD$114:$DK$479,34,FALSE))) -> 0.05 | Z43: =VLOOKUP($E43,$CD$114:$DH$479,3,FALSE) -> 0 | AA43: =VLOOKUP($E43,$CD$114:$DH$479,4,FALSE) -> 0 | AB43: =IF($S43>0,VLOOKUP($E43,$CD$114:$DH$479,7,FALSE),0) -> 0 | AC43: =IF($S43>0,VLOOKUP($E43,$CD$114:$DH$479,6,FALSE),0) -> 0 | AD43: =($S43*Z43)/1000 -> 0 | AE43: =AD43*$CE$401 -> 0 | AF43: =IF(AD43>0,SQRT(($Y43*$Y43)+(AC43*AC43)),0) -> 0 | AG43: =(AE43*AF43)^2 -> 0 | AH43: =VLOOKUP($E43,$CD$114:$DH$479,9,FALSE) -> 0 | AI43: =VLOOKUP($E43,$CD$114:$DH$479,10,FALSE) -> 0 | AJ43: =IF($S43>0,VLOOKUP($E43,$CD$114:$DH$479,13,FALSE),0) -> 0 | AK43: =IF($S43>0,VLOOKUP($E43,$CD$114:$DH$479,12,FALSE),0) -> 0 | AL43: =($S43*AH43)/1000 -> 0 | AM43: =AL43*$CE$402 -> 0 | AN43: =IF(AL43>0,SQRT(($Y43*$Y43)+(AK43*AK43)),0) -> 0 | AO43: =(AM43*AN43)^2 -> 0 | AP43: =VLOOKUP($E43,$CD$114:$DH$479,15,FALSE) -> 0 | AQ43: =VLOOKUP($E43,$CD$114:$DH$479,16,FALSE) -> 0 | AR43: =IF($S43>0,VLOOKUP($E43,$CD$114:$DH$479,19,FALSE),0) -> 0 | AS43: =IF($S43>0,VLOOKUP($E43,$CD$114:$DH$479,18,FALSE),0) -> 0 | AT43: =($S43*AP43)/1000 -> 0 | AU43: =AT43*$CE$403 -> 0 | AV43: =IF(AT43>0,SQRT(($Y43*$Y43)+(AS43*AS43)),0) -> 0 | AW43: =(AU43*AV43)^2 -> 0 | AX43: 0 | AY43: 0 | AZ43: 0 | BA43: 0 | BB43: =($S43*AX43)/1000 -> 0 | BC43: =IF(BB43>0,SQRT(($Y43*$Y43)+(BA43*BA43)),0) -> 0 | BD43: =(BB43*BC43)^2 -> 0 | BE43: 0 | BF43: 0 | BG43: 0 | BH43: 0 | BI43: =($S43*BE43)/1000 -> 0 | BJ43: =IF(BI43>0,SQRT(($Y43*$Y43)+(BH43*BH43)),0) -> 0 | BK43: =(BI43*BJ43)^2 -> 0 | BL43: 0 | BM43: 0 | BN43: 0 | BO43: 0 | BP43: =($S43*BL43)/1000 -> 0 | BQ43: =BP43*$CE$404 -> 0 | BR43: =IF(BP43>0,SQRT(($Y43*$Y43)+(BO43*BO43)),0) -> 0 | BS43: =(BQ43*BR43)^2 -> 0 | BT43: =VLOOKUP($E43,$CD$114:$DI$479,32,FALSE) -> 0 | BU43: =VLOOKUP($E43,$CD$114:$DH$479,4,FALSE) -> 0 | BV43: =IF($S43>0,VLOOKUP($E43,$CD$114:$DH$479,7,FALSE),0) -> 0 | BW43: =IF($S43>0,VLOOKUP($E43,$CD$114:$DH$479,6,FALSE),0) -> 0 | BX43: =($S43*BT43)/1000 -> 0 | BY43: =IF(BX43>0,SQRT(($Y43*$Y43)+(BW43*BW43)),0) -> 0 | BZ43: =(BX43*BY43)^2 -> 0 | CA43: =IF(C43="EmisionesGEI",D43,AE43+AM43+AU43+BB43+BQ43) -> 0 | CB43: =IF(CA43>0,SQRT(AG43+AO43+AW43+BD43+BS43)/CA43,0) -> 0 | CC43: =(CA43*CB43)^2 -> 0
B44: SUBTOTAL COMBUSTIBLES | AE44: =SUM(AE33:AE43) -> 0 | AF44: =IF(AE44>0,SQRT(SUM(AG33:AG43))/AE44,0) -> 0 | AM44: =SUM(AM33:AM43) -> 0 | AN44: =IF(AM44>0,SQRT(SUM(AO33:AO43))/AM44,0) -> 0 | AU44: =SUM(AU33:AU43) -> 0 | AV44: =IF(AU44>0,SQRT(SUM(AW33:AW43))/AU44,0) -> 0 | BB44: =SUM(BB33:BB43) -> 0 | BC44: =IF(BB44>0,SQRT(SUM(BD33:BD43))/BB44,0) -> 0 | BI44: =SUM(BI33:BI43) -> 0 | BJ44: =IF(BI44>0,SQRT(SUM(BK33:BK43))/BI44,0) -> 0 | BQ44: =SUM(BQ33:BQ43) -> 0 | BR44: =IF(BQ44>0,SQRT(SUM(BS33:BS43))/BQ44,0) -> 0 | BX44: =SUM(BX33:BX43) -> 0 | BY44: =IF(BX44>0,SQRT(SUM(BZ33:BZ43))/BX44,0) -> 0 | CA44: =SUM(CA33:CA43) -> 0 | CB44: =IF(CA44>0,SQRT(SUM(CC33:CC43))/CA44,0) -> 0 | CC44: =(CA44*CB44)^2 -> 0
B45: Extintores (Fuentes Fijas) | C45: DatosActividad | F45: =VLOOKUP($E45,$CD$114:$DH$479,2,FALSE) -> 0 | S45: =SUM(G45:R45) -> 0 | T45: =COUNT(G45:R45) -> 0 | U45: =IF(T45>1,AVERAGE(G45:R45),0) -> 0 | V45: =IF(T45>1,STDEV(G45:R45),0) -> 0 | W45: =IF(T45>1,VLOOKUP($T45,$CD$383:$CE$395,2,FALSE),0) -> 0 | Y45: =IF(X45>0,X45,IF(T45>1,1-((U45-((V45*W45)/(SQRT(T45))))/U45),VLOOKUP($E45,$CD$114:$DK$479,34,FALSE))) -> 0.05 | Z45: =VLOOKUP($E45,$CD$114:$DH$479,3,FALSE) -> 0 | AA45: =VLOOKUP($E45,$CD$114:$DH$479,4,FALSE) -> 0 | AB45: =IF($S45>0,VLOOKUP($E45,$CD$114:$DH$479,7,FALSE),0) -> 0 | AC45: =IF($S45>0,VLOOKUP($E45,$CD$114:$DH$479,6,FALSE),0) -> 0 | AD45: =($S45*Z45)/1000 -> 0 | AE45: =AD45*$CE$401 -> 0 | AF45: =IF(AD45>0,SQRT(($Y45*$Y45)+(AC45*AC45)),0) -> 0 | AG45: =(AE45*AF45)^2 -> 0 | AH45: 0 | AI45: 0 | AJ45: 0 | AK45: 0 | AL45: =($S45*AH45)/1000 -> 0 | AM45: =AL45*$CE$402 -> 0 | AN45: =IF(AL45>0,SQRT(($Y45*$Y45)+(AK45*AK45)),0) -> 0 | AO45: =(AM45*AN45)^2 -> 0 | AP45: 0 | AQ45: 0 | AR45: 0 | AS45: 0 | AT45: =($S45*AP45)/1000 -> 0 | AU45: =AT45*$CE$403 -> 0 | AV45: =IF(AT45>0,SQRT(($Y45*$Y45)+(AS45*AS45)),0) -> 0 | AW45: =(AU45*AV45)^2 -> 0 | AX45: 0 | AY45: 0 | AZ45: 0 | BA45: 0 | BB45: =($S45*AX45)/1000 -> 0 | BC45: =IF(BB45>0,SQRT(($Y45*$Y45)+(BA45*BA45)),0) -> 0 | BD45: =(BB45*BC45)^2 -> 0 | BE45: 0 | BF45: 0 | BG45: 0 | BH45: 0 | BI45: =($S45*BE45)/1000 -> 0 | BJ45: =IF(BI45>0,SQRT(($Y45*$Y45)+(BH45*BH45)),0) -> 0 | BK45: =(BI45*BJ45)^2 -> 0 | BL45: 0 | BM45: 0 | BN45: 0 | BO45: 0 | BP45: =($S45*BL45)/1000 -> 0 | BQ45: =BP45*$CE$404 -> 0 | BR45: =IF(BP45>0,SQRT(($Y45*$Y45)+(BO45*BO45)),0) -> 0 | BS45: =(BQ45*BR45)^2 -> 0 | BT45: 0 | BU45: 0 | BV45: 0 | BW45: 0 | BX45: 0 | BY45: 0 | BZ45: =(BX45*BY45)^2 -> 0 | CA45: =IF(C45="EmisionesGEI",D45,AE45+AM45+AU45+BB45+BQ45) -> 0 | CB45: =IF(CA45>0,SQRT(AG45+AO45+AW45+BD45+BS45)/CA45,0) -> 0 | CC45: =(CA45*CB45)^2 -> 0
C46: DatosActividad | F46: =VLOOKUP($E46,$CD$114:$DH$479,2,FALSE) -> 0 | S46: =SUM(G46:R46) -> 0 | T46: =COUNT(G46:R46) -> 0 | U46: =IF(T46>1,AVERAGE(G46:R46),0) -> 0 | V46: =IF(T46>1,STDEV(G46:R46),0) -> 0 | W46: =IF(T46>1,VLOOKUP($T46,$CD$383:$CE$395,2,FALSE),0) -> 0 | Y46: =IF(X46>0,X46,IF(T46>1,1-((U46-((V46*W46)/(SQRT(T46))))/U46),VLOOKUP($E46,$CD$114:$DK$479,34,FALSE))) -> 0.05 | Z46: 0 | AA46: 0 | AB46: 0 | AC46: 0 | AD46: =($S46*Z46)/1000 -> 0 | AE46: =AD46*$CE$401 -> 0 | AF46: =IF(AD46>0,SQRT(($Y46*$Y46)+(AC46*AC46)),0) -> 0 | AG46: =(AE46*AF46)^2 -> 0 | AH46: 0 | AI46: 0 | AJ46: 0 | AK46: 0 | AL46: =($S46*AH46)/1000 -> 0 | AM46: =AL46*$CE$402 -> 0 | AN46: =IF(AL46>0,SQRT(($Y46*$Y46)+(AK46*AK46)),0) -> 0 | AO46: =(AM46*AN46)^2 -> 0 | AP46: 0 | AQ46: 0 | AR46: 0 | AS46: 0 | AT46: =($S46*AP46)/1000 -> 0 | AU46: =AT46*$CE$403 -> 0 | AV46: =IF(AT46>0,SQRT(($Y46*$Y46)+(AS46*AS46)),0) -> 0 | AW46: =(AU46*AV46)^2 -> 0 | AX46: =VLOOKUP($E46,$CD$114:$DH$479,3,FALSE) -> 0 | AY46: =VLOOKUP($E46,$CD$114:$DH$479,4,FALSE) -> 0 | AZ46: =IF($S46>0,VLOOKUP($E46,$CD$114:$DH$479,7,FALSE),0) -> 0 | BA46: =IF($S46>0,VLOOKUP($E46,$CD$114:$DH$479,6,FALSE),0) -> 0 | BB46: =($S46*AX46)/1000 -> 0 | BC46: =IF(BB46>0,SQRT(($Y46*$Y46)+(BA46*BA46)),0) -> 0 | BD46: =(BB46*BC46)^2 -> 0 | BE46: 0 | BF46: =VLOOKUP($E46,$CD$114:$DH$479,4,FALSE) -> 0 | BG46: =IF($S46>0,VLOOKUP($E46,$CD$114:$DH$479,7,FALSE),0) -> 0 | BH46: =IF($S46>0,VLOOKUP($E46,$CD$114:$DH$479,6,FALSE),0) -> 0 | BI46: =($S46*BE46)/1000 -> 0 | BJ46: =IF(BI46>0,SQRT(($Y46*$Y46)+(BH46*BH46)),0) -> 0 | BK46: =(BI46*BJ46)^2 -> 0 | BL46: 0 | BM46: 0 | BN46: 0 | BO46: 0 | BP46: =($S46*BL46)/1000 -> 0 | BQ46: =BP46*$CE$404 -> 0 | BR46: =IF(BP46>0,SQRT(($Y46*$Y46)+(BO46*BO46)),0) -> 0 | BS46: =(BQ46*BR46)^2 -> 0 | BT46: 0 | BU46: 0 | BV46: 0 | BW46: 0 | BX46: 0 | BY46: 0 | BZ46: =(BX46*BY46)^2 -> 0 | CA46: =IF(C46="EmisionesGEI",D46,AE46+AM46+AU46+BB46+BQ46) -> 0 | CB46: =IF(CA46>0,SQRT(AG46+AO46+AW46+BD46+BS46)/CA46,0) -> 0 | CC46: =(CA46*CB46)^2 -> 0
B47: SUBTOTAL OTROS | AE47: =SUM(AE45:AE46) -> 0 | AF47: =IF(AE47>0,SQRT(SUM(AG45:AG46))/AE47,0) -> 0 | AG47: =(AE47*AF47)^2 -> 0 | AM47: =SUM(AM45:AM46) -> 0 | AN47: =IF(AM47>0,SQRT(SUM(AO45:AO46))/AM47,0) -> 0 | AO47: =(AM47*AN47)^2 -> 0 | AU47: =SUM(AU45:AU46) -> 0 | AV47: =IF(AU47>0,SQRT(SUM(AW45:AW46))/AU47,0) -> 0 | AW47: =(AU47*AV47)^2 -> 0 | BB47: =SUM(BB45:BB46) -> 0 | BC47: =IF(BB47>0,SQRT(SUM(BD45:BD46))/BB47,0) -> 0 | BD47: =(BB47*BC47)^2 -> 0 | BI47: =SUM(BI45:BI46) -> 0 | BJ47: =IF(BI47>0,SQRT(SUM(BK45:BK46))/BI47,0) -> 0 | BK47: =(BI47*BJ47)^2 -> 0 | BQ47: =SUM(BQ45:BQ46) -> 0 | BR47: =IF(BQ47>0,SQRT(SUM(BS45:BS46))/BQ47,0) -> 0 | BS47: =(BQ47*BR47)^2 -> 0 | BX47: =SUM(BX45:BX46) -> 0 | BY47: =IF(BX47>0,SQRT(SUM(BZ45:BZ46))/BX47,0) -> 0 | BZ47: =(BX47*BY47)^2 -> 0 | CA47: =SUM(CA45:CA46) -> 0 | CB47: =IF(CA47>0,SQRT(SUM(CC45:CC46))/CA47,0) -> 0 | CC47: =(CA47*CB47)^2 -> 0
B48: SUBTOTAL FUENTES FIJAS | AE48: =+AE44+AE47 -> 0 | AF48: =IF(AE48>0,(SQRT(AG44+AG47))/AE48,0) -> 0 | AG48: =(AE48*AF48)^2 -> 0 | AM48: =+AM44+AM47 -> 0 | AN48: =IF(AM48>0,(SQRT(AO44+AO47))/AM48,0) -> 0 | AO48: =(AM48*AN48)^2 -> 0 | AU48: =+AU44+AU47 -> 0 | AV48: =IF(AU48>0,(SQRT(AW44+AW47))/AU48,0) -> 0 | AW48: =(AU48*AV48)^2 -> 0 | BB48: =+BB44+BB47 -> 0 | BC48: =IF(BB48>0,(SQRT(BD44+BD47))/BB48,0) -> 0 | BD48: =(BB48*BC48)^2 -> 0 | BI48: =+BI44+BI47 -> 0 | BJ48: =IF(BI48>0,(SQRT(BK44+BK47))/BI48,0) -> 0 | BK48: =(BI48*BJ48)^2 -> 0 | BQ48: =+BQ44+BQ47 -> 0 | BR48: =IF(BQ48>0,(SQRT(BS44+BS47))/BQ48,0) -> 0 | BS48: =(BQ48*BR48)^2 -> 0 | BX48: =+BX44+BX47 -> 0 | BY48: =IF(BX48>0,(SQRT(BZ44+BZ47))/BX48,0) -> 0 | BZ48: =(BX48*BY48)^2 -> 0 | CA48: =+CA44+CA47 -> 0 | CB48: =IF(CA48>0,(SQRT(CC44+CC47))/CA48,0) -> 0 | CC48: =(CA48*CB48)^2 -> 0
B50: FUENTES FUGITIVAS
B51: FUENTE DE EMISIÓN DE GEI (Seleccione de la lista) | C51: REPORTE | D51: N/A | E51: DATOS DE ACTIVIDAD (Seleccione de la lista el dato de actividad que va a reportar) | F51: VALOR DE DATO DE ACTIVIDAD | U51: INCERTIDUMBRE DATOS | Z51: EMISIONES CO2 | AH51: EMISIONES CH4 | AP51: EMISIONES N2O | AX51: EMISIONES HFC | BE51: EMISIONES PFC | BL51: EMISIONES SF6 | BT51: EMISIONES CO2 BIOGÉNICO | CA51: HUELLA DE CARBONO (tCO2eq) | CB51: INCERTIDUMBRE DE LA FUENTE
F52: UNIDAD | G52: DATO 1 | H52: DATO 2 | I52: DATO 3 | J52: DATO 4 | K52: DATO 5 | L52: DATO 6 | M52: DATO 7 | N52: DATO 8 | O52: DATO 9 | P52: DATO 10 | Q52: DATO 11 | R52: DATO 12 | S52: TOTAL | T52: No. DATOS | U52: PROMEDIO | V52: DESVIACION ESTÁNDAR | W52: FACTOR T | X52: INCERTIDUMBRE SISTEMATICA DATOS | Y52: INCERTIDUMBRE DATOS | Z52: FACTOR DE EMISIÓN CO2eq | AB52: FUENTE BIBLIOGRÁFICA | AC52: INCERTIDUMBRE FACTOR EMISIÓN CO2eq | AD52: EMISIONES CO2eq (tCO2eq) | AE52: EMISIONES CO2eq (tCO2eq) | AF52: INCERTIDUMBRE EMISIONES CO2eq | AG52: Columna Auxiliar | AH52: FACTOR DE EMISIÓN CH4 | AJ52: FUENTE BIBLIOGRÁFICA | AK52: INCERTIDUMBRE FACTOR EMISIÓN CH4 | AL52: EMISIONES CH4 (tCH4) | AM52: EMISIONES CH4 (tCO2eq) | AN52: INCERTIDUMBRE EMISIONES CH4 | AO52: Columna Auxiliar | AP52: FACTOR DE EMISIÓN N2O | AR52: FUENTE BIBLIOGRÁFICA | AS52: INCERTIDUMBRE FACTOR EMISIÓN N2O | AT52: EMISIONES N2O (tN2O) | AU52: EMISIONES N2O (tCO2eq) | AV52: INCERTIDUMBRE EMISIONES N2O | AW52: Columna Auxiliar | AX52: FACTOR DE EMISIÓN HFC | AZ52: FUENTE BIBLIOGRÁFICA | BA52: INCERTIDUMBRE FACTOR EMISIÓN HFC | BB52: EMISIONES HFC (tCO2eq) | BC52: INCERTIDUMBRE EMISIONES HFC | BD52: Columna Auxiliar | BE52: FACTOR DE EMISIÓN PFC | BG52: FUENTE BIBLIOGRÁFICA | BH52: INCERTIDUMBRE FACTOR EMISIÓN PFCs | BI52: EMISIONES PFC (tCO2eq) | BJ52: INCERTIDUMBRE EMISIONES PFC | BK52: Columna Auxiliar | BL52: FACTOR DE EMISIÓN SF6 | BN52: FUENTE BIBLIOGRÁFICA | BO52: INCERTIDUMBRE FACTOR EMISIÓN SF6 | BP52: EMISIONES SF6 (tSF6) | BQ52: EMISIONES SF6 (tCO2eq) | BR52: INCERTIDUMBRE EMISIONES SF6 | BS52: Columna Auxiliar | BT52: FACTOR DE EMISIÓN CO2 (biogénico) | BV52: FUENTE BIBLIOGRÁFICA | BW52: INCERTIDUMBRE FACTOR EMISIÓN CO2 (Biogénico) | BX52: EMISIONES CO2Biogénico (tCO2 Biogénico) | BY52: INCERTIDUMBRE EMISIONES CO2 Biogénico | BZ52: Columna Auxiliar | CC52: Variable Auxiliar = (Huella de carbono x Incertidumbre de la fuente)^2
B53: Perdidas de HFC | C53: DatosActividad | F53: =VLOOKUP($E53,$CD$114:$DH$479,2,FALSE) -> 0 | S53: =SUM(G53:R53) -> 0 | T53: =COUNT(G53:R53) -> 0 | U53: =IF(T53>1,AVERAGE(G53:R53),0) -> 0 | V53: =IF(T53>1,STDEV(G53:R53),0) -> 0 | W53: =IF(T53>1,VLOOKUP($T53,$CD$383:$CE$395,2,FALSE),0) -> 0 | Y53: =IF(X53>0,X53,IF(T53>1,1-((U53-((V53*W53)/(SQRT(T53))))/U53),VLOOKUP($E53,$CD$114:$DK$479,34,FALSE))) -> 0.05 | Z53: 0 | AA53: 0 | AB53: 0 | AC53: 0 | AD53: =($S53*Z53)/1000 -> 0 | AE53: =AD53*$CE$401 -> 0 | AF53: =IF(AD53>0,SQRT(($Y53*$Y53)+(AC53*AC53)),0) -> 0 | AG53: =(AE53*AF53)^2 -> 0 | AH53: 0 | AI53: 0 | AJ53: 0 | AK53: 0 | AL53: =($S53*AH53)/1000 -> 0 | AM53: =AL53*$CE$402 -> 0 | AN53: =IF(AL53>0,SQRT(($Y53*$Y53)+(AK53*AK53)),0) -> 0 | AO53: =(AM53*AN53)^2 -> 0 | AP53: 0 | AQ53: =VLOOKUP($E53,$CD$114:$DH$479,28,FALSE) -> 0 | AR53: 0 | AS53: 0 | AT53: =($S53*AP53)/1000 -> 0 | AU53: =AT53*$CE$403 -> 0 | AV53: =IF(AT53>0,SQRT(($Y53*$Y53)+(AS53*AS53)),0) -> 0 | AW53: =(AU53*AV53)^2 -> 0 | AX53: =VLOOKUP($E53,$CD$114:$DH$479,3,FALSE) -> 0 | AY53: =VLOOKUP($E53,$CD$114:$DH$479,4,FALSE) -> 0 | AZ53: =IF($S53>0,VLOOKUP($E53,$CD$114:$DH$479,7,FALSE),0) -> 0 | BA53: =IF($S53>0,VLOOKUP($E53,$CD$114:$DH$479,6,FALSE),0) -> 0 | BB53: =($S53*AX53)/1000 -> 0 | BC53: =IF(BB53>0,SQRT(($Y53*$Y53)+(BA53*BA53)),0) -> 0 | BD53: =(BB53*BC53)^2 -> 0 | BE53: 0 | BF53: =VLOOKUP($E53,$CD$114:$DH$479,4,FALSE) -> 0 | BG53: =IF($S53>0,VLOOKUP($E53,$CD$114:$DH$479,7,FALSE),0) -> 0 | BH53: =IF($S53>0,VLOOKUP($E53,$CD$114:$DH$479,6,FALSE),0) -> 0 | BI53: =($S53*BE53)/1000 -> 0 | BJ53: =IF(BI53>0,SQRT(($Y53*$Y53)+(BH53*BH53)),0) -> 0 | BK53: =(BI53*BJ53)^2 -> 0 | BL53: 0 | BM53: 0 | BN53: 0 | BO53: 0 | BP53: =($S53*BL53)/1000 -> 0 | BQ53: =BP53*$CE$404 -> 0 | BR53: =IF(BP53>0,SQRT(($Y53*$Y53)+(BO53*BO53)),0) -> 0 | BS53: =(BQ53*BR53)^2 -> 0 | BT53: 0 | BU53: 0 | BV53: 0 | BW53: 0 | BX53: 0 | BY53: 0 | BZ53: =(BX53*BY53)^2 -> 0 | CA53: =IF(C53="EmisionesGEI",D53,AE53+AM53+AU53+BB53+BQ53) -> 0 | CB53: =IF(CA53>0,SQRT(AG53+AO53+AW53+BD53+BS53)/CA53,0) -> 0 | CC53: =(CA53*CB53)^2 -> 0
B54: (Refrigerantes en Instalaciones, | C54: DatosActividad | F54: =VLOOKUP($E54,$CD$114:$DH$479,2,FALSE) -> 0 | S54: =SUM(G54:R54) -> 0 | T54: =COUNT(G54:R54) -> 0 | U54: =IF(T54>1,AVERAGE(G54:R54),0) -> 0 | V54: =IF(T54>1,STDEV(G54:R54),0) -> 0 | W54: =IF(T54>1,VLOOKUP($T54,$CD$383:$CE$395,2,FALSE),0) -> 0 | Y54: =IF(X54>0,X54,IF(T54>1,1-((U54-((V54*W54)/(SQRT(T54))))/U54),VLOOKUP($E54,$CD$114:$DK$479,34,FALSE))) -> 0.05 | Z54: 0 | AA54: 0 | AB54: 0 | AC54: 0 | AD54: =($S54*Z54)/1000 -> 0 | AE54: =AD54*$CE$401 -> 0 | AF54: =IF(AD54>0,SQRT(($Y54*$Y54)+(AC54*AC54)),0) -> 0 | AG54: =(AE54*AF54)^2 -> 0 | AH54: 0 | AI54: 0 | AJ54: 0 | AK54: 0 | AL54: =($S54*AH54)/1000 -> 0 | AM54: =AL54*$CE$402 -> 0 | AN54: =IF(AL54>0,SQRT(($Y54*$Y54)+(AK54*AK54)),0) -> 0 | AO54: =(AM54*AN54)^2 -> 0 | AP54: 0 | AQ54: 0 | AR54: 0 | AS54: 0 | AT54: =($S54*AP54)/1000 -> 0 | AU54: =AT54*$CE$403 -> 0 | AV54: =IF(AT54>0,SQRT(($Y54*$Y54)+(AS54*AS54)),0) -> 0 | AW54: =(AU54*AV54)^2 -> 0 | AX54: =VLOOKUP($E54,$CD$114:$DH$479,3,FALSE) -> 0 | AY54: =VLOOKUP($E54,$CD$114:$DH$479,4,FALSE) -> 0 | AZ54: =IF($S54>0,VLOOKUP($E54,$CD$114:$DH$479,7,FALSE),0) -> 0 | BA54: =IF($S54>0,VLOOKUP($E54,$CD$114:$DH$479,6,FALSE),0) -> 0 | BB54: =($S54*AX54)/1000 -> 0 | BC54: =IF(BB54>0,SQRT(($Y54*$Y54)+(BA54*BA54)),0) -> 0 | BD54: =(BB54*BC54)^2 -> 0 | BE54: 0 | BF54: =VLOOKUP($E54,$CD$114:$DH$479,4,FALSE) -> 0 | BG54: =IF($S54>0,VLOOKUP($E54,$CD$114:$DH$479,7,FALSE),0) -> 0 | BH54: =IF($S54>0,VLOOKUP($E54,$CD$114:$DH$479,6,FALSE),0) -> 0 | BI54: =($S54*BE54)/1000 -> 0 | BJ54: =IF(BI54>0,SQRT(($Y54*$Y54)+(BH54*BH54)),0) -> 0 | BK54: =(BI54*BJ54)^2 -> 0 | BL54: 0 | BM54: 0 | BN54: 0 | BO54: 0 | BP54: =($S54*BL54)/1000 -> 0 | BQ54: =BP54*$CE$404 -> 0 | BR54: =IF(BP54>0,SQRT(($Y54*$Y54)+(BO54*BO54)),0) -> 0 | BS54: =(BQ54*BR54)^2 -> 0 | BT54: 0 | BU54: 0 | BV54: 0 | BW54: 0 | BX54: 0 | BY54: 0 | BZ54: =(BX54*BY54)^2 -> 0 | CA54: =IF(C54="EmisionesGEI",D54,AE54+AM54+AU54+BB54+BQ54) -> 0 | CB54: =IF(CA54>0,SQRT(AG54+AO54+AW54+BD54+BS54)/CA54,0) -> 0 | CC54: =(CA54*CB54)^2 -> 0
B55: edificios y procesos) | C55: DatosActividad | F55: =VLOOKUP($E55,$CD$114:$DH$479,2,FALSE) -> 0 | S55: =SUM(G55:R55) -> 0 | T55: =COUNT(G55:R55) -> 0 | U55: =IF(T55>1,AVERAGE(G55:R55),0) -> 0 | V55: =IF(T55>1,STDEV(G55:R55),0) -> 0 | W55: =IF(T55>1,VLOOKUP($T55,$CD$383:$CE$395,2,FALSE),0) -> 0 | Y55: =IF(X55>0,X55,IF(T55>1,1-((U55-((V55*W55)/(SQRT(T55))))/U55),VLOOKUP($E55,$CD$114:$DK$479,34,FALSE))) -> 0.05 | Z55: 0 | AA55: 0 | AB55: 0 | AC55: 0 | AD55: =($S55*Z55)/1000 -> 0 | AE55: =AD55*$CE$401 -> 0 | AF55: =IF(AD55>0,SQRT(($Y55*$Y55)+(AC55*AC55)),0) -> 0 | AG55: =(AE55*AF55)^2 -> 0 | AH55: 0 | AI55: 0 | AJ55: 0 | AK55: 0 | AL55: =($S55*AH55)/1000 -> 0 | AM55: =AL55*$CE$402 -> 0 | AN55: =IF(AL55>0,SQRT(($Y55*$Y55)+(AK55*AK55)),0) -> 0 | AO55: =(AM55*AN55)^2 -> 0 | AP55: 0 | AQ55: 0 | AR55: 0 | AS55: 0 | AT55: =($S55*AP55)/1000 -> 0 | AU55: =AT55*$CE$403 -> 0 | AV55: =IF(AT55>0,SQRT(($Y55*$Y55)+(AS55*AS55)),0) -> 0 | AW55: =(AU55*AV55)^2 -> 0 | AX55: =VLOOKUP($E55,$CD$114:$DH$479,3,FALSE) -> 0 | AY55: =VLOOKUP($E55,$CD$114:$DH$479,4,FALSE) -> 0 | AZ55: =IF($S55>0,VLOOKUP($E55,$CD$114:$DH$479,7,FALSE),0) -> 0 | BA55: =IF($S55>0,VLOOKUP($E55,$CD$114:$DH$479,6,FALSE),0) -> 0 | BB55: =($S55*AX55)/1000 -> 0 | BC55: =IF(BB55>0,SQRT(($Y55*$Y55)+(BA55*BA55)),0) -> 0 | BD55: =(BB55*BC55)^2 -> 0 | BE55: 0 | BF55: =VLOOKUP($E55,$CD$114:$DH$479,4,FALSE) -> 0 | BG55: =IF($S55>0,VLOOKUP($E55,$CD$114:$DH$479,7,FALSE),0) -> 0 | BH55: =IF($S55>0,VLOOKUP($E55,$CD$114:$DH$479,6,FALSE),0) -> 0 | BI55: =($S55*BE55)/1000 -> 0 | BJ55: =IF(BI55>0,SQRT(($Y55*$Y55)+(BH55*BH55)),0) -> 0 | BK55: =(BI55*BJ55)^2 -> 0 | BL55: 0 | BM55: 0 | BN55: 0 | BO55: 0 | BP55: =($S55*BL55)/1000 -> 0 | BQ55: =BP55*$CE$404 -> 0 | BR55: =IF(BP55>0,SQRT(($Y55*$Y55)+(BO55*BO55)),0) -> 0 | BS55: =(BQ55*BR55)^2 -> 0 | BT55: 0 | BU55: 0 | BV55: 0 | BW55: 0 | BX55: 0 | BY55: 0 | BZ55: =(BX55*BY55)^2 -> 0 | CA55: =IF(C55="EmisionesGEI",D55,AE55+AM55+AU55+BB55+BQ55) -> 0 | CB55: =IF(CA55>0,SQRT(AG55+AO55+AW55+BD55+BS55)/CA55,0) -> 0 | CC55: =(CA55*CB55)^2 -> 0
C56: DatosActividad | F56: =VLOOKUP($E56,$CD$114:$DH$479,2,FALSE) -> 0 | S56: =SUM(G56:R56) -> 0 | T56: =COUNT(G56:R56) -> 0 | U56: =IF(T56>1,AVERAGE(G56:R56),0) -> 0 | V56: =IF(T56>1,STDEV(G56:R56),0) -> 0 | W56: =IF(T56>1,VLOOKUP($T56,$CD$383:$CE$395,2,FALSE),0) -> 0 | Y56: =IF(X56>0,X56,IF(T56>1,1-((U56-((V56*W56)/(SQRT(T56))))/U56),VLOOKUP($E56,$CD$114:$DK$479,34,FALSE))) -> 0.05 | Z56: 0 | AA56: 0 | AB56: 0 | AC56: 0 | AD56: =($S56*Z56)/1000 -> 0 | AE56: =AD56*$CE$401 -> 0 | AF56: =IF(AD56>0,SQRT(($Y56*$Y56)+(AC56*AC56)),0) -> 0 | AG56: =(AE56*AF56)^2 -> 0 | AH56: 0 | AI56: 0 | AJ56: 0 | AK56: 0 | AL56: =($S56*AH56)/1000 -> 0 | AM56: =AL56*$CE$402 -> 0 | AN56: =IF(AL56>0,SQRT(($Y56*$Y56)+(AK56*AK56)),0) -> 0 | AO56: =(AM56*AN56)^2 -> 0 | AP56: 0 | AQ56: 0 | AR56: 0 | AS56: 0 | AT56: =($S56*AP56)/1000 -> 0 | AU56: =AT56*$CE$403 -> 0 | AV56: =IF(AT56>0,SQRT(($Y56*$Y56)+(AS56*AS56)),0) -> 0 | AW56: =(AU56*AV56)^2 -> 0 | AX56: =VLOOKUP($E56,$CD$114:$DH$479,3,FALSE) -> 0 | AY56: =VLOOKUP($E56,$CD$114:$DH$479,4,FALSE) -> 0 | AZ56: =IF($S56>0,VLOOKUP($E56,$CD$114:$DH$479,7,FALSE),0) -> 0 | BA56: =IF($S56>0,VLOOKUP($E56,$CD$114:$DH$479,6,FALSE),0) -> 0 | BB56: =($S56*AX56)/1000 -> 0 | BC56: =IF(BB56>0,SQRT(($Y56*$Y56)+(BA56*BA56)),0) -> 0 | BD56: =(BB56*BC56)^2 -> 0 | BE56: 0 | BF56: =VLOOKUP($E56,$CD$114:$DH$479,4,FALSE) -> 0 | BG56: =IF($S56>0,VLOOKUP($E56,$CD$114:$DH$479,7,FALSE),0) -> 0 | BH56: =IF($S56>0,VLOOKUP($E56,$CD$114:$DH$479,6,FALSE),0) -> 0 | BI56: =($S56*BE56)/1000 -> 0 | BJ56: =IF(BI56>0,SQRT(($Y56*$Y56)+(BH56*BH56)),0) -> 0 | BK56: =(BI56*BJ56)^2 -> 0 | BL56: 0 | BM56: 0 | BN56: 0 | BO56: 0 | BP56: =($S56*BL56)/1000 -> 0 | BQ56: =BP56*$CE$404 -> 0 | BR56: =IF(BP56>0,SQRT(($Y56*$Y56)+(BO56*BO56)),0) -> 0 | BS56: =(BQ56*BR56)^2 -> 0 | BT56: 0 | BU56: 0 | BV56: 0 | BW56: 0 | BX56: 0 | BY56: 0 | BZ56: =(BX56*BY56)^2 -> 0 | CA56: =IF(C56="EmisionesGEI",D56,AE56+AM56+AU56+BB56+BQ56) -> 0 | CB56: =IF(CA56>0,SQRT(AG56+AO56+AW56+BD56+BS56)/CA56,0) -> 0 | CC56: =(CA56*CB56)^2 -> 0
B57: Perdidas de PFC | C57: DatosActividad | F57: =VLOOKUP($E57,$CD$114:$DH$479,2,FALSE) -> 0 | S57: =SUM(G57:R57) -> 0 | T57: =COUNT(G57:R57) -> 0 | U57: =IF(T57>1,AVERAGE(G57:R57),0) -> 0 | V57: =IF(T57>1,STDEV(G57:R57),0) -> 0 | W57: =IF(T57>1,VLOOKUP($T57,$CD$383:$CE$395,2,FALSE),0) -> 0 | Y57: =IF(X57>0,X57,IF(T57>1,1-((U57-((V57*W57)/(SQRT(T57))))/U57),VLOOKUP($E57,$CD$114:$DK$479,34,FALSE))) -> 0.05 | Z57: 0 | AA57: 0 | AB57: 0 | AC57: 0 | AD57: =($S57*Z57)/1000 -> 0 | AE57: =AD57*$CE$401 -> 0 | AF57: =IF(AD57>0,SQRT(($Y57*$Y57)+(AC57*AC57)),0) -> 0 | AG57: =(AE57*AF57)^2 -> 0 | AH57: 0 | AI57: 0 | AJ57: 0 | AK57: 0 | AL57: =($S57*AH57)/1000 -> 0 | AM57: =AL57*$CE$402 -> 0 | AN57: =IF(AL57>0,SQRT(($Y57*$Y57)+(AK57*AK57)),0) -> 0 | AO57: =(AM57*AN57)^2 -> 0 | AP57: 0 | AQ57: 0 | AR57: 0 | AS57: 0 | AT57: =($S57*AP57)/1000 -> 0 | AU57: =AT57*$CE$403 -> 0 | AV57: =IF(AT57>0,SQRT(($Y57*$Y57)+(AS57*AS57)),0) -> 0 | AW57: =(AU57*AV57)^2 -> 0 | AX57: 0 | AY57: =VLOOKUP($E57,$CD$114:$DH$479,4,FALSE) -> 0 | AZ57: =IF($S57>0,VLOOKUP($E57,$CD$114:$DH$479,7,FALSE),0) -> 0 | BA57: =IF($S57>0,VLOOKUP($E57,$CD$114:$DH$479,6,FALSE),0) -> 0 | BB57: =($S57*AX57)/1000 -> 0 | BC57: =IF(BB57>0,SQRT(($Y57*$Y57)+(BA57*BA57)),0) -> 0 | BD57: =(BB57*BC57)^2 -> 0 | BE57: =VLOOKUP($E57,$CD$114:$DH$479,3,FALSE) -> 0 | BF57: =VLOOKUP($E57,$CD$114:$DH$479,4,FALSE) -> 0 | BG57: =IF($S57>0,VLOOKUP($E57,$CD$114:$DH$479,7,FALSE),0) -> 0 | BH57: =IF($S57>0,VLOOKUP($E57,$CD$114:$DH$479,6,FALSE),0) -> 0 | BI57: =($S57*BE57)/1000 -> 0 | BJ57: =IF(BI57>0,SQRT(($Y57*$Y57)+(BH57*BH57)),0) -> 0 | BK57: =(BI57*BJ57)^2 -> 0 | BL57: 0 | BM57: 0 | BN57: 0 | BO57: 0 | BP57: =($S57*BL57)/1000 -> 0 | BQ57: =BP57*$CE$404 -> 0 | BR57: =IF(BP57>0,SQRT(($Y57*$Y57)+(BO57*BO57)),0) -> 0 | BS57: =(BQ57*BR57)^2 -> 0 | BT57: 0 | BU57: 0 | BV57: 0 | BW57: 0 | BX57: 0 | BY57: 0 | BZ57: =(BX57*BY57)^2 -> 0 | CA57: =IF(C57="EmisionesGEI",D57,AE57+AM57+AU57+BB57+BQ57) -> 0 | CB57: =IF(CA57>0,SQRT(AG57+AO57+AW57+BD57+BS57)/CA57,0) -> 0 | CC57: =(CA57*CB57)^2 -> 0
B58: (Instalaciones, procesos) | C58: DatosActividad | F58: =VLOOKUP($E58,$CD$114:$DH$479,2,FALSE) -> 0 | S58: =SUM(G58:R58) -> 0 | T58: =COUNT(G58:R58) -> 0 | U58: =IF(T58>1,AVERAGE(G58:R58),0) -> 0 | V58: =IF(T58>1,STDEV(G58:R58),0) -> 0 | W58: =IF(T58>1,VLOOKUP($T58,$CD$383:$CE$395,2,FALSE),0) -> 0 | Y58: =IF(X58>0,X58,IF(T58>1,1-((U58-((V58*W58)/(SQRT(T58))))/U58),VLOOKUP($E58,$CD$114:$DK$479,34,FALSE))) -> 0.05 | Z58: 0 | AA58: 0 | AB58: 0 | AC58: 0 | AD58: =($S58*Z58)/1000 -> 0 | AE58: =AD58*$CE$401 -> 0 | AF58: =IF(AD58>0,SQRT(($Y58*$Y58)+(AC58*AC58)),0) -> 0 | AG58: =(AE58*AF58)^2 -> 0 | AH58: 0 | AI58: 0 | AJ58: 0 | AK58: 0 | AL58: =($S58*AH58)/1000 -> 0 | AM58: =AL58*$CE$402 -> 0 | AN58: =IF(AL58>0,SQRT(($Y58*$Y58)+(AK58*AK58)),0) -> 0 | AO58: =(AM58*AN58)^2 -> 0 | AP58: 0 | AQ58: 0 | AR58: 0 | AS58: 0 | AT58: =($S58*AP58)/1000 -> 0 | AU58: =AT58*$CE$403 -> 0 | AV58: =IF(AT58>0,SQRT(($Y58*$Y58)+(AS58*AS58)),0) -> 0 | AW58: =(AU58*AV58)^2 -> 0 | AX58: 0 | AY58: =VLOOKUP($E58,$CD$114:$DH$479,4,FALSE) -> 0 | AZ58: =IF($S58>0,VLOOKUP($E58,$CD$114:$DH$479,7,FALSE),0) -> 0 | BA58: =IF($S58>0,VLOOKUP($E58,$CD$114:$DH$479,6,FALSE),0) -> 0 | BB58: =($S58*AX58)/1000 -> 0 | BC58: =IF(BB58>0,SQRT(($Y58*$Y58)+(BA58*BA58)),0) -> 0 | BD58: =(BB58*BC58)^2 -> 0 | BE58: =VLOOKUP($E58,$CD$114:$DH$479,3,FALSE) -> 0 | BF58: =VLOOKUP($E58,$CD$114:$DH$479,4,FALSE) -> 0 | BG58: =IF($S58>0,VLOOKUP($E58,$CD$114:$DH$479,7,FALSE),0) -> 0 | BH58: =IF($S58>0,VLOOKUP($E58,$CD$114:$DH$479,6,FALSE),0) -> 0 | BI58: =($S58*BE58)/1000 -> 0 | BJ58: =IF(BI58>0,SQRT(($Y58*$Y58)+(BH58*BH58)),0) -> 0 | BK58: =(BI58*BJ58)^2 -> 0 | BL58: 0 | BM58: 0 | BN58: 0 | BO58: 0 | BP58: =($S58*BL58)/1000 -> 0 | BQ58: =BP58*$CE$404 -> 0 | BR58: =IF(BP58>0,SQRT(($Y58*$Y58)+(BO58*BO58)),0) -> 0 | BS58: =(BQ58*BR58)^2 -> 0 | BT58: 0 | BU58: 0 | BV58: 0 | BW58: 0 | BX58: 0 | BY58: 0 | BZ58: =(BX58*BY58)^2 -> 0 | CA58: =IF(C58="EmisionesGEI",D58,AE58+AM58+AU58+BB58+BQ58) -> 0 | CB58: =IF(CA58>0,SQRT(AG58+AO58+AW58+BD58+BS58)/CA58,0) -> 0 | CC58: =(CA58*CB58)^2 -> 0
B59: SUBTOTAL EMISIONES FUGITIVAS INSTALACIONES Y EDIFICIOS | AE59: =SUM(AE53:AE58) -> 0 | AF59: =IF(AE59>0,SQRT(SUM(AG53:AG58))/AE59,0) -> 0 | AG59: =(AE59*AF59)^2 -> 0 | AM59: =SUM(AM53:AM58) -> 0 | AN59: =IF(AM59>0,SQRT(SUM(AO53:AO58))/AM59,0) -> 0 | AO59: =(AM59*AN59)^2 -> 0 | AU59: =SUM(AU53:AU58) -> 0 | AV59: =IF(AU59>0,SQRT(SUM(AW53:AW58))/AU59,0) -> 0 | AW59: =(AU59*AV59)^2 -> 0 | BB59: =SUM(BB53:BB58) -> 0 | BC59: =IF(BB59>0,SQRT(SUM(BD53:BD58))/BB59,0) -> 0 | BD59: =(BB59*BC59)^2 -> 0 | BI59: =SUM(BI53:BI58) -> 0 | BJ59: =IF(BI59>0,SQRT(SUM(BK53:BK58))/BI59,0) -> 0 | BK59: =(BI59*BJ59)^2 -> 0 | BQ59: =SUM(BQ53:BQ58) -> 0 | BR59: =IF(BQ59>0,SQRT(SUM(BS53:BS58))/BQ59,0) -> 0 | BS59: =(BQ59*BR59)^2 -> 0 | BX59: =SUM(BX53:BX58) -> 0 | BY59: =IF(BX59>0,SQRT(SUM(BZ53:BZ58))/BX59,0) -> 0 | BZ59: =(BX59*BY59)^2 -> 0 | CA59: =SUM(CA53:CA58) -> 0 | CB59: =IF(CA59>0,SQRT(SUM(CC53:CC58))/CA59,0) -> 0 | CC59: =(CA59*CB59)^2 -> 0
B60: Perdidas de refrigerantes | C60: DatosActividad | F60: =VLOOKUP($E60,$CD$114:$DH$479,2,FALSE) -> 0 | S60: =SUM(G60:R60) -> 0 | T60: =COUNT(G60:R60) -> 0 | U60: =IF(T60>1,AVERAGE(G60:R60),0) -> 0 | V60: =IF(T60>1,STDEV(G60:R60),0) -> 0 | W60: =IF(T60>1,VLOOKUP($T60,$CD$383:$CE$395,2,FALSE),0) -> 0 | Y60: =IF(X60>0,X60,IF(T60>1,1-((U60-((V60*W60)/(SQRT(T60))))/U60),VLOOKUP($E60,$CD$114:$DK$479,34,FALSE))) -> 0.05 | Z60: 0 | AA60: 0 | AB60: 0 | AC60: 0 | AD60: =($S60*Z60)/1000 -> 0 | AE60: =AD60*$CE$401 -> 0 | AF60: =IF(AD60>0,SQRT(($Y60*$Y60)+(AC60*AC60)),0) -> 0 | AG60: =(AE60*AF60)^2 -> 0 | AH60: 0 | AI60: 0 | AJ60: 0 | AK60: 0 | AL60: =($S60*AH60)/1000 -> 0 | AM60: =AL60*$CE$402 -> 0 | AN60: =IF(AL60>0,SQRT(($Y60*$Y60)+(AK60*AK60)),0) -> 0 | AO60: =(AM60*AN60)^2 -> 0 | AP60: 0 | AQ60: =VLOOKUP($E60,$CD$114:$DH$479,28,FALSE) -> 0 | AR60: 0 | AS60: 0 | AT60: =($S60*AP60)/1000 -> 0 | AU60: =AT60*$CE$403 -> 0 | AV60: =IF(AT60>0,SQRT(($Y60*$Y60)+(AS60*AS60)),0) -> 0 | AW60: =(AU60*AV60)^2 -> 0 | AX60: =VLOOKUP($E60,$CD$114:$DH$479,3,FALSE) -> 0 | AY60: =VLOOKUP($E60,$CD$114:$DH$479,4,FALSE) -> 0 | AZ60: =IF($S60>0,VLOOKUP($E60,$CD$114:$DH$479,7,FALSE),0) -> 0 | BA60: =IF($S60>0,VLOOKUP($E60,$CD$114:$DH$479,6,FALSE),0) -> 0 | BB60: =($S60*AX60)/1000 -> 0 | BC60: =IF(BB60>0,SQRT(($Y60*$Y60)+(BA60*BA60)),0) -> 0 | BD60: =(BB60*BC60)^2 -> 0 | BE60: 0 | BF60: =VLOOKUP($E60,$CD$114:$DH$479,4,FALSE) -> 0 | BG60: =IF($S60>0,VLOOKUP($E60,$CD$114:$DH$479,7,FALSE),0) -> 0 | BH60: =IF($S60>0,VLOOKUP($E60,$CD$114:$DH$479,6,FALSE),0) -> 0 | BI60: =($S60*BE60)/1000 -> 0 | BJ60: =IF(BI60>0,SQRT(($Y60*$Y60)+(BH60*BH60)),0) -> 0 | BK60: =(BI60*BJ60)^2 -> 0 | BL60: 0 | BM60: 0 | BN60: 0 | BO60: 0 | BP60: =($S60*BL60)/1000 -> 0 | BQ60: =BP60*$CE$404 -> 0 | BR60: =IF(BP60>0,SQRT(($Y60*$Y60)+(BO60*BO60)),0) -> 0 | BS60: =(BQ60*BR60)^2 -> 0 | BT60: 0 | BU60: 0 | BV60: 0 | BW60: 0 | BX60: 0 | BY60: 0 | BZ60: =(BX60*BY60)^2 -> 0 | CA60: =IF(C60="EmisionesGEI",D60,AE60+AM60+AU60+BB60+BQ60) -> 0 | CB60: =IF(CA60>0,SQRT(AG60+AO60+AW60+BD60+BS60)/CA60,0) -> 0 | CC60: =(CA60*CB60)^2 -> 0
B61: (Fuentes Móviles) | C61: DatosActividad | F61: =VLOOKUP($E61,$CD$114:$DH$479,2,FALSE) -> 0 | S61: =SUM(G61:R61) -> 0 | T61: =COUNT(G61:R61) -> 0 | U61: =IF(T61>1,AVERAGE(G61:R61),0) -> 0 | V61: =IF(T61>1,STDEV(G61:R61),0) -> 0 | W61: =IF(T61>1,VLOOKUP($T61,$CD$383:$CE$395,2,FALSE),0) -> 0 | Y61: =IF(X61>0,X61,IF(T61>1,1-((U61-((V61*W61)/(SQRT(T61))))/U61),VLOOKUP($E61,$CD$114:$DK$479,34,FALSE))) -> 0.05 | Z61: 0 | AA61: 0 | AB61: 0 | AC61: 0 | AD61: =($S61*Z61)/1000 -> 0 | AE61: =AD61*$CE$401 -> 0 | AF61: =IF(AD61>0,SQRT(($Y61*$Y61)+(AC61*AC61)),0) -> 0 | AG61: =(AE61*AF61)^2 -> 0 | AH61: 0 | AI61: 0 | AJ61: 0 | AK61: 0 | AL61: =($S61*AH61)/1000 -> 0 | AM61: =AL61*$CE$402 -> 0 | AN61: =IF(AL61>0,SQRT(($Y61*$Y61)+(AK61*AK61)),0) -> 0 | AO61: =(AM61*AN61)^2 -> 0 | AP61: 0 | AQ61: 0 | AR61: 0 | AS61: 0 | AT61: =($S61*AP61)/1000 -> 0 | AU61: =AT61*$CE$403 -> 0 | AV61: =IF(AT61>0,SQRT(($Y61*$Y61)+(AS61*AS61)),0) -> 0 | AW61: =(AU61*AV61)^2 -> 0 | AX61: =VLOOKUP($E61,$CD$114:$DH$479,3,FALSE) -> 0 | AY61: =VLOOKUP($E61,$CD$114:$DH$479,4,FALSE) -> 0 | AZ61: =IF($S61>0,VLOOKUP($E61,$CD$114:$DH$479,7,FALSE),0) -> 0 | BA61: =IF($S61>0,VLOOKUP($E61,$CD$114:$DH$479,6,FALSE),0) -> 0 | BB61: =($S61*AX61)/1000 -> 0 | BC61: =IF(BB61>0,SQRT(($Y61*$Y61)+(BA61*BA61)),0) -> 0 | BD61: =(BB61*BC61)^2 -> 0 | BE61: 0 | BF61: =VLOOKUP($E61,$CD$114:$DH$479,4,FALSE) -> 0 | BG61: =IF($S61>0,VLOOKUP($E61,$CD$114:$DH$479,7,FALSE),0) -> 0 | BH61: =IF($S61>0,VLOOKUP($E61,$CD$114:$DH$479,6,FALSE),0) -> 0 | BI61: =($S61*BE61)/1000 -> 0 | BJ61: =IF(BI61>0,SQRT(($Y61*$Y61)+(BH61*BH61)),0) -> 0 | BK61: =(BI61*BJ61)^2 -> 0 | BL61: 0 | BM61: 0 | BN61: 0 | BO61: 0 | BP61: =($S61*BL61)/1000 -> 0 | BQ61: =BP61*$CE$404 -> 0 | BR61: =IF(BP61>0,SQRT(($Y61*$Y61)+(BO61*BO61)),0) -> 0 | BS61: =(BQ61*BR61)^2 -> 0 | BT61: 0 | BU61: 0 | BV61: 0 | BW61: 0 | BX61: 0 | BY61: 0 | BZ61: =(BX61*BY61)^2 -> 0 | CA61: =IF(C61="EmisionesGEI",D61,AE61+AM61+AU61+BB61+BQ61) -> 0 | CB61: =IF(CA61>0,SQRT(AG61+AO61+AW61+BD61+BS61)/CA61,0) -> 0 | CC61: =(CA61*CB61)^2 -> 0
C62: DatosActividad | F62: =VLOOKUP($E62,$CD$114:$DH$479,2,FALSE) -> 0 | S62: =SUM(G62:R62) -> 0 | T62: =COUNT(G62:R62) -> 0 | U62: =IF(T62>1,AVERAGE(G62:R62),0) -> 0 | V62: =IF(T62>1,STDEV(G62:R62),0) -> 0 | W62: =IF(T62>1,VLOOKUP($T62,$CD$383:$CE$395,2,FALSE),0) -> 0 | Y62: =IF(X62>0,X62,IF(T62>1,1-((U62-((V62*W62)/(SQRT(T62))))/U62),VLOOKUP($E62,$CD$114:$DK$479,34,FALSE))) -> 0.05 | Z62: 0 | AA62: 0 | AB62: 0 | AC62: 0 | AD62: =($S62*Z62)/1000 -> 0 | AE62: =AD62*$CE$401 -> 0 | AF62: =IF(AD62>0,SQRT(($Y62*$Y62)+(AC62*AC62)),0) -> 0 | AG62: =(AE62*AF62)^2 -> 0 | AH62: 0 | AI62: 0 | AJ62: 0 | AK62: 0 | AL62: =($S62*AH62)/1000 -> 0 | AM62: =AL62*$CE$402 -> 0 | AN62: =IF(AL62>0,SQRT(($Y62*$Y62)+(AK62*AK62)),0) -> 0 | AO62: =(AM62*AN62)^2 -> 0 | AP62: 0 | AQ62: 0 | AR62: 0 | AS62: 0 | AT62: =($S62*AP62)/1000 -> 0 | AU62: =AT62*$CE$403 -> 0 | AV62: =IF(AT62>0,SQRT(($Y62*$Y62)+(AS62*AS62)),0) -> 0 | AW62: =(AU62*AV62)^2 -> 0 | AX62: =VLOOKUP($E62,$CD$114:$DH$479,3,FALSE) -> 0 | AY62: =VLOOKUP($E62,$CD$114:$DH$479,4,FALSE) -> 0 | AZ62: =IF($S62>0,VLOOKUP($E62,$CD$114:$DH$479,7,FALSE),0) -> 0 | BA62: =IF($S62>0,VLOOKUP($E62,$CD$114:$DH$479,6,FALSE),0) -> 0 | BB62: =($S62*AX62)/1000 -> 0 | BC62: =IF(BB62>0,SQRT(($Y62*$Y62)+(BA62*BA62)),0) -> 0 | BD62: =(BB62*BC62)^2 -> 0 | BE62: 0 | BF62: =VLOOKUP($E62,$CD$114:$DH$479,4,FALSE) -> 0 | BG62: =IF($S62>0,VLOOKUP($E62,$CD$114:$DH$479,7,FALSE),0) -> 0 | BH62: =IF($S62>0,VLOOKUP($E62,$CD$114:$DH$479,6,FALSE),0) -> 0 | BI62: =($S62*BE62)/1000 -> 0 | BJ62: =IF(BI62>0,SQRT(($Y62*$Y62)+(BH62*BH62)),0) -> 0 | BK62: =(BI62*BJ62)^2 -> 0 | BL62: 0 | BM62: 0 | BN62: 0 | BO62: 0 | BP62: =($S62*BL62)/1000 -> 0 | BQ62: =BP62*$CE$404 -> 0 | BR62: =IF(BP62>0,SQRT(($Y62*$Y62)+(BO62*BO62)),0) -> 0 | BS62: =(BQ62*BR62)^2 -> 0 | BT62: 0 | BU62: 0 | BV62: 0 | BW62: 0 | BX62: 0 | BY62: 0 | BZ62: =(BX62*BY62)^2 -> 0 | CA62: =IF(C62="EmisionesGEI",D62,AE62+AM62+AU62+BB62+BQ62) -> 0 | CB62: =IF(CA62>0,SQRT(AG62+AO62+AW62+BD62+BS62)/CA62,0) -> 0 | CC62: =(CA62*CB62)^2 -> 0
C63: DatosActividad
B64: SUBTOTAL EMISIONES FUGITIVAS FUENTES MOVILES | AE64: =SUM(AE60:AE63) -> 0 | AF64: =IF(AE64>0,SQRT(SUM(AG60:AG63))/AE64,0) -> 0 | AG64: =(AE64*AF64)^2 -> 0 | AM64: =SUM(AM60:AM63) -> 0 | AN64: =IF(AM64>0,SQRT(SUM(AO60:AO63))/AM64,0) -> 0 | AO64: =(AM64*AN64)^2 -> 0 | AU64: =SUM(AU60:AU63) -> 0 | AV64: =IF(AU64>0,SQRT(SUM(AW60:AW63))/AU64,0) -> 0 | AW64: =(AU64*AV64)^2 -> 0 | BB64: =SUM(BB60:BB63) -> 0 | BC64: =IF(BB64>0,SQRT(SUM(BD60:BD63))/BB64,0) -> 0 | BD64: =(BB64*BC64)^2 -> 0 | BI64: =SUM(BI60:BI63) -> 0 | BJ64: =IF(BI64>0,SQRT(SUM(BK60:BK63))/BI64,0) -> 0 | BK64: =(BI64*BJ64)^2 -> 0 | BQ64: =SUM(BQ60:BQ63) -> 0 | BR64: =IF(BQ64>0,SQRT(SUM(BS60:BS63))/BQ64,0) -> 0 | BS64: =(BQ64*BR64)^2 -> 0 | BX64: =SUM(BX60:BX63) -> 0 | BY64: =IF(BX64>0,SQRT(SUM(BZ60:BZ63))/BX64,0) -> 0 | BZ64: =(BX64*BY64)^2 -> 0 | CA64: =SUM(CA60:CA63) -> 0 | CB64: =IF(CA64>0,SQRT(SUM(CC60:CC63))/CA64,0) -> 0 | CC64: =(CA64*CB64)^2 -> 0
B65: Manejo de embalses | F65: =VLOOKUP($E65,$CD$139:$DH$504,2,FALSE) -> 0 | S65: =SUM(G65:R65) -> 0 | T65: =COUNT(G65:R65) -> 0 | U65: =IF(T65>1,AVERAGE(G65:R65),0) -> 0 | V65: =IF(T65>1,STDEV(G65:R65),0) -> 0 | W65: =IF(T65>1,VLOOKUP($T65,$CD$408:$CE$420,2,FALSE),0) -> 0 | Y65: =IF(X65>0,X65,IF(T65>1,1-((U65-((V65*W65)/(SQRT(T65))))/U65),VLOOKUP($E65,$CD$139:$DK$504,34,FALSE))) -> 0.05 | Z65: 0 | AA65: 0 | AB65: 0 | AC65: 0 | AD65: =($S65*Z65)/1000 -> 0 | AE65: =AD65*$CE$426 -> 0 | AF65: =IF(AD65>0,SQRT(($Y65*$Y65)+(AC65*AC65)),0) -> 0 | AG65: =IF(AE65>0,SQRT(($Y65*$Y65)+(AD65*AD65)),0) -> 0 | AH65: =VLOOKUP($E65,$CD$139:$DH$504,3,FALSE) -> 0 | AI65: =VLOOKUP($E65,$CD$139:$DH$504,4,FALSE) -> 0 | AJ65: =IF($S65>0,VLOOKUP($E65,$CD$139:$DH$504,7,FALSE),0) -> 0 | AK65: =IF($S65>0,VLOOKUP($E65,$CD$139:$DH$504,6,FALSE),0) -> 0 | AL65: =($S65*AH65)/1000 -> 0 | AM65: =AL65*$CE$427 -> 0 | AN65: =IF(AL65>0,SQRT(($Y65*$Y65)+(AK65*AK65)),0) -> 0 | AO65: =(AM65*AN65)^2 -> 0 | AP65: 0 | AQ65: 0 | AR65: 0 | AS65: 0 | AT65: =($S65*AP65)/1000 -> 0 | AU65: =AT65*$CE$428 -> 0 | AV65: =IF(AT65>0,SQRT(($Y65*$Y65)+(AS65*AS65)),0) -> 0 | AW65: =IF(AU65>0,SQRT(($Y65*$Y65)+(AT65*AT65)),0) -> 0 | AX65: 0 | AY65: 0 | AZ65: 0 | BA65: 0 | BB65: 0 | BC65: =IF(BB65>0,SQRT(($Y65*$Y65)+(BA65*BA65)),0) -> 0 | BD65: =(BB65*BC65)^2 -> 0 | BE65: 0 | BF65: 0 | BG65: 0 | BH65: 0 | BI65: 0 | BJ65: =IF(BI65>0,SQRT(($Y65*$Y65)+(BH65*BH65)),0) -> 0 | BK65: =(BI65*BJ65)^2 -> 0 | BL65: 0 | BM65: 0 | BN65: 0 | BO65: 0 | BP65: =($S65*BL65)/1000 -> 0 | BQ65: =BP65*$CE$429 -> 0 | BR65: =IF(BP65>0,SQRT(($Y65*$Y65)+(BO65*BO65)),0) -> 0 | BS65: =(BQ65*BR65)^2 -> 0 | BT65: 0 | BU65: 0 | BV65: 0 | BW65: 0 | BX65: 0 | BY65: 0 | BZ65: =(BX65*BY65)^2 -> 0 | CA65: =IF(C65="EmisionesGEI",D65,AE65+AM65+AU65+BB65+BQ65) -> 0 | CB65: =IF(CA65>0,SQRT(AG65+AO65+AW65+BD65+BS65)/CA65,0) -> 0 | CC65: =(CA65*CB65)^2 -> 0
B66: Pérdidas de CO2 en proceso | F66: =VLOOKUP($E66,$CD$139:$DH$504,2,FALSE) -> 0 | S66: =SUM(G66:R66) -> 0 | T66: =COUNT(G66:R66) -> 0 | U66: =IF(T66>1,AVERAGE(G66:R66),0) -> 0 | V66: =IF(T66>1,STDEV(G66:R66),0) -> 0 | W66: =IF(T66>1,VLOOKUP($T66,$CD$408:$CE$420,2,FALSE),0) -> 0 | Y66: =IF(X66>0,X66,IF(T66>1,1-((U66-((V66*W66)/(SQRT(T66))))/U66),VLOOKUP($E66,$CD$139:$DK$504,34,FALSE))) -> 0.05 | Z66: =VLOOKUP($E66,$CD$139:$DH$504,3,FALSE) -> 0 | AA66: =VLOOKUP($E66,$CD$139:$DH$504,4,FALSE) -> 0 | AB66: =IF($S66>0,VLOOKUP($E66,$CD$139:$DH$504,7,FALSE),0) -> 0 | AC66: =IF($S66>0,VLOOKUP($E66,$CD$139:$DH$504,6,FALSE),0) -> 0 | AD66: =($S66*Z66)/1000 -> 0 | AE66: =AD66*$CE$426 -> 0 | AF66: =IF(AD66>0,SQRT(($Y66*$Y66)+(AC66*AC66)),0) -> 0 | AG66: =(AE66*AF66)^2 -> 0 | AH66: 0 | AI66: 0 | AJ66: 0 | AK66: 0 | AL66: =($S66*AH66)/1000 -> 0 | AM66: =AL66*$CE$427 -> 0 | AN66: =IF(AL66>0,SQRT(($Y66*$Y66)+(AK66*AK66)),0) -> 0 | AO66: =(AM66*AN66)^2 -> 0 | AP66: 0 | AQ66: 0 | AR66: 0 | AS66: 0 | AT66: =($S66*AP66)/1000 -> 0 | AU66: =AT66*$CE$428 -> 0 | AV66: =IF(AT66>0,SQRT(($Y66*$Y66)+(AS66*AS66)),0) -> 0 | AW66: =(AU66*AV66)^2 -> 0 | AX66: 0 | AY66: 0 | AZ66: 0 | BA66: 0 | BB66: =($S66*AX66)/1000 -> 0 | BC66: =IF(BB66>0,SQRT(($Y66*$Y66)+(BA66*BA66)),0) -> 0 | BD66: =(BB66*BC66)^2 -> 0 | BE66: 0 | BF66: 0 | BG66: 0 | BH66: 0 | BI66: =($S66*BE66)/1000 -> 0 | BJ66: =IF(BI66>0,SQRT(($Y66*$Y66)+(BH66*BH66)),0) -> 0 | BK66: =(BI66*BJ66)^2 -> 0 | BL66: 0 | BM66: 0 | BN66: 0 | BO66: 0 | BP66: =($S66*BL66)/1000 -> 0 | BQ66: =BP66*$CE$429 -> 0 | BR66: =IF(BP66>0,SQRT(($Y66*$Y66)+(BO66*BO66)),0) -> 0 | BS66: =(BQ66*BR66)^2 -> 0 | BT66: 0 | BU66: 0 | BV66: 0 | BW66: 0 | BX66: 0 | BY66: 0 | BZ66: =(BX66*BY66)^2 -> 0 | CA66: =IF(C66="EmisionesGEI",D66,AE66+AM66+AU66+BB66+BQ66) -> 0 | CB66: =IF(CA66>0,SQRT(AG66+AO66+AW66+BD66+BS66)/CA66,0) -> 0 | CC66: =(CA66*CB66)^2 -> 0
B67: Consumo de aislante eléctrico | F67: =VLOOKUP($E67,$CD$139:$DH$504,2,FALSE) -> 0 | S67: =SUM(G67:R67) -> 0 | T67: =COUNT(G67:R67) -> 0 | U67: =IF(T67>1,AVERAGE(G67:R67),0) -> 0 | V67: =IF(T67>1,STDEV(G67:R67),0) -> 0 | W67: =IF(T67>1,VLOOKUP($T67,$CD$408:$CE$420,2,FALSE),0) -> 0 | Y67: =IF(X67>0,X67,IF(T67>1,1-((U67-((V67*W67)/(SQRT(T67))))/U67),VLOOKUP($E67,$CD$139:$DK$504,34,FALSE))) -> 0.05 | Z67: 0 | AA67: 0 | AB67: 0 | AC67: 0 | AD67: =($S67*Z67)/1000 -> 0 | AE67: =AD67*$CE$426 -> 0 | AF67: =IF(AD67>0,SQRT(($Y67*$Y67)+(AC67*AC67)),0) -> 0 | AG67: =(AE67*AF67)^2 -> 0 | AH67: 0 | AI67: 0 | AJ67: 0 | AK67: 0 | AL67: =($S67*AH67)/1000 -> 0 | AM67: =AL67*$CE$427 -> 0 | AN67: =IF(AL67>0,SQRT(($Y67*$Y67)+(AK67*AK67)),0) -> 0 | AO67: =(AM67*AN67)^2 -> 0 | AP67: 0 | AQ67: 0 | AR67: 0 | AS67: 0 | AT67: =($S67*AP67)/1000 -> 0 | AU67: =AT67*$CE$428 -> 0 | AV67: =IF(AT67>0,SQRT(($Y67*$Y67)+(AS67*AS67)),0) -> 0 | AW67: =(AU67*AV67)^2 -> 0 | AX67: 0 | AY67: 0 | AZ67: 0 | BA67: 0 | BB67: =($S67*AX67)/1000 -> 0 | BC67: =IF(BB67>0,SQRT(($Y67*$Y67)+(BA67*BA67)),0) -> 0 | BD67: =(BB67*BC67)^2 -> 0 | BE67: 0 | BF67: 0 | BG67: 0 | BH67: 0 | BI67: =($S67*BE67)/1000 -> 0 | BJ67: =IF(BI67>0,SQRT(($Y67*$Y67)+(BH67*BH67)),0) -> 0 | BK67: =(BI67*BJ67)^2 -> 0 | BL67: =VLOOKUP($E67,$CD$139:$DH$504,3,FALSE) -> 0 | BM67: =VLOOKUP($E67,$CD$139:$DH$504,4,FALSE) -> 0 | BN67: =IF($S67>0,VLOOKUP($E67,$CD$139:$DH$504,7,FALSE),0) -> 0 | BO67: =IF($S67>0,VLOOKUP($E67,$CD$139:$DH$504,6,FALSE),0) -> 0 | BP67: =($S67*BL67)/1000 -> 0 | BQ67: =BP67 -> 0 | BR67: =IF(BP67>0,SQRT(($Y67*$Y67)+(BO67*BO67)),0) -> 0 | BS67: =(BQ67*BR67)^2 -> 0 | BT67: 0 | BU67: 0 | BV67: 0 | BW67: 0 | BX67: 0 | BY67: 0 | BZ67: =(BX67*BY67)^2 -> 0 | CA67: =IF(C67="EmisionesGEI",D67,AE67+AM67+AU67+BB67+BQ67) -> 0 | CB67: =IF(CA67>0,SQRT(AG67+AO67+AW67+BD67+BS67)/CA67,0) -> 0 | CC67: =(CA67*CB67)^2 -> 0
B68: Tratamiento y Descarga de Aguas Residuales | F68: =VLOOKUP($E68,$CD$139:$DH$504,2,FALSE) -> 0 | S68: =SUM(G68:R68) -> 0 | T68: =COUNT(G68:R68) -> 0 | U68: =IF(T68>1,AVERAGE(G68:R68),0) -> 0 | V68: =IF(T68>1,STDEV(G68:R68),0) -> 0 | W68: =IF(T68>1,VLOOKUP($T68,$CD$408:$CE$420,2,FALSE),0) -> 0 | Y68: =IF(X68>0,X68,IF(T68>1,1-((U68-((V68*W68)/(SQRT(T68))))/U68),VLOOKUP($E68,$CD$139:$DK$504,34,FALSE))) -> 0.05 | Z68: 0 | AA68: 0 | AB68: 0 | AC68: 0 | AD68: =($S68*Z68)/1000 -> 0 | AE68: =AD68*$CE$426 -> 0 | AF68: =IF(AD68>0,SQRT(($Y68*$Y68)+(AC68*AC68)),0) -> 0 | AG68: =(AE68*AF68)^2 -> 0 | AH68: =VLOOKUP($E68,$CD$139:$DH$504,3,FALSE) -> 0 | AI68: =VLOOKUP($E68,$CD$139:$DH$504,4,FALSE) -> 0 | AJ68: =IF($S68>0,VLOOKUP($E68,$CD$139:$DH$504,7,FALSE),0) -> 0 | AK68: =IF($S68>0,VLOOKUP($E68,$CD$139:$DH$504,6,FALSE),0) -> 0 | AL68: =($S68*AH68)/1000 -> 0 | AM68: =AL68*$CE$427 -> 0 | AN68: =IF(AL68>0,SQRT(($Y68*$Y68)+(AK68*AK68)),0) -> 0 | AO68: =(AM68*AN68)^2 -> 0 | AP68: =VLOOKUP($E68,$CD$139:$DH$504,9,FALSE) -> 0 | AQ68: =VLOOKUP($E68,$CD$139:$DH$504,10,FALSE) -> 0 | AR68: =IF($S68>0,VLOOKUP($E68,$CD$139:$DH$504,13,FALSE),0) -> 0 | AS68: =IF($S68>0,VLOOKUP($E68,$CD$139:$DH$504,12,FALSE),0) -> 0 | AT68: =($S68*AP68)/1000 -> 0 | AU68: =AT68*$CE$428 -> 0 | AV68: =IF(AT68>0,SQRT(($Y68*$Y68)+(AS68*AS68)),0) -> 0 | AW68: =(AU68*AV68)^2 -> 0 | AX68: 0 | AY68: 0 | AZ68: 0 | BA68: 0 | BB68: 0 | BC68: 0 | BD68: =(BB68*BC68)^2 -> 0 | BE68: 0 | BF68: 0 | BG68: 0 | BH68: 0 | BI68: 0 | BJ68: 0 | BK68: =(BI68*BJ68)^2 -> 0 | BL68: 0 | BM68: 0 | BN68: 0 | BO68: 0 | BP68: =($S68*BL68)/1000 -> 0 | BQ68: =BP68*$CE$429 -> 0 | BR68: =IF(BP68>0,SQRT(($Y68*$Y68)+(BO68*BO68)),0) -> 0 | BS68: =(BQ68*BR68)^2 -> 0 | BT68: 0 | BU68: 0 | BV68: 0 | BW68: 0 | BX68: 0 | BY68: 0 | BZ68: =(BX68*BY68)^2 -> 0 | CA68: =IF(C68="EmisionesGEI",D68,AE68+AM68+AU68+BB68+BQ68) -> 0 | CB68: =IF(CA68>0,SQRT(AG68+AO68+AW68+BD68+BS68)/CA68,0) -> 0 | CC68: =(CA68*CB68)^2 -> 0
F69: =VLOOKUP($E69,$CD$139:$DH$504,2,FALSE) -> 0 | S69: =SUM(G69:R69) -> 0 | T69: =COUNT(G69:R69) -> 0 | U69: =IF(T69>1,AVERAGE(G69:R69),0) -> 0 | V69: =IF(T69>1,STDEV(G69:R69),0) -> 0 | W69: =IF(T69>1,VLOOKUP($T69,$CD$408:$CE$420,2,FALSE),0) -> 0 | Y69: =IF(X69>0,X69,IF(T69>1,1-((U69-((V69*W69)/(SQRT(T69))))/U69),VLOOKUP($E69,$CD$139:$DK$504,34,FALSE))) -> 0.05 | Z69: 0 | AA69: 0 | AB69: 0 | AC69: 0 | AD69: =($S69*Z69)/1000 -> 0 | AE69: =AD69*$CE$426 -> 0 | AF69: =IF(AD69>0,SQRT(($Y69*$Y69)+(AC69*AC69)),0) -> 0 | AG69: =(AE69*AF69)^2 -> 0 | AH69: =VLOOKUP($E69,$CD$139:$DH$504,3,FALSE) -> 0 | AI69: =VLOOKUP($E69,$CD$139:$DH$504,4,FALSE) -> 0 | AJ69: =IF($S69>0,VLOOKUP($E69,$CD$139:$DH$504,7,FALSE),0) -> 0 | AK69: =IF($S69>0,VLOOKUP($E69,$CD$139:$DH$504,6,FALSE),0) -> 0 | AL69: =($S69*AH69)/1000 -> 0 | AM69: =AL69*$CE$427 -> 0 | AN69: =IF(AL69>0,SQRT(($Y69*$Y69)+(AK69*AK69)),0) -> 0 | AO69: =(AM69*AN69)^2 -> 0 | AP69: =VLOOKUP($E69,$CD$139:$DH$504,9,FALSE) -> 0 | AQ69: =VLOOKUP($E69,$CD$139:$DH$504,10,FALSE) -> 0 | AR69: =IF($S69>0,VLOOKUP($E69,$CD$139:$DH$504,13,FALSE),0) -> 0 | AS69: =IF($S69>0,VLOOKUP($E69,$CD$139:$DH$504,12,FALSE),0) -> 0 | AT69: =($S69*AP69)/1000 -> 0 | AU69: =AT69*$CE$428 -> 0 | AV69: =IF(AT69>0,SQRT(($Y69*$Y69)+(AS69*AS69)),0) -> 0 | AW69: =(AU69*AV69)^2 -> 0 | AX69: 0 | AY69: 0 | AZ69: 0 | BA69: 0 | BB69: 0 | BC69: 0 | BD69: =(BB69*BC69)^2 -> 0 | BE69: 0 | BF69: 0 | BG69: 0 | BH69: 0 | BI69: 0 | BJ69: 0 | BK69: =(BI69*BJ69)^2 -> 0 | BL69: 0 | BM69: 0 | BN69: 0 | BO69: 0 | BP69: =($S69*BL69)/1000 -> 0 | BQ69: =BP69*$CE$429 -> 0 | BR69: =IF(BP69>0,SQRT(($Y69*$Y69)+(BO69*BO69)),0) -> 0 | BS69: =(BQ69*BR69)^2 -> 0 | BT69: 0 | BU69: 0 | BV69: 0 | BW69: 0 | BX69: 0 | BY69: 0 | BZ69: =(BX69*BY69)^2 -> 0 | CA69: =IF(C69="EmisionesGEI",D69,AE69+AM69+AU69+BB69+BQ69) -> 0 | CB69: =IF(CA69>0,SQRT(AG69+AO69+AW69+BD69+BS69)/CA69,0) -> 0 | CC69: =(CA69*CB69)^2 -> 0
B70: Desechos Sólidos | F70: =VLOOKUP($E70,$CD$139:$DH$504,2,FALSE) -> 0 | S70: =SUM(G70:R70) -> 0 | T70: =COUNT(G70:R70) -> 0 | U70: =IF(T70>1,AVERAGE(G70:R70),0) -> 0 | V70: =IF(T70>1,STDEV(G70:R70),0) -> 0 | W70: =IF(T70>1,VLOOKUP($T70,$CD$408:$CE$420,2,FALSE),0) -> 0 | Y70: =IF(X70>0,X70,IF(T70>1,1-((U70-((V70*W70)/(SQRT(T70))))/U70),VLOOKUP($E70,$CD$139:$DK$504,34,FALSE))) -> 0.05 | Z70: 0 | AA70: 0 | AB70: 0 | AC70: 0 | AD70: =($S70*Z70)/1000 -> 0 | AE70: =AD70*$CE$426 -> 0 | AF70: =IF(AD70>0,SQRT(($Y70*$Y70)+(AC70*AC70)),0) -> 0 | AG70: =(AE70*AF70)^2 -> 0 | AH70: =VLOOKUP($E70,$CD$139:$DH$504,3,FALSE) -> 0 | AI70: =VLOOKUP($E70,$CD$139:$DH$504,4,FALSE) -> 0 | AJ70: =IF($S70>0,VLOOKUP($E70,$CD$139:$DH$504,7,FALSE),0) -> 0 | AK70: =IF($S70>0,VLOOKUP($E70,$CD$139:$DH$504,6,FALSE),0) -> 0 | AL70: =($S70*AH70)/1000 -> 0 | AM70: =AL70*$CE$427 -> 0 | AN70: =IF(AL70>0,SQRT(($Y70*$Y70)+(AK70*AK70)),0) -> 0 | AO70: =(AM70*AN70)^2 -> 0 | AP70: =VLOOKUP($E70,$CD$139:$DH$504,9,FALSE) -> 0 | AQ70: =VLOOKUP($E70,$CD$139:$DH$504,10,FALSE) -> 0 | AR70: =IF($S70>0,VLOOKUP($E70,$CD$139:$DH$504,13,FALSE),0) -> 0 | AS70: =IF($S70>0,VLOOKUP($E70,$CD$139:$DH$504,12,FALSE),0) -> 0 | AT70: =($S70*AP70)/1000 -> 0 | AU70: =AT70*$CE$428 -> 0 | AV70: =IF(AT70>0,SQRT(($Y70*$Y70)+(AS70*AS70)),0) -> 0 | AW70: =(AU70*AV70)^2 -> 0 | AX70: 0 | AY70: 0 | AZ70: 0 | BA70: 0 | BB70: 0 | BC70: 0 | BD70: =(BB70*BC70)^2 -> 0 | BE70: 0 | BF70: 0 | BG70: 0 | BH70: 0 | BI70: 0 | BJ70: 0 | BK70: =(BI70*BJ70)^2 -> 0 | BL70: 0 | BM70: 0 | BN70: 0 | BO70: 0 | BP70: =($S70*BL70)/1000 -> 0 | BQ70: =BP70*$CE$429 -> 0 | BR70: =IF(BP70>0,SQRT(($Y70*$Y70)+(BO70*BO70)),0) -> 0 | BS70: =(BQ70*BR70)^2 -> 0 | BT70: 0 | BU70: 0 | BV70: 0 | BW70: 0 | BX70: 0 | BY70: 0 | BZ70: =(BX70*BY70)^2 -> 0 | CA70: =IF(C70="EmisionesGEI",D70,AE70+AM70+AU70+BB70+BQ70) -> 0 | CB70: =IF(CA70>0,SQRT(AG70+AO70+AW70+BD70+BS70)/CA70,0) -> 0 | CC70: =(CA70*CB70)^2 -> 0
F71: =VLOOKUP($E71,$CD$139:$DH$504,2,FALSE) -> 0 | S71: =SUM(G71:R71) -> 0 | T71: =COUNT(G71:R71) -> 0 | U71: =IF(T71>1,AVERAGE(G71:R71),0) -> 0 | V71: =IF(T71>1,STDEV(G71:R71),0) -> 0 | W71: =IF(T71>1,VLOOKUP($T71,$CD$408:$CE$420,2,FALSE),0) -> 0 | Y71: =IF(X71>0,X71,IF(T71>1,1-((U71-((V71*W71)/(SQRT(T71))))/U71),VLOOKUP($E71,$CD$139:$DK$504,34,FALSE))) -> 0.05 | Z71: 0 | AA71: 0 | AB71: 0 | AC71: 0 | AD71: =($S71*Z71)/1000 -> 0 | AE71: =AD71*$CE$426 -> 0 | AF71: =IF(AD71>0,SQRT(($Y71*$Y71)+(AC71*AC71)),0) -> 0 | AG71: =(AE71*AF71)^2 -> 0 | AH71: =VLOOKUP($E71,$CD$139:$DH$504,3,FALSE) -> 0 | AI71: =VLOOKUP($E71,$CD$139:$DH$504,4,FALSE) -> 0 | AJ71: =IF($S71>0,VLOOKUP($E71,$CD$139:$DH$504,7,FALSE),0) -> 0 | AK71: =IF($S71>0,VLOOKUP($E71,$CD$139:$DH$504,6,FALSE),0) -> 0 | AL71: =($S71*AH71)/1000 -> 0 | AM71: =AL71*$CE$427 -> 0 | AN71: =IF(AL71>0,SQRT(($Y71*$Y71)+(AK71*AK71)),0) -> 0 | AO71: =(AM71*AN71)^2 -> 0 | AP71: 0 | AQ71: 0 | AR71: 0 | AS71: 0 | AT71: =($S71*AP71)/1000 -> 0 | AU71: =AT71*$CE$428 -> 0 | AV71: =IF(AT71>0,SQRT(($Y71*$Y71)+(AS71*AS71)),0) -> 0 | AW71: =(AU71*AV71)^2 -> 0 | AX71: 0 | AY71: 0 | AZ71: 0 | BA71: 0 | BB71: 0 | BC71: 0 | BD71: =(BB71*BC71)^2 -> 0 | BE71: 0 | BF71: 0 | BG71: 0 | BH71: 0 | BI71: 0 | BJ71: 0 | BK71: =(BI71*BJ71)^2 -> 0 | BL71: 0 | BM71: 0 | BN71: 0 | BO71: 0 | BP71: =($S71*BL71)/1000 -> 0 | BQ71: =BP71*$CE$429 -> 0 | BR71: =IF(BP71>0,SQRT(($Y71*$Y71)+(BO71*BO71)),0) -> 0 | BS71: =(BQ71*BR71)^2 -> 0 | BT71: 0 | BU71: 0 | BV71: 0 | BW71: 0 | BX71: 0 | BY71: 0 | BZ71: =(BX71*BY71)^2 -> 0 | CA71: =IF(C71="EmisionesGEI",D71,AE71+AM71+AU71+BB71+BQ71) -> 0 | CB71: =IF(CA71>0,SQRT(AG71+AO71+AW71+BD71+BS71)/CA71,0) -> 0 | CC71: =(CA71*CB71)^2 -> 0
B72: SUBTOTAL OTRAS EMISIONES FUGITIVAS | AE72: =SUM(AE65:AE71) -> 0 | AF72: =IF(AE72>0,SQRT(SUM(AG65:AG71))/AE72,0) -> 0 | AG72: =(AE72*AF72)^2 -> 0 | AM72: =SUM(AM65:AM71) -> 0 | AN72: =IF(AM72>0,SQRT(SUM(AO65:AO71))/AM72,0) -> 0 | AO72: =(AM72*AN72)^2 -> 0 | AU72: =SUM(AU65:AU71) -> 0 | AV72: =IF(AU72>0,SQRT(SUM(AW65:AW71))/AU72,0) -> 0 | AW72: =(AU72*AV72)^2 -> 0 | BB72: =SUM(BB65:BB71) -> 0 | BC72: =IF(BB72>0,SQRT(SUM(BD65:BD71))/BB72,0) -> 0 | BD72: =(BB72*BC72)^2 -> 0 | BI72: =SUM(BI65:BI71) -> 0 | BJ72: =IF(BI72>0,SQRT(SUM(BK65:BK71))/BI72,0) -> 0 | BK72: =(BI72*BJ72)^2 -> 0 | BQ72: =SUM(BQ65:BQ71) -> 0 | BR72: =IF(BQ72>0,SQRT(SUM(BS65:BS71))/BQ72,0) -> 0 | BS72: =(BQ72*BR72)^2 -> 0 | BX72: =SUM(BX65:BX71) -> 0 | BY72: =IF(BX72>0,SQRT(SUM(BZ65:BZ71))/BX72,0) -> 0 | BZ72: =(BX72*BY72)^2 -> 0 | CA72: =SUM(CA65:CA71) -> 0 | CB72: =IF(CA72>0,SQRT(SUM(CC65:CC71))/CA72,0) -> 0 | CC72: =(CA72*CB72)^2 -> 0
B73: SUBTOTAL FUENTES FUGITIVAS | AE73: =+AE59+AE72+AE64 -> 0 | AF73: =IF(AE73>0,(SQRT(AG59+AG72+AG64))/AE73,0) -> 0 | AG73: =(AE73*AF73)^2 -> 0 | AM73: =+AM59+AM48+AM64+AM28 -> 0 | AN73: =IF(AM73>0,(SQRT(AO59+AO72+AO64))/AM73,0) -> 0 | AO73: =(AM73*AN73)^2 -> 0 | AU73: =+AU59+AU48+AU64+AU28 -> 0 | AV73: =IF(AU73>0,(SQRT(AW59+AW72+AW64))/AU73,0) -> 0 | AW73: =(AU73*AV73)^2 -> 0 | BB73: =+BB59+BB48+BB64+BB28 -> 0 | BC73: =IF(BB73>0,(SQRT(BD59+BD72+BD64))/BB73,0) -> 0 | BD73: =(BB73*BC73)^2 -> 0 | BI73: =+BI59+BI48+BI64+BI28 -> 0 | BJ73: =IF(BI73>0,(SQRT(BK59+BK72+BK64))/BI73,0) -> 0 | BK73: =(BI73*BJ73)^2 -> 0 | BQ73: =+BQ59+BQ48+BQ64+BQ28 -> 0 | BR73: =IF(BQ73>0,(SQRT(BS59+BS72+BS64))/BQ73,0) -> 0 | BS73: =(BQ73*BR73)^2 -> 0 | BX73: =+BX59+BX48+BX64+BX28 -> 0 | BY73: =IF(BX73>0,(SQRT(BZ59+BZ72+BZ64))/BX73,0) -> 0 | BZ73: =(BX73*BY73)^2 -> 0 | CA73: =+CA59+CA72+CA64 -> 0 | CB73: =IF(CA73>0,(SQRT(CC59+CC72+CC64))/CA73,0) -> 0 | CC73: =(CA73*CB73)^2 -> 0
B75: USO DE LA TIERRA Y CAMBIOS DEL USO DE LA TIERRA Y SILVICULTURA (UTCUTS)
B76: FUENTE DE EMISIÓN DE GEI | C76: Categoría de uso inicial de tierras (seleccione la opción) | D76: Tipo de vegetación impactada (seleccione la opción) | E76: Región climática (seleccione la opción) | F76: VALORES DE LOS DATOS DE ACTIVIDAD | J76: FACTORES DE EMISIÓN | Z76: BIOMASA | AD76: CARBONO | AE76: EMISIONES CO2 | CA76: HUELLA DE CARBONO (tCO2eq) | CB76: INCERTIDUMBRE DE LA FUENTE
F77: Área impactada (dato de actividad) | G77: Unidad | H77: NA | I77: Biomasa aérea para tierras forestales y árboles aislados (dato generado por el proyecto) | J77: Unidad | K77: Biomasa aérea distintas a tierras forestales (dato por defecto) | L77: Unidad | M77: Biomasa aérea final (dato por defecto/generado) | N77: Relación entre la biomasa subterránea y la aérea | O77: Biomasa de la hojarasca y la madera muerta (MOM) | P77: Unidad | Q77: Fracción de carbono de la materia seca | Z77: Biomasa subterránea (ton dm ha-1) | AB77: Biomasa aérea y subterránea (ton dm) | AC77: Biomasa (aérea, subterránea y MOM) (ton dm) | AD77: Total de carbono de la biomasa total (ton C) | AE77: EMISIONES (tCO2eq) | AG77: Columna Auxiliar | CC77: Variable Auxiliar = (Huella de carbono x Incertidumbre de la fuente)^2
B78: Emisiones provenientes de la biomasa por el impacto del proyecto | G78: ha | J78: (ton dm ha-1) | K78: =IFERROR(VLOOKUP(EG123,DZ124:EA150,2,FALSE),"0.00") -> 0.00 | L78: (ton dm ha-1) | M78: =IF(I78=0,K78,I78) -> 0.00 | N78: =IFERROR(VLOOKUP($EG$123,$DZ$124:$ED$153,3,FALSE),"0.00") -> 0.00 | O78: =IFERROR(VLOOKUP($EG$123,$DZ$124:$ED$153,4,FALSE),"0.00") -> 0.00 | P78: (ton dm ha-1) | Q78: =IFERROR(VLOOKUP($EG$123,$DZ$124:$ED$153,5,FALSE),"0.00") -> 0.00 | Z78: =M78*N78 -> 0 | AB78: =M78+Z78 -> 0 | AC78: =AB78+O78 -> 0 | AD78: =F78*AC78*Q78 -> 0 | AE78: =AD78*(44/12) -> 0 | AG78: =IF(AE78>0,SQRT(($Y78*$Y78)+(AD78*AD78)),0) -> 0 | CA78: =AE78 -> 0 | CC78: =(CA78*CB78)^2 -> 0
G79: ha | J79: (ton dm ha-1) | K79: =IFERROR(VLOOKUP(EG124,DZ124:EA150,2,FALSE),"0.00") -> 0.00 | L79: (ton dm ha-1) | M79: =IF(I79=0,K79,I79) -> 0.00 | N79: =IFERROR(VLOOKUP($EG$124,$DZ$124:$ED$153,3,FALSE),"0.00") -> 0.00 | O79: =IFERROR(VLOOKUP($EG$124,$DZ$124:$ED$153,4,FALSE),"0.00") -> 0.00 | P79: (ton dm ha-1) | Q79: =IFERROR(VLOOKUP($EG$124,$DZ$124:$ED$153,5,FALSE),"0.00") -> 0.00 | Z79: =M79*N79 -> 0 | AB79: =M79+Z79 -> 0 | AC79: =AB79+O79 -> 0 | AD79: =F79*AC79*Q79 -> 0 | AE79: =AD79*(44/12) -> 0 | AG79: =IF(AE79>0,SQRT(($Y79*$Y79)+(AD79*AD79)),0) -> 0 | CA79: =AE79 -> 0 | CC79: =(CA79*CB79)^2 -> 0
G80: ha | J80: (ton dm ha-1) | K80: =IFERROR(VLOOKUP(EG126,DZ124:EA150,2,FALSE),"0.00") -> 0.00 | L80: (ton dm ha-1) | M80: =IF(I80=0,K80,I80) -> 0.00 | N80: =IFERROR(VLOOKUP($EG$125,$DZ$124:$ED$153,3,FALSE),"0.00") -> 0.00 | O80: =IFERROR(VLOOKUP($EG$125,$DZ$124:$ED$153,4,FALSE),"0.00") -> 0.00 | P80: (ton dm ha-1) | Q80: =IFERROR(VLOOKUP($EG$125,$DZ$124:$ED$153,5,FALSE),"0.00") -> 0.00 | Z80: =M80*N80 -> 0 | AB80: =M80+Z80 -> 0 | AC80: =AB80+O80 -> 0 | AD80: =F80*AC80*Q80 -> 0 | AE80: =AD80*(44/12) -> 0 | AG80: =IF(AE80>0,SQRT(($Y80*$Y80)+(AD80*AD80)),0) -> 0 | CA80: =AE80 -> 0 | CC80: =(CA80*CB80)^2 -> 0
C81: Tierras_Forestales | F81: 1 | G81: ha | J81: (ton dm ha-1) | K81: =IFERROR(VLOOKUP(EG127,DZ125:EA151,2,FALSE),"0.00") -> 0.00 | L81: (ton dm ha-1) | M81: =IF(I81=0,K81,I81) -> 0.00 | N81: =IFERROR(VLOOKUP($EG$126,$DZ$124:$ED$153,3,FALSE),"0.00") -> 0.00 | O81: =IFERROR(VLOOKUP($EG$126,$DZ$124:$ED$153,4,FALSE),"0.00") -> 0.00 | P81: (ton dm ha-1) | Q81: =IFERROR(VLOOKUP($EG$126,$DZ$124:$ED$153,5,FALSE),"0.00") -> 0.00 | Z81: =M81*N81 -> 0 | AB81: =M81+Z81 -> 0 | AC81: =AB81+O81 -> 0 | AD81: =F81*AC81*Q81 -> 0 | AE81: =AD81*(44/12) -> 0
C82: Pastizales | D82: Pastizales | G82: ha | J82: (ton dm ha-1) | K82: 16 | L82: (ton dm ha-1) | M82: =IF(I82=0,K82,I82) -> 16 | N82: 0 | O82: =IFERROR(VLOOKUP($EG$127,$DZ$124:$ED$153,4,FALSE),"0.00") -> 0.00 | P82: (ton dm ha-1) | Q82: 0.5 | Z82: =M82*N82 -> 0 | AB82: =M82+Z82 -> 16 | AC82: =AB82+O82 -> 16 | AD82: =F82*AC82*Q82 -> 0 | AE82: =AD82*(44/12) -> 0 | AG82: =IF(AE82>0,SQRT(($Y82*$Y82)+(AD82*AD82)),0) -> 0 | CA82: =AE82 -> 0 | CC82: =(CA82*CB82)^2 -> 0
C83: Otras | D83: Árboles dispersos (fuera del bosque) | F83: 1 | G83: ha | J83: (ton dm ha-1) | K83: =IFERROR(VLOOKUP(EG128,DZ128:EA154,2,FALSE),"0.00") -> 0.00 | L83: (ton dm ha-1) | M83: =IF(I83=0,K83,I83) -> 0.00 | N83: 0.22 | O83: =IFERROR(VLOOKUP(EG128,DZ128:ED157,4,FALSE),"0.00") -> 0.00 | P83: (ton dm ha-1) | Q83: 0.49 | Z83: =M83*N83 -> 0 | AB83: =M83+Z83 -> 0 | AC83: =AB83+O83 -> 0 | AD83: =F83*AC83*Q83 -> 0 | AE83: =AD83*(44/12) -> 0 | AG83: =IF(AE83>0,SQRT(($Y83*$Y83)+(AD83*AD83)),0) -> 0 | CA83: =AE83 -> 0 | CC83: =(CA83*CB83)^2 -> 0
B84: Emisiones provenientes de los suelos por el impacto del proyecto | C84: Categoría de uso inicial de tierras (seleccione la opción) | D84: Tipo de vegetación impactada (seleccione la opción) | E84: Región climática (seleccione la opción) | F84: Área impactada (dato de actividad) | G84: ha | H84: Existencia de carbono de referencia | I84: Unidad | J84: Factor de cambio de existencias para el sistema de uso de la tierra antes de la fase de construcción del proyecto | K84: Factor de cambio de existencias para el régimen de gestión antes de la fase de construccion del proyecto | L84: Factor de cambio de existencias para el aporte de materia orgánica antes de la fase de construcción del proyecto | M84: Factor de cambio de existencias para el sistema de uso de la tierra FLU (0), el régimen de gestión FMG (0) y aporte de materia orgánica FI (0), al final de la fase de construcción del proyecto | AC84: Pérdida de carbono en suelos minerales | AE84: EMISIONES (tCO2eq) | CA84: HUELLA DE CARBONO (tCO2eq) | CB84: INCERTIDUMBRE DE LA FUENTE
G85: ha | H85: =IFERROR(VLOOKUP(EG130,EK130:ER171,4,FALSE),0) -> 0 | I85: (ton C ha-1) | J85: =IFERROR(VLOOKUP(EG130,EK130:ER171,5,FALSE),0) -> 0 | K85: =IFERROR(VLOOKUP(EG130,EK130:ER171,6,FALSE),0) -> 0 | L85: =IFERROR(VLOOKUP(EG130,EK130:ER171,7,FALSE),0) -> 0 | M85: =IFERROR(VLOOKUP(EG130,EK130:ER171,8,FALSE),0) -> 0 | AC85: =(F85*H85*J85*K85*L85)*(1-M85) -> 0 | AE85: =AC85*(44/12) -> 0 | CA85: =AE85 -> 0
G86: ha | H86: =IFERROR(VLOOKUP(EG131,EK131:ER172,4,FALSE),0) -> 0 | I86: (ton C ha-1) | J86: =IFERROR(VLOOKUP(EG131,EK131:ER172,5,FALSE),0) -> 0 | K86: =IFERROR(VLOOKUP(EG131,EK131:ER172,6,FALSE),0) -> 0 | L86: =IFERROR(VLOOKUP(EG131,EK131:ER172,7,FALSE),0) -> 0 | M86: =IFERROR(VLOOKUP(EG131,EK131:ER172,8,FALSE),0) -> 0 | AC86: =(F86*H86*J86*K86*L86)*(1-M86) -> 0 | AE86: =AC86*(44/12) -> 0 | CA86: =AE86 -> 0
G87: ha | H87: =IFERROR(VLOOKUP(EG132,EK132:ER173,4,FALSE),0) -> 0 | I87: (ton C ha-1) | J87: =IFERROR(VLOOKUP(EG132,EK132:ER173,5,FALSE),0) -> 0 | K87: =IFERROR(VLOOKUP(EG132,EK132:ER173,6,FALSE),0) -> 0 | L87: =IFERROR(VLOOKUP(EG132,EK132:ER173,7,FALSE),0) -> 0 | M87: =IFERROR(VLOOKUP(EG132,EK132:ER173,8,FALSE),0) -> 0 | AC87: =(F87*H87*J87*K87*L87)*(1-M87) -> 0 | AE87: =AC87*(44/12) -> 0 | CA87: =AE87 -> 0
G88: ha | H88: =IFERROR(VLOOKUP(EG133,EK133:ER174,4,FALSE),0) -> 0 | I88: (ton C ha-1) | J88: =IFERROR(VLOOKUP(EG133,EK133:ER174,5,FALSE),0) -> 0 | K88: =IFERROR(VLOOKUP(EG133,EK133:ER174,6,FALSE),0) -> 0 | L88: =IFERROR(VLOOKUP(EG133,EK133:ER174,7,FALSE),0) -> 0 | M88: =IFERROR(VLOOKUP(EG133,EK133:ER174,8,FALSE),0) -> 0 | AC88: =(F88*H88*J88*K88*L88)*(1-M88) -> 0 | AE88: =AC88*(44/12) -> 0 | CA88: =AE88 -> 0
B89: SUBTOTAL EMISIONES DE UTCUTS | AE89: =SUM(AE78:AE88) -> 0 | AG89: =(AE89*AF89)^2 -> 0 | CA89: =SUM(CA78:CA88) -> 0 | CB89: =IF(CA89>0,SQRT(SUM(CC78:CC83))/CA89,0) -> 0 | CC89: =(CA89*CB89)^2 -> 0
B90: TOTAL ALCANCE 1 | AE90: =+AE28+AE48+AE89+AE73 -> 0 | AG90: =(AE90*AF90)^2 -> 0 | CA90: =+CA28+CA48+CA89+CA73 -> 0 | CB90: =IF(CA90>0,(SQRT(CC28+CB48+CB89+CB73))/CA90,0) -> 0 | CC90: =(CA90*CB90)^2 -> 0
CC91: =(CA91*CB91)^2 -> 0
B92: ALCANCE 2 | CC92: =(CA92*CB92)^2 -> 0
B93: FUENTE DE EMISIÓN DE GEI (Seleccione de la lista) | C93: REPORTE | D93: N/A | E93: DATOS DE ACTIVIDAD (Seleccione de la lista el dato de actividad que va a reportar) | F93: VALOR DE DATO DE ACTIVIDAD | U93: INCERTIDUMBRE DATOS | Z93: EMISIONES CO2 | AH93: EMISIONES CH4 | AP93: EMISIONES N2O | AX93: EMISIONES HFC | BE93: EMISIONES PFC | BL93: EMISIONES SF6 | BT93: EMISIONES CO2 BIOGÉNICO | CA93: HUELLA DE CARBONO (tCO2eq) | CB93: INCERTIDUMBRE DE LA FUENTE
F94: UNIDAD | G94: DATO 1 | H94: DATO 2 | I94: DATO 3 | J94: DATO 4 | K94: DATO 5 | L94: DATO 6 | M94: DATO 7 | N94: DATO 8 | O94: DATO 9 | P94: DATO 10 | Q94: DATO 11 | R94: DATO 12 | S94: TOTAL | T94: No. DATOS | U94: PROMEDIO | V94: DESVIACION ESTÁNDAR | W94: FACTOR T | X94: INCERTIDUMBRE SISTEMATICA DATOS | Y94: INCERTIDUMBRE DATOS | Z94: FACTOR DE EMISIÓN CO2eq | AB94: FUENTE BIBLIOGRÁFICA | AC94: INCERTIDUMBRE FACTOR EMISIÓN CO2eq | AD94: EMISIONES CO2eq (tCO2eq) | AE94: EMISIONES CO2eq (tCO2eq) | AF94: INCERTIDUMBRE EMISIONES CO2eq | AG94: Columna Auxiliar | AH94: FACTOR DE EMISIÓN CH4 | AJ94: FUENTE BIBLIOGRÁFICA | AK94: INCERTIDUMBRE FACTOR EMISIÓN CH4 | AL94: EMISIONES CH4 (tCH4) | AM94: EMISIONES CH4 (tCO2eq) | AN94: INCERTIDUMBRE EMISIONES CH4 | AO94: Columna Auxiliar | AP94: FACTOR DE EMISIÓN N2O | AR94: FUENTE BIBLIOGRÁFICA | AS94: INCERTIDUMBRE FACTOR EMISIÓN N2O | AT94: EMISIONES N2O (tN2O) | AU94: EMISIONES N2O (tCO2eq) | AV94: INCERTIDUMBRE EMISIONES N2O | AW94: Columna Auxiliar | AX94: FACTOR DE EMISIÓN HFC | AZ94: FUENTE BIBLIOGRÁFICA | BA94: INCERTIDUMBRE FACTOR EMISIÓN HFCs | BB94: EMISIONES HFC (tCO2eq) | BC94: INCERTIDUMBRE EMISIONES HFC | BD94: Columna Auxiliar | BE94: FACTOR DE EMISIÓN PFC | BG94: FUENTE BIBLIOGRÁFICA | BH94: INCERTIDUMBRE FACTOR EMISIÓN PFC | BI94: EMISIONES PFC (tCO2eq) | BJ94: INCERTIDUMBRE EMISIONES PFC | BK94: Columna Auxiliar | BL94: FACTOR DE EMISIÓN SF6 | BN94: FUENTE BIBLIOGRÁFICA | BO94: INCERTIDUMBRE FACTOR EMISIÓN SF6 | BP94: EMISIONES SF6 (tSF6) | BQ94: EMISIONES SF6 (tCO2eq) | BR94: INCERTIDUMBRE EMISIONES SF6 | BS94: Columna Auxiliar | BT94: FACTOR DE EMISIÓN CO2 (biogénico) | BV94: FUENTE BIBLIOGRÁFICA | BW94: INCERTIDUMBRE FACTOR EMISIÓN CO2 (Biogénico) | BX94: EMISIONES CO2Biogénico (tCO2 Biogénico) | BY94: INCERTIDUMBRE EMISIONES CO2 Biogénico | BZ94: Columna Auxiliar | CC94: Variable Auxiliar = (Huella de carbono x Incertidumbre de la fuente)^2
B95: Consumo de energía adquirida | C95: DatosActividad | E95: Consumo de energía eléctrica | F95: =VLOOKUP($E95,$CD$114:$DH$479,2,FALSE) -> KWh | S95: =SUM(G95:R95) -> 0 | T95: =COUNT(G95:R95) -> 0 | U95: =IF(T95>1,AVERAGE(G95:R95),0) -> 0 | V95: =IF(T95>1,STDEV(G95:R95),0) -> 0 | W95: =IF(T95>1,VLOOKUP($T95,$CD$383:$CE$395,2,FALSE),0) -> 0 | Y95: =IF(X95>0,X95,IF(T95>1,1-((U95-((V95*W95)/(SQRT(T95))))/U95),VLOOKUP($E95,$CD$114:$DK$479,34,FALSE))) -> 0.05 | Z95: =VLOOKUP($E95,$CD$114:$DH$479,3,FALSE) -> 0.1279 | AA95: =VLOOKUP($E95,$CD$114:$DH$479,4,FALSE) -> kgCO2eq e/KWh | AB95: =IF($S95>0,VLOOKUP($E95,$CD$114:$DH$479,7,FALSE),0) -> 0 | AC95: =IF($S95>0,VLOOKUP($E95,$CD$114:$DH$479,6,FALSE),0) -> 0 | AD95: =($S95*Z95)/1000 -> 0 | AE95: =AD95*$CE$401 -> 0 | AF95: =IF(AD95>0,SQRT(($Y95*$Y95)+(AC95*AC95)),0) -> 0 | AG95: =(AE95*AF95)^2 -> 0 | AH95: 0 | AI95: 0 | AJ95: 0 | AK95: 0 | AL95: =($S95*AH95)/1000 -> 0 | AM95: =AL95*$CE$402 -> 0 | AN95: =IF(AL95>0,SQRT(($Y95*$Y95)+(AK95*AK95)),0) -> 0 | AO95: =(AM95*AN95)^2 -> 0 | AP95: 0 | AQ95: 0 | AR95: 0 | AS95: 0 | AT95: =($S95*AP95)/1000 -> 0 | AU95: =AT95*$CE$403 -> 0 | AV95: =IF(AT95>0,SQRT(($Y95*$Y95)+(AS95*AS95)),0) -> 0 | AW95: =(AU95*AV95)^2 -> 0 | AX95: 0 | AY95: 0 | AZ95: 0 | BA95: 0 | BB95: 0 | BC95: 0 | BD95: =(BB95*BC95)^2 -> 0 | BE95: 0 | BF95: 0 | BG95: 0 | BH95: 0 | BI95: 0 | BJ95: 0 | BK95: =(BI95*BJ95)^2 -> 0 | BL95: 0 | BM95: 0 | BN95: 0 | BO95: 0 | BP95: =($S95*BL95)/1000 -> 0 | BQ95: =BP95*$CE$404 -> 0 | BR95: =IF(BP95>0,SQRT(($Y95*$Y95)+(BO95*BO95)),0) -> 0 | BS95: =(BQ95*BR95)^2 -> 0 | BT95: 0 | BU95: 0 | BV95: 0 | BW95: 0 | BX95: 0 | BY95: 0 | BZ95: =(BX95*BY95)^2 -> 0 | CA95: =IF(C95="EmisionesGEI",D95,AE95+AM95+AU95+BB95+BQ95) -> 0 | CB95: =IF(CA95>0,SQRT(AG95+AO95+AW95+BD95+BS95)/CA95,0) -> 0 | CC95: =(CA95*CB95)^2 -> 0
AE96: =SUM(AE95:AE95) -> 0 | AF96: =IF(AE96>0,(SQRT(SUM(AG95:AG95)))/AE96,0) -> 0 | AG96: =(AE96*AF96)^2 -> 0 | AM96: =SUM(AM95:AM95) -> 0 | AN96: =IF(AM96>0,(SQRT(SUM(AO95:AO95)))/AM96,0) -> 0 | AO96: =(AM96*AN96)^2 -> 0 | AU96: =SUM(AU95:AU95) -> 0 | AV96: =IF(AU96>0,(SQRT(SUM(AW95:AW95)))/AU96,0) -> 0 | AW96: =(AU96*AV96)^2 -> 0 | BB96: =SUM(BB95:BB95) -> 0 | BC96: =IF(BB96>0,(SQRT(SUM(BD95:BD95)))/BB96,0) -> 0 | BD96: =(BB96*BC96)^2 -> 0 | BI96: =SUM(BI95:BI95) -> 0 | BJ96: =IF(BI96>0,(SQRT(SUM(BK95:BK95)))/BI96,0) -> 0 | BK96: =(BI96*BJ96)^2 -> 0 | BQ96: =SUM(BQ95:BQ95) -> 0 | BR96: =IF(BQ96>0,(SQRT(SUM(BS95:BS95)))/BQ96,0) -> 0 | BS96: =(BQ96*BR96)^2 -> 0 | BX96: =SUM(BX95:BX95) -> 0 | BY96: =IF(BX96>0,(SQRT(SUM(BZ95:BZ95)))/BX96,0) -> 0 | BZ96: =(BX96*BY96)^2 -> 0 | CA96: =SUM(CA95:CA95) -> 0 | CB96: =IF(CA96>0,(SQRT(SUM(CC95:CC95)))/CA96,0) -> 0 | CC96: =(CA96*CB96)^2 -> 0
CC97: =(CA97*CB97)^2 -> 0
CC98: =(CA98*CB98)^2 -> 0
B99: TOTAL HUELLA DE CARBONO | AE99: =+AE90+AE96 -> 0 | AF99: =IF(AE99>0,SQRT(AG90+AG96)/AE99,0) -> 0 | AG99: =(AE99*AF99)^2 -> 0 | AM99: =+AM73+AM96 -> 0 | AN99: =IF(AM99>0,SQRT(AO90+AO96)/AM99,0) -> 0 | AO99: =(AM99*AN99)^2 -> 0 | AU99: =+AU73+AU96 -> 0 | AV99: =IF(AU99>0,SQRT(AW90+AW96)/AU99,0) -> 0 | AW99: =(AU99*AV99)^2 -> 0 | BB99: =+BB73+BB96 -> 0 | BC99: =IF(BB99>0,SQRT(BD90+BD96)/BB99,0) -> 0 | BD99: =(BB99*BC99)^2 -> 0 | BI99: =+BI73+BI96 -> 0 | BJ99: =IF(BI99>0,SQRT(BK90+BK96)/BI99,0) -> 0 | BK99: =(BI99*BJ99)^2 -> 0 | BQ99: =+BQ73+BQ96 -> 0 | BR99: =IF(BQ99>0,SQRT(BS90+BS96)/BQ99,0) -> 0 | BS99: =(BQ99*BR99)^2 -> 0 | BX99: =+BX73+BX96 -> 0 | BY99: =IF(BX99>0,SQRT(BZ90+BZ96)/BX99,0) -> 0 | BZ99: =(BX99*BY99)^2 -> 0 | CA99: =+CA90+CA96 -> 0 | CB99: =IF(CA99>0,SQRT(CB90+CB96)/CA99,0) -> 0 | CC99: =(CA99*CB99)^2 -> 0
CE108: Solamente se pueden reportar emisiones de GEI en esta categoría. Cambie su selección anterior.
CE110: EmisionesGEI
CE111: DatosActividad | DZ111: Seleccionar la categoría de tierra | EC111: Seleccione el tipo de bosque o vegetación | EG111: Seleccione el tipo de clima | EI111: Seleccionar el uso de la tierra, previo al cambio
DZ112: Tierras_Forestales | EC112: Bosque Maduro | EG112: TM | EI112: Bosque maduro
CD113: 1 | CE113: 2 | CF113: 3 | CG113: 4 | CH113: 5 | CI113: 6 | CJ113: 7 | CK113: 8 | CL113: 9 | CM113: 10 | CN113: 11 | CO113: 12 | CP113: 13 | CQ113: 14 | CR113: 15 | CS113: 16 | CT113: 17 | CU113: 18 | CV113: 19 | CW113: 20 | CX113: 21 | CY113: 22 | CZ113: 23 | DA113: 24 | DB113: 25 | DC113: 26 | DD113: 27 | DE113: 28 | DF113: 29 | DG113: 30 | DH113: 31 | DI113: 32 | DJ113: 33 | DK113: 34 | DP113: FACTORES DE EMISIÓN | DZ113: Tierras_de_Cultivo | EC113: Bosque Secundario | EG113: TMH | EI113: Bosque secundario
CF114: Factor Emisión CO2eq (kg CO2eq/t) | CH114: Incertidumbre (+/- %) | CI114: Incertidumbre (+/- %) | CJ114: Fuente Bibliográfica | CK114: Fuentes Fijas | CW114: Fuentes Móviles | DI114: Biogénicas | DJ114: Incertidumbre Juicio expertos IPCC | DP114: Parámetro | DQ114: Unidad | DR114: Tipo de vegetación | DS114: Región Climática | DZ114: Pastizales | EC114: Manglar | ED114: 0 | EG114: TH | EI114: Manglar
CD115: Combustible_Sólido | CE115: Unidad Consumo | CG115: Unidad FE | CK115: Factor Emisión CH4 (g CH4/t) | CL115: Factor Emisión CH4 (kg CH4/t) | CM115: Unidad FE | CN115: Incertidumbre (+/- %) | CO115: Incertidumbre (+/- %) | CP115: Fuente Bibliográfica | CQ115: Factor Emisión N2O (g N2O/t) | CR115: Factor Emisión N2O (kg N2O/t) | CS115: Unidad FE | CT115: Incertidumbre (+/- %) | CU115: Incertidumbre (+/- %) | CV115: Fuente Bibliográfica | CW115: Factor Emisión CH4 (g CH4/t) | CX115: Factor Emisión CH4 (kg CH4/t) | CY115: Unidad FE | CZ115: Incertidumbre (+/- %) | DA115: Incertidumbre (+/- %) | DB115: Fuente Bibliográfica | DC115: Factor Emisión N2O (g N2O/t) | DD115: Factor Emisión N2O (kg N2O/t) | DE115: Unidad FE | DF115: Incertidumbre (+/- %) | DG115: Incertidumbre (+/- %) | DH115: Fuente Bibliográfica | DI115: Factor Emisión CO2 (kg CO2/lt) | DJ115: % Rango menor | DK115: % Rango mayor | DP115: Tierras Forestales | DS115: TM | DT115: TMH | DU115: TH | DV115: Fuente | DZ115: Otras | EC115: Plantaciones de Latifoliadas | EI115: Plantación de latifoliadas
CD116: Carbón Genérico | CE116: t | CF116: =(112000*26.7)/1000 -> 2990.4 | CG116: kg CO2/t | CH116: 0.05 | CI116: 0.05 | CJ116: IPCC, 2006 | CK116: 28.7602 | CL116: =CK116/1000 -> 0.0287602 | CM116: kg CH4/t | CN116: 0.3 | CO116: 3 | CP116: IPCC, 2006 | CQ116: 43.1404 | CR116: =CQ116/1000 -> 0.0431404 | CS116: kg N2O/t | CT116: 0.33333333 | CU116: 3.3333333 | CV116: IPCC, 2006 | CW116: 0 | CX116: =CW116/1000 -> 0 | CY116: kg CH4/t | CZ116: 0 | DA116: 0 | DB116: IPCC, 2006 | DC116: 0 | DD116: =DC116/1000 -> 0 | DE116: kg N2O/t | DF116: 0 | DG116: 0 | DH116: IPCC, 2006 | DJ116: =CH116 -> 0.05 | DK116: =CI116 -> 0.05 | DP116: Fracción de carbono de la materia seca | DQ116: FC | DR116: Bosque Maduro | DS116: 0.49 | DT116: 0.49 | DU116: 0.49 | DV116: Vol. 4, Cap 4, Pag. 4.57, Cuadro 4.3 | EC116: Plantaciones de Coníferas | EI116: Plantación de coníferas
...

Sheet OTROS DATOS
B2: HERRAMIENTA DE CÁLCULO DE EMISIONES DE GASES DE EFECTO INVERNADERO PARA PROYECTOS
B5: DATOS GENERALES DEL PROYECTO
B6: NOMBRE DEL PROYECTO: | C6: =EMISIONES!C6 -> 0 | F6: CONSULTOR QUE ELABORA EL CÁLCULO: | G6: =EMISIONES!H6 -> 0
B7: EMPRESA PROMOTORA: | C7: =EMISIONES!C7 -> 0 | F7: CORREO ELECTRÓNICO: | G7: =EMISIONES!H7 -> 0
B8: CATEGORÍA DEL PROYECTO: | C8: =EMISIONES!C8 -> 0 | F8: TELÉFONO: | G8: =EMISIONES!H8 -> 0
B9: CONTACTO DE LA PROMOTORA: | C9: =EMISIONES!C9 -> 0 | F9: RESOLUCIÓN | G9: =EMISIONES!H9 -> 0
B10: CORREO ELECTRÓNICO DE LA PROMOTORA: | C10: =EMISIONES!C10 -> 0 | F10: AÑO CALCULADO: | G10: =EMISIONES!H10 -> 0
B12: REGIONES CLIMÁTICAS
B13: Región Climática | C13: Siglas | D13: Temperatura media anual (°C) | E13: Precipitación media anual (mm)
B14: Tropical húmeda | C14: TH | D14: mayor a 24 °C | E14: menor a 2,000
B15: Tropical muy húmeda | C15: TMH | D15: mayor a 24 °C | E15: 2,000 - 8,000
B16: Tropical montano | C16: TM | D16: menor a 24 °C | E16: 1,000 - 8,000
B17: Tabla elaborada por el Departamento de Mitigación con base en los valores del diagrama sobre zonas de vida de Holdridge y las regiones climáticas del IPCC-2006
B19: TABLA PARA FACTOR DE EMISIÓN DE LA BIOMASA AÉREA POR DEFECTO
B20: Parámetro | C20: Unidad | D20: Tipo de vegetación | E20: Región Climática | H20: Fuente
B21: Tierras Forestales | E21: TM | F21: TMH | G21: TH
B22: Biomasa aérea | C22: ton dm.ha-1 | D22: Bosque Maduro | E22: 160.55 | F22: 160.55 | G22: 160.55 | H22: Datos nacionales (INFC)
D23: Bosque Secundario | E23: 94.17 | F23: 94.17 | G23: 94.17
D24: Manglar | F24: 75.67 | G24: 75.67
D25: Plantaciones, Latifoliadas | E25: 150 | F25: 240 | G25: 120 | H25: Vol. 4, Cap. 4, Pag. 4.63. Cuadros 4.8
D26: Plantaciones, Coniferas | E26: 300 | F26: 270 | G26: 270 | H26: Vol. 4, Cap. 4, Pag. 4.63. Cuadros 4.8
D27: Rastrojos | E27: 28.72 | F27: 28.72 | G27: 28.72 | H27: Datos nacionales (INFC)
B28: Tabla elaborada por el Departamento de Mitigación con base en el inventario forestal, de carbono y las Directrices del IPCC de 2006
B30: TABLA PARA IDENTIFICAR EL USO INICIAL DE LA TIERRA
B31: Uso inicial de la tierra | C31: Tipo de vegetación
B32: Tierras forestales | C32: Bosque Maduro
C33: Bosque Secundario
C34: Manglar
C35: Plantaciones, Latifoliadas
C36: Plantaciones, Coniferas
C37: Rastrojos
B38: Tierras de cultivo | C38: Cultivo anual (biomasa no leñosa)
C39: Árboles
C40: Cultivo perenne (biomasa leñosa)
B41: Pastizales | C41: Árboles
C42: Pastizales
B43: Otras | C43: Árboles
B44: Tabla elaborada por el Departamento de Mitigación
B46: TABLA PARA LA CONVERSIÓN Y EXPANSIÓN DEL VOLUMEN DE LOS BOSQUES A BIOMASA AÉREA
B47: Rango de volumen (m3/ha) | C47: FCEFS
C48: Especies latifoliadas | D48: Coníferas (pino)
B49: < 10 | C49: 9 | D49: 4
B50: 11 - 20 | C50: 4 | D50: 1.75
B51: 21 - 40 | C51: 2.8 | D51: 1.25
B52: 41 - 60 | C52: 2.05 | D52: 1
B53: 61 - 80 | C53: 1.7 | D53: 0.8
B54: 81 - 120 | C54: 1.5 | D54: 0.76
B55: 121 - 200 | C55: 1.3 | D55: 0.7
B56: >200 | C56: 0.95 | D56: 0.7
B57: Tabla elaborada por el Departamento de Mitigación
B58: Fuente: Cuadro 4.5. Cap. 4. Vol. 4. Directrices del IPCC 2006
B59: a). Se aplica el factor FCEFS, ya que, los inventarios forestales que se realizan al amparo de los proyectos bajo EIA, se practican en bosques o árboles dispersos en pie, lo cual corresponde a existencia en crecimiento.
B60: b). Cuando el volumen corresponda a árboles de especies litifoliadas dispersas, debe aplicarse el factor de 1.5, mientras que para coníferas dispersas 0.76. La raazón odebecea a que, se estima que el desarrollo promedio para especies latifoliadas dispersas en todo el territorio nacional, se asemeja más a las dimensiones de los árboles de los bosques secundarios dentro del rango de 81 - 120 m3/ha, y la proporción de los árboles dispersos en edad madura es pequeña con respecto al resto de los árboles dispersos). Además, debido a que estos árboles están aislados, la proporción de la copa con respecto al tronco, es mayor a la de los árboles del bosque secundario o en plantaciones.

Sheet RESUMEN RESULTADOS 
A3: ALCANCE | B3: FUENTES | C3: EMISIONES CO2 (t CO2 eq) | D3: EMISIONES CH4 (t CO2 eq) | E3: EMISIONES N2O (t CO2 eq) | F3: EMISIONES HFC (t CO2 eq) | G3: EMISIONES PFC (t CO2 eq) | H3: EMISIONES SF6 (t CO2 eq) | I3: HUELLA CARBONO TOTAL (t CO2 eq) | J3: % DEL TOTAL
A4: 1 | B4: Fuentes Móviles | C4: =EMISIONES!AE28 -> 0 | D4: =EMISIONES!AM28 -> 0 | E4: =EMISIONES!AU28 -> 0 | F4: =EMISIONES!BB28 -> 0 | G4: =EMISIONES!BI28 -> 0 | H4: =EMISIONES!BQ28 -> 0 | I4: =EMISIONES!CA28 -> 0 | J4: =+I4/$I$11 -> #DIV/0!
B5: Fuentes Fijas | C5: =EMISIONES!AE48 -> 0 | D5: =EMISIONES!AM48 -> 0 | E5: =EMISIONES!AU48 -> 0 | F5: =EMISIONES!BB48 -> 0 | G5: =EMISIONES!BI48 -> 0 | H5: =EMISIONES!BQ48 -> 0 | I5: =EMISIONES!CA48 -> 0 | J5: =+I5/$I$11 -> #DIV/0!
B6: Emsiones Fugitivas | C6: =EMISIONES!AE73 -> 0 | D6: =EMISIONES!AM73 -> 0 | E6: =EMISIONES!AU73 -> 0 | F6: =EMISIONES!BB73 -> 0 | G6: =EMISIONES!BI73 -> 0 | H6: =EMISIONES!BQ73 -> 0 | I6: =EMISIONES!CA73 -> 0 | J6: =+I6/$I$11 -> #DIV/0!
B7: UTCUTS | C7: =EMISIONES!AE89 -> 0 | D7: =EMISIONES!AM89 -> 0 | E7: =EMISIONES!AU89 -> 0 | F7: =EMISIONES!BB89 -> 0 | G7: =EMISIONES!BI89 -> 0 | H7: =EMISIONES!BQ89 -> 0 | I7: =EMISIONES!CA89 -> 0 | J7: =+I7/$I$11 -> #DIV/0!
B8: SUBTOTAL | C8: =EMISIONES!AE90 -> 0 | D8: =EMISIONES!AM90 -> 0 | E8: =EMISIONES!AU90 -> 0 | F8: =EMISIONES!BB90 -> 0 | G8: =EMISIONES!BI90 -> 0 | H8: =EMISIONES!BQ90 -> 0 | I8: =EMISIONES!CA90 -> 0 | J8: =+I8/$I$11 -> #DIV/0!
A9: 2 | B9: Energía Adquirida | C9: =EMISIONES!AE96 -> 0 | D9: =EMISIONES!AM96 -> 0 | E9: =EMISIONES!AU96 -> 0 | F9: =EMISIONES!BB96 -> 0 | G9: =EMISIONES!BI96 -> 0 | H9: =EMISIONES!BQ96 -> 0 | I9: =EMISIONES!CA96 -> 0 | J9: =+I9/$I$11 -> #DIV/0!
B10: SUBTOTAL | C10: =EMISIONES!AE96 -> 0 | D10: =EMISIONES!AM96 -> 0 | E10: =EMISIONES!AU96 -> 0 | F10: =EMISIONES!BB96 -> 0 | G10: =EMISIONES!BI96 -> 0 | H10: =EMISIONES!BQ96 -> 0 | I10: =EMISIONES!CA96 -> 0 | J10: =+I10/$I$11 -> #DIV/0!
A11: TOTAL HUELLA CARBONO DEL PROYECTO | C11: =EMISIONES!AE99 -> 0 | D11: =EMISIONES!AM99 -> 0 | E11: =EMISIONES!AU99 -> 0 | F11: =EMISIONES!BB99 -> 0 | G11: =EMISIONES!BI99 -> 0 | H11: =EMISIONES!BQ99 -> 0 | I11: =EMISIONES!CA99 -> 0 | J11: =+I11/$I$11 -> #DIV/0!
A14: Emisiones discriminadas por alcance:
B16: ALCANCE | C16: CANTIDAD (t CO2eq)
B17: Alcance 1 | C17: =+I8 -> 0
B18: Alcance 2 | C18: =+I10 -> 0
B19: TOTAL HC | C19: =SUM(C17:C18) -> 0
A22: Emisiones Directas (Alcance 1) discriminadas por GEI:
B24: GAS EFECTO INVERNADERO (GEI) | C24: CANTIDAD GEI (t GEI) | D24: EMISIONES ALCANCE 1 (t CO2eq) | E24: % DEL ALCANCE 1
B25: CO2 | C25: =D25/EMISIONES!$CE$401 -> 0 | D25: =EMISIONES!AE90 -> 0 | E25: =D25/D31 -> #DIV/0!
B26: CH4 | C26: =D26/EMISIONES!$CE$402 -> 0 | D26: =EMISIONES!AM73 -> 0 | E26: =D26/D31 -> #DIV/0!
B27: N2O | C27: =D27/EMISIONES!$CE$403 -> 0 | D27: =EMISIONES!AU73 -> 0 | E27: =D27/D31 -> #DIV/0!
B28: HFC | C28: No aplica | D28: =EMISIONES!BB73 -> 0 | E28: =D28/D31 -> #DIV/0!
B29: PFC | C29: No aplica | D29: =EMISIONES!BI73 -> 0 | E29: =D29/D31 -> #DIV/0!
B30: SF6 | C30: =D30/EMISIONES!$CE$404 -> 0 | D30: =EMISIONES!BQ73 -> 0 | E30: =D30/D31 -> #DIV/0!
B31: TOTAL ALCANCE 1 | C31: No aplica | D31: =SUM(D25:D30) -> 0 | E31: =SUM(E25:E30) -> #DIV/0!
A35: Emisiones Totales discriminadas por GEI:
B37: GAS EFECTO INVERNADERO (GEI) | C37: CANTIDAD GEI (t GEI) | D37: EMISIONES TOTALES (t CO2eq) | E37: % DEL TOTAL
B38: CO2 | C38: =D38/EMISIONES!$CE$401 -> 0 | D38: =EMISIONES!AE99 -> 0 | E38: =D38/D44 -> #DIV/0!
B39: CH4 | C39: =D39/EMISIONES!$CE$402 -> 0 | D39: =EMISIONES!AM99 -> 0 | E39: =D39/D44 -> #DIV/0!
B40: N2O | C40: =D40/EMISIONES!$CE$403 -> 0 | D40: =EMISIONES!AU99 -> 0 | E40: =D40/D44 -> #DIV/0!
B41: HFC | C41: No aplica | D41: =EMISIONES!BB99 -> 0 | E41: =D41/D44 -> #DIV/0!
B42: PFC | C42: No aplica | D42: =EMISIONES!BI99 -> 0 | E42: =D42/D44 -> #DIV/0!
B43: SF6 | C43: =D43/EMISIONES!$CE$404 -> 0 | D43: =EMISIONES!BQ99 -> 0 | E43: =D43/D44 -> #DIV/0!
B44: TOTAL ALCANCES 1 y 2 | C44: No aplica | D44: =SUM(D38:D43) -> 0 | E44: =SUM(E38:E43) -> #DIV/0!
B50: CREDITOS:
B52: Ministerio de Ambiente de la Republica de Panamá - MiAMBIENTE
B54: Milciades Concepción - Ministro de Ambiente
B55: Cindy Monge - Viceministra de Ambiente
B58: Ligia Castro - Directora Nacional de Cambio Climático
B59: Javier Martínez - Jefe encargado del Departamento de Mitigación
B61: Coordinación técnica: Kevin Polo Raúl Gutierrez Colaboradores: Yoisy Belén Castillo Isaías Martínez Mariel Sanjur Jean Méndez
B67: Revision de Modificaciones en Versiones
B69: Versión | C69: Cambios realizados
B70: 44290 | C70: Versión original
B77: Clave desbloqueo: | C77: 80123558

Sheet Hoja1
B2: HERRAMIENTA DE CÁLCULO DE EMISIONES DE GASES DE EFECTO INVERNADERO PARA PROYECTOS
B5: DATOS GENERALES DEL PROYECTO
B6: NOMBRE DEL PROYECTO: | C6: =EMISIONES!C6 -> 0 | F6: CONSULTOR QUE ELABORA EL CÁLCULO: | G6: =EMISIONES!H6 -> 0
B7: EMPRESA PROMOTORA: | C7: =EMISIONES!C7 -> 0 | F7: CORREO ELECTRÓNICO: | G7: =EMISIONES!H7 -> 0
B8: CATEGORÍA DEL PROYECTO: | C8: =EMISIONES!C8 -> 0 | F8: TELÉFONO: | G8: =EMISIONES!H8 -> 0
B9: CONTACTO DE LA PROMOTORA: | C9: =EMISIONES!C9 -> 0 | F9: RESOLUCIÓN | G9: =EMISIONES!H9 -> 0
B10: CORREO ELECTRÓNICO DE LA PROMOTORA: | C10: =EMISIONES!C10 -> 0 | F10: AÑO CALCULADO: | G10: =EMISIONES!H10 -> 0
B12: REGIONES CLIMÁTICAS
B13: Región Climática | C13: Siglas | D13: Temperatura media anual (°C) | E13: Precipitación media anual (mm)
B14: Tropical húmeda | C14: TH | D14: mayor a 24 °C | E14: menor a 2,000
B15: Tropical muy húmeda | C15: TMH | D15: mayor a 24 °C | E15: 2,000 - 8,000
B16: Tropical montano | C16: TM | D16: menor a 24 °C | E16: 1,000 - 8,000
B17: Tabla elaborada por el Departamento de Mitigación con base en los valores del diagrama sobre zonas de vida de Holdridge y las regiones climáticas del IPCC-2006
B19: TABLA PARA FACTOR DE EMISIÓN DE LA BIOMASA AÉREA POR DEFECTO
B20: Parámetro | C20: Unidad | D20: Tipo de vegetación | E20: Región Climática | H20: Fuente
B21: Tierras Forestales | E21: TM | F21: TMH | G21: TH
B22: Biomasa aérea | C22: ton dm.ha-1 | D22: Bosque Maduro | E22: 160.55 | F22: 160.55 | G22: 160.55 | H22: Datos nacionales (INFC)
D23: Bosque Secundario | E23: 94.17 | F23: 94.17 | G23: 94.17
D24: Manglar | F24: 75.67 | G24: 75.67
D25: Plantaciones, Latifoliadas | E25: 150 | F25: 240 | G25: 120 | H25: Vol. 4, Cap. 4, Pag. 4.63. Cuadros 4.8
D26: Plantaciones, Coniferas | E26: 300 | F26: 270 | G26: 270 | H26: Vol. 4, Cap. 4, Pag. 4.63. Cuadros 4.8
D27: Rastrojos | E27: 28.72 | F27: 28.72 | G27: 28.72 | H27: Datos nacionales (INFC)
B28: Tabla elaborada por el Departamento de Mitigación con base en el inventario forestal, de carbono y las Directrices del IPCC de 2006
B30: TABLA PARA IDENTIFICAR EL USO INICIAL DE LA TIERRA
B31: Uso inicial de la tierra | C31: Tipo de vegetación
B32: Tierras forestales | C32: Bosque Maduro
C33: Bosque Secundario
C34: Manglar
C35: Plantaciones, Latifoliadas
C36: Plantaciones, Coniferas
C37: Rastrojos
B38: Tierras de cultivo | C38: Cultivo anual (biomasa no leñosa)
C39: Árboles
C40: Cultivo perenne (biomasa leñosa)
B41: Pastizales | C41: Árboles
C42: Pastizales
B43: Otras | C43: Árboles
B44: Tabla elaborada por el Departamento de Mitigación
B46: TABLA PARA LA CONVERSIÓN Y EXPANSIÓN DEL VOLUMEN DE LOS BOSQUES A BIOMASA AÉREA
B47: Rango de volumen (m3/ha) | C47: BCEFR
C48: Especies latifoliadas | D48: Coníferas (pino)
B49: < 10 | C49: 10 | D49: 4.44
B50: 11 - 20 | C50: 4.44 | D50: 1.94
B51: 21 - 40 | C51: 3.11 | D51: 1.39
B52: 41 - 60 | C52: 2.28 | D52: 1.11
B53: 61 - 80 | C53: 1.89 | D53: 0.89
B54: 81 - 120 | C54: 1.67 | D54: 0.84
B55: 121 - 200 | C55: 1.44 | D55: 0.77
B56: >200 | C56: 1.05 | D56: 0.77
B57: Tabla elaborada por el Departamento de Mitigación
B58: Fuente: Cuadro 4.5. Cap. 4. Vol. 4. Directrices del IPCC 2006
B59: a). Se aplica el factor FCEFS, ya que, los inventarios forestales que se realizan al amparo de los proyectos bajo EIA, se practican en bosques o árboles dispersos en pie, lo cual corresponde a existencia en crecimiento.
B60: b). Cuando el volumen corresponda a árboles de especies litifoliadas dispersas, debe aplicarse el factor de 1.5, mientras que para coníferas dispersas 0.76. La razón odebecea a que, se estima que el desarrollo promedio para especies latifoliadas dispersas en todo el territorio nacional, se asemeja más a las dimensiones de los árboles de los bosques secundarios dentro del rango de 81 - 120 m3/ha, y la proporción de los árboles dispersos en edad madura es pequeña con respecto al resto de los árboles dispersos). Además, debido a que estos árboles están aislados, la proporción de la copa con respecto al tronco, es mayor a la de los árboles del bosque secundario o en plantaciones.

Sheet Otros factores
A1: CALCULO FACTOR DE EMISIÓN - MANEJO DE ESTIERCOL | B1: CH4 | E1: N2O
G2: ExF | I2: GxHx44/28
A3: TIPO DE ANIMAL | B3: FACTOR DE EMISIÓN CH4 | C3: FACTOR EMISIÓN CO2 e | E3: N Excretado | F3: % N según Sistema de Manejo | G3: N Excretado por Sistema de Manejo | H3: Factor de Emisión N2O | I3: Emisiones de N2O | J3: FACTOR EMISIÓN CO2 e | L3: FACTRO DE EMISION CO2 e TOTAL
C4: 1995 | D4: 2007 | J4: 1995 | K4: 2007 | L4: 1995 | M4: 2007
A5: 0 | B5: 0 | C5: 0 | D5: 0 | E5: 0 | F5: 0 | G5: 0 | H5: 0 | I5: 0 | J5: 0 | K5: 0 | L5: 0 | M5: 0
A6: Ganado No Lechero - Clima Frío | B6: 1 | C6: =+B6*21 -> 21 | D6: =+B6*25 -> 25 | E6: 40 | F6: 0.99 | G6: =+E6*F6 -> 39.6 | H6: 0.02 | I6: =+G6*H6*44/28 -> 1.2445714 | J6: =+I6*310 -> 385.81714 | K6: =+I6*298 -> 370.88229 | L6: =+C6+J6 -> 406.81714 | M6: =+D6+K6 -> 395.88229
A7: Ganado No Lechero - Clima Templado | B7: 1 | C7: =+B7*21 -> 21 | D7: =+B7*25 -> 25 | E7: 40 | F7: 0.99 | G7: =+E7*F7 -> 39.6 | H7: 0.02 | I7: =+G7*H7*44/28 -> 1.2445714 | J7: =+I7*310 -> 385.81714 | K7: =+I7*298 -> 370.88229 | L7: =+C7+J7 -> 406.81714 | M7: =+D7+K7 -> 395.88229
A8: Ganado No Lechero - Clima Cálido | B8: 1 | C8: =+B8*21 -> 21 | D8: =+B8*25 -> 25 | E8: 40 | F8: 0.99 | G8: =+E8*F8 -> 39.6 | H8: 0.02 | I8: =+G8*H8*44/28 -> 1.2445714 | J8: =+I8*310 -> 385.81714 | K8: =+I8*298 -> 370.88229 | L8: =+C8+J8 -> 406.81714 | M8: =+D8+K8 -> 395.88229
A9: Ganado Lechero - Clima Frío | B9: 0 | C9: =+B9*21 -> 0 | D9: =+B9*25 -> 0 | E9: 70 | F9: 0.36 | G9: =+E9*F9 -> 25.2 | H9: 0.02 | I9: =+G9*H9*44/28 -> 0.792 | J9: =+I9*310 -> 245.52 | K9: =+I9*298 -> 236.016 | L9: =+C9+J9 -> 245.52 | M9: =+D9+K9 -> 236.016
A10: Ganado Lechero - Clima Templado | B10: 1 | C10: =+B10*21 -> 21 | D10: =+B10*25 -> 25 | E10: 70 | F10: 0.36 | G10: =+E10*F10 -> 25.2 | H10: 0.02 | I10: =+G10*H10*44/28 -> 0.792 | J10: =+I10*310 -> 245.52 | K10: =+I10*298 -> 236.016 | L10: =+C10+J10 -> 266.52 | M10: =+D10+K10 -> 261.016
A11: Ganado Lechero - Clima Cálido | B11: 2 | C11: =+B11*21 -> 42 | D11: =+B11*25 -> 50 | E11: 70 | F11: 0.36 | G11: =+E11*F11 -> 25.2 | H11: 0.02 | I11: =+G11*H11*44/28 -> 0.792 | J11: =+I11*310 -> 245.52 | K11: =+I11*298 -> 236.016 | L11: =+C11+J11 -> 287.52 | M11: =+D11+K11 -> 286.016
A12: Aves de Corral - Clima Frío | B12: 0.012 | C12: =+B12*21 -> 0.252 | D12: =+B12*25 -> 0.3 | E12: 0.6 | F12: 0.42 | G12: =+E12*F12 -> 0.252 | H12: 0.02 | I12: =+G12*H12*44/28 -> 0.00792 | J12: =+I12*310 -> 2.4552 | K12: =+I12*298 -> 2.36016 | L12: =+C12+J12 -> 2.7072 | M12: =+D12+K12 -> 2.66016
A13: Aves de Corral - Clima Templado | B13: 0.018 | C13: =+B13*21 -> 0.378 | D13: =+B13*25 -> 0.45 | E13: 0.6 | F13: 0.42 | G13: =+E13*F13 -> 0.252 | H13: 0.02 | I13: =+G13*H13*44/28 -> 0.00792 | J13: =+I13*310 -> 2.4552 | K13: =+I13*298 -> 2.36016 | L13: =+C13+J13 -> 2.8332 | M13: =+D13+K13 -> 2.81016
A14: Aves de Corral - Clima Cálido | B14: 0.023 | C14: =+B14*21 -> 0.483 | D14: =+B14*25 -> 0.575 | E14: 0.6 | F14: 0.42 | G14: =+E14*F14 -> 0.252 | H14: 0.02 | I14: =+G14*H14*44/28 -> 0.00792 | J14: =+I14*310 -> 2.4552 | K14: =+I14*298 -> 2.36016 | L14: =+C14+J14 -> 2.9382 | M14: =+D14+K14 -> 2.93516
A15: Ovejas - Clima Frío | B15: 0.1 | C15: =+B15*21 -> 2.1 | D15: =+B15*25 -> 2.5 | E15: 12 | F15: 1 | G15: =+E15*F15 -> 12 | H15: 0.02 | I15: =+G15*H15*44/28 -> 0.37714286 | J15: =+I15*310 -> 116.91429 | K15: =+I15*298 -> 112.38857 | L15: =+C15+J15 -> 119.01429 | M15: =+D15+K15 -> 114.88857
A16: Ovejas - Clima Tempaldo | B16: 0.16 | C16: =+B16*21 -> 3.36 | D16: =+B16*25 -> 4 | E16: 12 | F16: 1 | G16: =+E16*F16 -> 12 | H16: 0.02 | I16: =+G16*H16*44/28 -> 0.37714286 | J16: =+I16*310 -> 116.91429 | K16: =+I16*298 -> 112.38857 | L16: =+C16+J16 -> 120.27429 | M16: =+D16+K16 -> 116.38857
A17: Ovejas - Clima Cálido | B17: 0.21 | C17: =+B17*21 -> 4.41 | D17: =+B17*25 -> 5.25 | E17: 12 | F17: 1 | G17: =+E17*F17 -> 12 | H17: 0.02 | I17: =+G17*H17*44/28 -> 0.37714286 | J17: =+I17*310 -> 116.91429 | K17: =+I17*298 -> 112.38857 | L17: =+C17+J17 -> 121.32429 | M17: =+D17+K17 -> 117.63857
... A35: Mulas y Asnos - Clima Cálido | B35: 1.19 | C35: =+B35*21 -> 24.99 | D35: =+B35*25 -> 29.75 | E35: 40 | F35: 0.99 | G35: =+E35*F35 -> 39.6 | H35: 0.02 | I35: =+G35*H35*44/28 -> 1.2445714 | J35: =+I35*310 -> 385.81714 | K35: =+I35*298 -> 370.88229 | L35: =+C35+J35 -> 410.80714 | M35: =+D35+K35 -> 400.63229
