Workbook
Name CATEGORIA: #REF!
Name Otras: EMISIONES!$EC$118
Name Pastizales: EMISIONES!$EC$121
Name Tierras_de_Cultivo: EMISIONES!$EC$119:$EC$120
Name Tierras_Forestales: EMISIONES!$EC$112:$EC$117

Sheet EMISIONES
B2: HERRAMIENTA DE CÁLCULO DE EMISIONES DE GASES DE EFECTO INVERNADERO PARA PROYECTOS
B5: DATOS GENERALES DEL PROYECTO
B6: NOMBRE DEL PROYECTO: | F6: PERSONA QUE ELABORA EL CÁLCULO:
B7: EMPRESA PROMOTORA: | F7: CORREO ELECTRÓNICO:
B8: CATEGORÍA DEL PROYECTO: | F8: TELÉFONO:
B9: CONTACTO DE LA PROMOTORA: | F9: RESOLUCIÓN
B10: CORREO ELECTRÓNICO DE LA PROMOTORA: | F10: PERIODO CALCULADO:
B12: ALCANCE 1
B13: FUENTES MÓVILES
B14: FUENTE DE EMISIÓN DE GEI (Seleccione de la lista) | C14: REPORTE | D14: N/A | E14: DATOS DE ACTIVIDAD (Seleccione de la lista el dato de actividad que va a reportar) | F14: VALOR DE DATO DE ACTIVIDAD | U14: INCERTIDUMBRE DATOS | Z14: EMISIONES CO2 | AH14: EMISIONES CH4 | AP14: EMISIONES N2O | AX14: EMISIONES HFC | BE14: EMISIONES PFC | BL14: EMISIONES SF6 | BT14: EMISIONES CO2 BIOGÉNICO | CA14: HUELLA DE CARBONO (t CO2 eq) | CB14: INCERTIDUMBRE DE LA FUENTE
F15: UNIDAD | G15: DATO 1 | H15: DATO 2 | I15: DATO 3 | J15: DATO 4 | K15: DATO 5 | L15: DATO 6 | M15: DATO 7 | N15: DATO 8 | O15: DATO 9 | P15: DATO 10 | Q15: DATO 11 | R15: DATO 12 | S15: TOTAL | T15: No. DATOS | U15: PROMEDIO | V15: DESVIACION ESTÁNDAR | W15: FACTOR T | X15: INCERTIDUMBRE SISTEMATICA DATOS | Y15: INCERTIDUMBRE DATOS | Z15: FACTOR DE EMISIÓN CO2eq | AB15: FUENTE BIBLIOGRÁFICA | AC15: INCERTIDUMBRE FACTOR EMISIÓN CO2eq | AD15: EMISIONES CO2eq (tCO2eq) | AE15: EMISIONES CO2eq (tCO2eq) | AF15: INCERTIDUMBRE EMISIONES CO2eq | AG15: Columna Auxiliar | AH15: FACTOR DE EMISIÓN CH4 | AJ15: FUENTE BIBLIOGRÁFICA | AK15: INCERTIDUMBRE FACTOR EMISIÓN CH4 | AL15: EMISIONES CH4 (tCH4) | AM15: EMISIONES CH4 (tCO2eq) | AN15: INCERTIDUMBRE EMISIONES CH4 | AO15: Columna Auxiliar | AP15: FACTOR DE EMISIÓN N2O | AR15: FUENTE BIBLIOGRÁFICA | AS15: INCERTIDUMBRE FACTOR EMISIÓN N2O | AT15: EMISIONES N2O (tN2O) | AU15: EMISIONES N2O (tCO2eq) | AV15: INCERTIDUMBRE EMISIONES N2O | AW15: Columna Auxiliar | AX15: FACTOR DE EMISIÓN HFC | AZ15: FUENTE BIBLIOGRÁFICA | BA15: INCERTIDUMBRE FACTOR EMISIÓN HFC | BB15: EMISIONES HFC (tCO2eq) | BC15: INCERTIDUMBRE EMISIONES HFC | BD15: Columna Auxiliar | BE15: FACTOR DE EMISIÓN PFC | BG15: FUENTE BIBLIOGRÁFICA | BH15: INCERTIDUMBRE FACTOR EMISIÓN PFC | BI15: EMISIONES PFC (tCO2eq) | BJ15: INCERTIDUMBRE EMISIONES PFC | BK15: Columna Auxiliar | BL15: FACTOR DE EMISIÓN SF6 | BN15: FUENTE BIBLIOGRÁFICA | BO15: INCERTIDUMBRE FACTOR EMISIÓN SF6 | BP15: EMISIONES SF6 (t SF6) | BQ15: EMISIONES SF6 (t CO2 eq) | BR15: INCERTIDUMBRE EMISIONES SF6 | BS15: Columna Auxiliar | BT15: FACTOR DE EMISIÓN CO2 (biogénico) | BV15: FUENTE BIBLIOGRÁFICA | BW15: INCERTIDUMBRE FACTOR EMISIÓN CO2 (Biogénico) | BX15: EMISIONES CO2Biogénico (t CO2 Biogénico) | BY15: INCERTIDUMBRE EMISIONES CO2 Biogénico | BZ15: Columna Auxiliar | CC15: Variable Auxiliar = (Huella de carbono x Incertidumbre de la fuente)^2
B16: Consumo de combustibles líquidos | C16: DatosActividad | F16: =VLOOKUP($E16,$CD$114:$DH$479,2,FALSE) -> 0 | S16: =SUM(G16:R16) -> 0 | T16: =COUNT(G16:R16) -> 0 | U16: =IF(T16>1,AVERAGE(G16:R16),0) -> 0 | V16: =IF(T16>1,STDEV(G16:R16),0) -> 0 | W16: =IF(T16>1,VLOOKUP($T16,$CD$383:$CE$395,2,FALSE),0) -> 0 | Y16: =IF(X16>0,X16,IF(T16>1,1-((U16-((V16*W16)/(SQRT(T16))))/U16),VLOOKUP($E16,$CD$114:$DK$479,34,FALSE))) -> 0.05 | Z16: =VLOOKUP($E16,$CD$114:$DH$479,3,FALSE) -> 0 | AA16: =VLOOKUP($E16,$CD$114:$DH$479,4,FALSE) -> 0 | AB16: =IF($S16>0,VLOOKUP($E16,$CD$114:$DH$479,7,FALSE),0) -> 0 | AC16: =IF($S16>0,VLOOKUP($E16,$CD$114:$DH$479,6,FALSE),0) -> 0 | AD16: =($S16*Z16)/1000 -> 0 | AE16: =AD16*$CE$401 -> 0 | AF16: =IF(AD16>0,SQRT(($Y16*$Y16)+(AC16*AC16)),0) -> 0 | AG16: =(AE16*AF16)^2 -> 0 | AH16: =VLOOKUP($E16,$CD$114:$DH$479,21,FALSE) -> 0 | AI16: =VLOOKUP($E16,$CD$114:$DH$479,22,FALSE) -> 0 | AJ16: =IF($S16>0,VLOOKUP($E16,$CD$114:$DH$479,25,FALSE),0) -> 0 | AK16: =IF($S16>0,VLOOKUP($E16,$CD$114:$DH$479,24,FALSE),0) -> 0 | AL16: =($S16*AH16)/1000 -> 0 | AM16: =AL16*$CE$402 -> 0 | AN16: =IF(AL16>0,SQRT(($Y16*$Y16)+(AK16*AK16)),0) -> 0 | AO16: =(AM16*AN16)^2 -> 0 | AP16: =VLOOKUP($E16,$CD$114:$DH$479,27,FALSE) -> 0 | AQ16: =VLOOKUP($E16,$CD$114:$DH$479,28,FALSE) -> 0 | AR16: =IF($S16>0,VLOOKUP($E16,$CD$114:$DH$479,31,FALSE),0) -> 0 | AS16: =IF($S16>0,VLOOKUP($E16,$CD$114:$DH$479,30,FALSE),0) -> 0 | AT16: =($S16*AP16)/1000 -> 0 | AU16: =AT16*$CE$403 -> 0 | AV16: =IF(AT16>0,SQRT(($Y16*$Y16)+(AS16*AS16)),0) -> 0 | AW16: =(AU16*AV16)^2 -> 0 | AX16: 0 | AY16: 0 | AZ16: 0 | BA16: 0 | BB16: =($S16*AX16)/1000 -> 0 | BC16: =IF(BB16>0,SQRT(($Y16*$Y16)+(BA16*BA16)),0) -> 0 | BD16: =(BB16*BC16)^2 -> 0 | BE16: 0 | BF16: 0 | BG16: 0 | BH16: 0 | BI16: =($S16*BE16)/1000 -> 0 | BJ16: =IF(BI16>0,SQRT(($Y16*$Y16)+(BH16*BH16)),0) -> 0 | BK16: =(BI16*BJ16)^2 -> 0 | BL16: 0 | BM16: 0 | BN16: 0 | BO16: 0 | BP16: =($S16*BL16)/1000 -> 0 | BQ16: =BP16*$CE$404 -> 0 | BR16: =IF(BP16>0,SQRT(($Y16*$Y16)+(BO16*BO16)),0) -> 0 | BS16: =(BQ16*BR16)^2 -> 0 | BT16: =VLOOKUP($E16,$CD$114:$DI$479,32,FALSE) -> 0 | BU16: =VLOOKUP($E16,$CD$114:$DH$479,4,FALSE) -> 0 | BV16: =IF($S16>0,VLOOKUP($E16,$CD$114:$DH$479,7,FALSE),0) -> 0 | BW16: =IF($S16>0,VLOOKUP($E16,$CD$114:$DH$479,6,FALSE),0) -> 0 | BX16: =($S16*BT16)/1000 -> 0 | BY16: =IF(BX16>0,SQRT(($Y16*$Y16)+(BW16*BW16)),0) -> 0 | BZ16: =(BX16*BY16)^2 -> 0 | CA16: =IF(C16="EmisionesGEI",D16,AE16+AM16+AU16+BB16+BQ16) -> 0 | CB16: =IF(CA16>0,SQRT(AG16+AO16+AW16+BD16+BS16)/CA16,0) -> 0 | CC16: =(CA16*CB16)^2 -> 0
B17: (Fuentes Móviles) | C17: DatosActividad | F17: =VLOOKUP($E17,$CD$114:$DH$479,2,FALSE) -> 0 | S17: =SUM(G17:R17) -> 0 | T17: =COUNT(G17:R17) -> 0 | U17: =IF(T17>1,AVERAGE(G17:R17),0) -> 0 | V17: =IF(T17>1,STDEV(G17:R17),0) -> 0 | W17: =IF(T17>1,VLOOKUP($T17,$CD$383:$CE$395,2,FALSE),0) -> 0 | Y17: =IF(X17>0,X17,IF(T17>1,1-((U17-((V17*W17)/(SQRT(T17))))/U17),VLOOKUP($E17,$CD$114:$DK$479,34,FALSE))) -> 0.05 | Z17: =VLOOKUP($E17,$CD$114:$DH$479,3,FALSE) -> 0 | AA17: =VLOOKUP($E17,$CD$114:$DH$479,4,FALSE) -> 0 | AB17: =IF($S17>0,VLOOKUP($E17,$CD$114:$DH$479,7,FALSE),0) -> 0 | AC17: =IF($S17>0,VLOOKUP($E17,$CD$114:$DH$479,6,FALSE),0) -> 0 | AD17: =($S17*Z17)/1000 -> 0 | AE17: =AD17*$CE$401 -> 0 | AF17: =IF(AD17>0,SQRT(($Y17*$Y17)+(AC17*AC17)),0) -> 0 | AG17: =(AE17*AF17)^2 -> 0 | AH17: =VLOOKUP($E17,$CD$114:$DH$479,21,FALSE) -> 0 | AI17: =VLOOKUP($E17,$CD$114:$DH$479,22,FALSE) -> 0 | AJ17: =IF($S17>0,VLOOKUP($E17,$CD$114:$DH$479,25,FALSE),0) -> 0 | AK17: =IF($S17>0,VLOOKUP($E17,$CD$114:$DH$479,24,FALSE),0) -> 0 | AL17: =($S17*AH17)/1000 -> 0 | AM17: =AL17*$CE$402 -> 0 | AN17: =IF(AL17>0,SQRT(($Y17*$Y17)+(AK17*AK17)),0) -> 0 | AO17: =(AM17*AN17)^2 -> 0 | AP17: =VLOOKUP($E17,$CD$114:$DH$479,27,FALSE) -> 0 | AQ17: =VLOOKUP($E17,$CD$114:$DH$479,28,FALSE) -> 0 | AR17: =IF($S17>0,VLOOKUP($E17,$CD$114:$DH$479,31,FALSE),0) -> 0 | AS17: =IF($S17>0,VLOOKUP($E17,$CD$114:$DH$479,30,FALSE),0) -> 0 | AT17: =($S17*AP17)/1000 -> 0 | AU17: =AT17*$CE$403 -> 0 | AV17: =IF(AT17>0,SQRT(($Y17*$Y17)+(AS17*AS17)),0) -> 0 | AW17: =(AU17*AV17)^2 -> 0 | AX17: 0 | AY17: 0 | AZ17: 0 | BA17: 0 | BB17: =($S17*AX17)/1000 -> 0 | BC17: =IF(BB17>0,SQRT(($Y17*$Y17)+(BA17*BA17)),0) -> 0 | BD17: =(BB17*BC17)^2 -> 0 | BE17: 0 | BF17: 0 | BG17: 0 | BH17: 0 | BI17: =($S17*BE17)/1000 -> 0 | BJ17: =IF(BI17>0,SQRT(($Y17*$Y17)+(BH17*BH17)),0) -> 0 | BK17: =(BI17*BJ17)^2 -> 0 | BL17: 0 | BM17: 0 | BN17: 0 | BO17: 0 | BP17: =($S17*BL17)/1000 -> 0 | BQ17: =BP17*$CE$404 -> 0 | BR17: =IF(BP17>0,SQRT(($Y17*$Y17)+(BO17*BO17)),0) -> 0 | BS17: =(BQ17*BR17)^2 -> 0 | BT17: =VLOOKUP($E17,$CD$114:$DI$479,32,FALSE) -> 0 | BU17: =VLOOKUP($E17,$CD$114:$DH$479,4,FALSE) -> 0 | BV17: =IF($S17>0,VLOOKUP($E17,$CD$114:$DH$479,7,FALSE),0) -> 0 | BW17: =IF($S17>0,VLOOKUP($E17,$CD$114:$DH$479,6,FALSE),0) -> 0 | BX17: =($S17*BT17)/1000 -> 0 | BY17: =IF(BX17>0,SQRT(($Y17*$Y17)+(BW17*BW17)),0) -> 0 | BZ17: =(BX17*BY17)^2 -> 0 | CA17: =IF(C17="EmisionesGEI",D17,AE17+AM17+AU17+BB17+BQ17) -> 0 | CB17: =IF(CA17>0,SQRT(AG17+AO17+AW17+BD17+BS17)/CA17,0) -> 0 | CC17: =(CA17*CB17)^2 -> 0
C18: DatosActividad | F18: =VLOOKUP($E18,$CD$114:$DH$479,2,FALSE) -> 0 | S18: =SUM(G18:R18) -> 0 | T18: =COUNT(G18:R18) -> 0 | U18: =IF(T18>1,AVERAGE(G18:R18),0) -> 0 | V18: =IF(T18>1,STDEV(G18:R18),0) -> 0 | W18: =IF(T18>1,VLOOKUP($T18,$CD$383:$CE$395,2,FALSE),0) -> 0 | Y18: =IF(X18>0,X18,IF(T18>1,1-((U18-((V18*W18)/(SQRT(T18))))/U18),VLOOKUP($E18,$CD$114:$DK$479,34,FALSE))) -> 0.05 | Z18: =VLOOKUP($E18,$CD$114:$DH$479,3,FALSE) -> 0 | AA18: =VLOOKUP($E18,$CD$114:$DH$479,4,FALSE) -> 0 | AB18: =IF($S18>0,VLOOKUP($E18,$CD$114:$DH$479,7,FALSE),0) -> 0 | AC18: =IF($S18>0,VLOOKUP($E18,$CD$114:$DH$479,6,FALSE),0) -> 0 | AD18: =($S18*Z18)/1000 -> 0 | AE18: =AD18*$CE$401 -> 0 | AF18: =IF(AD18>0,SQRT(($Y18*$Y18)+(AC18*AC18)),0) -> 0 | AG18: =(AE18*AF18)^2 -> 0 | AH18: =VLOOKUP($E18,$CD$114:$DH$479,21,FALSE) -> 0 | AI18: =VLOOKUP($E18,$CD$114:$DH$479,22,FALSE) -> 0 | AJ18: =IF($S18>0,VLOOKUP($E18,$CD$114:$DH$479,25,FALSE),0) -> 0 | AK18: =IF($S18>0,VLOOKUP($E18,$CD$114:$DH$479,24,FALSE),0) -> 0 | AL18: =($S18*AH18)/1000 -> 0 | AM18: =AL18*$CE$402 -> 0 | AN18: =IF(AL18>0,SQRT(($Y18*$Y18)+(AK18*AK18)),0) -> 0 | AO18: =(AM18*AN18)^2 -> 0 | AP18: =VLOOKUP($E18,$CD$114:$DH$479,27,FALSE) -> 0 | AQ18: =VLOOKUP($E18,$CD$114:$DH$479,28,FALSE) -> 0 | AR18: =IF($S18>0,VLOOKUP($E18,$CD$114:$DH$479,31,FALSE),0) -> 0 | AS18: =IF($S18>0,VLOOKUP($E18,$CD$114:$DH$479,30,FALSE),0) -> 0 | AT18: =($S18*AP18)/1000 -> 0 | AU18: =AT18*$CE$403 -> 0 | AV18: =IF(AT18>0,SQRT(($Y18*$Y18)+(AS18*AS18)),0) -> 0 | AW18: =(AU18*AV18)^2 -> 0 | AX18: 0 | AY18: 0 | AZ18: 0 | BA18: 0 | BB18: =($S18*AX18)/1000 -> 0 | BC18: =IF(BB18>0,SQRT(($Y18*$Y18)+(BA18*BA18)),0) -> 0 | BD18: =(BB18*BC18)^2 -> 0 | BE18: 0 | BF18: 0 | BG18: 0 | BH18: 0 | BI18: =($S18*BE18)/1000 -> 0 | BJ18: =IF(BI18>0,SQRT(($Y18*$Y18)+(BH18*BH18)),0) -> 0 | BK18: =(BI18*BJ18)^2 -> 0 | BL18: 0 | BM18: 0 | BN18: 0 | BO18: 0 | BP18: =($S18*BL18)/1000 -> 0 | BQ18: =BP18*$CE$404 -> 0 | BR18: =IF(BP18>0,SQRT(($Y18*$Y18)+(BO18*BO18)),0) -> 0 | BS18: =(BQ18*BR18)^2 -> 0 | BT18: =VLOOKUP($E18,$CD$114:$DI$479,32,FALSE) -> 0 | BU18: =VLOOKUP($E18,$CD$114:$DH$479,4,FALSE) -> 0 | BV18: =IF($S18>0,VLOOKUP($E18,$CD$114:$DH$479,7,FALSE),0) -> 0 | BW18: =IF($S18>0,VLOOKUP($E18,$CD$114:$DH$479,6,FALSE),0) -> 0 | BX18: =($S18*BT18)/1000 -> 0 | BY18: =IF(BX18>0,SQRT(($Y18*$Y18)+(BW18*BW18)),0) -> 0 | BZ18: =(BX18*BY18)^2 -> 0 | CA18: =IF(C18="EmisionesGEI",D18,AE18+AM18+AU18+BB18+BQ18) -> 0 | CB18: =IF(CA18>0,SQRT(AG18+AO18+AW18+BD18+BS18)/CA18,0) -> 0 | CC18: =(CA18*CB18)^2 -> 0
C19: DatosActividad | F19: =VLOOKUP($E19,$CD$114:$DH$479,2,FALSE) -> 0 | S19: =SUM(G19:R19) -> 0 | T19: =COUNT(G19:R19) -> 0 | U19: =IF(T19>1,AVERAGE(G19:R19),0) -> 0 | V19: =IF(T19>1,STDEV(G19:R19),0) -> 0 | W19: =IF(T19>1,VLOOKUP($T19,$CD$383:$CE$395,2,FALSE),0) -> 0 | Y19: =IF(X19>0,X19,IF(T19>1,1-((U19-((V19*W19)/(SQRT(T19))))/U19),VLOOKUP($E19,$CD$114:$DK$479,34,FALSE))) -> 0.05 | Z19: =VLOOKUP($E19,$CD$114:$DH$479,3,FALSE) -> 0 | AA19: =VLOOKUP($E19,$CD$114:$DH$479,4,FALSE) -> 0 | AB19: =IF($S19>0,VLOOKUP($E19,$CD$114:$DH$479,7,FALSE),0) -> 0 | AC19: =IF($S19>0,VLOOKUP($E19,$CD$114:$DH$479,6,FALSE),0) -> 0 | AD19: =($S19*Z19)/1000 -> 0 | AE19: =AD19*$CE$401 -> 0 | AF19: =IF(AD19>0,SQRT(($Y19*$Y19)+(AC19*AC19)),0) -> 0 | AG19: =(AE19*AF19)^2 -> 0 | AH19: =VLOOKUP($E19,$CD$114:$DH$479,21,FALSE) -> 0 | AI19: =VLOOKUP($E19,$CD$114:$DH$479,22,FALSE) -> 0 | AJ19: =IF($S19>0,VLOOKUP($E19,$CD$114:$DH$479,25,FALSE),0) -> 0 | AK19: =IF($S19>0,VLOOKUP($E19,$CD$114:$DH$479,24,FALSE),0) -> 0 | AL19: =($S19*AH19)/1000 -> 0 | AM19: =AL19*$CE$402 -> 0 | AN19: =IF(AL19>0,SQRT(($Y19*$Y19)+(AK19*AK19)),0) -> 0 | AO19: =(AM19*AN19)^2 -> 0 | AP19: =VLOOKUP($E19,$CD$114:$DH$479,27,FALSE) -> 0 | AQ19: =VLOOKUP($E19,$CD$114:$DH$479,28,FALSE) -> 0 | AR19: =IF($S19>0,VLOOKUP($E19,$CD$114:$DH$479,31,FALSE),0) -> 0 | AS19: =IF($S19>0,VLOOKUP($E19,$CD$114:$DH$479,30,FALSE),0) -> 0 | AT19: =($S19*AP19)/1000 -> 0 | AU19: =AT19*$CE$403 -> 0 | AV19: =IF(AT19>0,SQRT(($Y19*$Y19)+(AS19*AS19)),0) -> 0 | AW19: =(AU19*AV19)^2 -> 0 | AX19: 0 | AY19: 0 | AZ19: 0 | BA19: 0 | BB19: =($S19*AX19)/1000 -> 0 | BC19: =IF(BB19>0,SQRT(($Y19*$Y19)+(BA19*BA19)),0) -> 0 | BD19: =(BB19*BC19)^2 -> 0 | BE19: 0 | BF19: 0 | BG19: 0 | BH19: 0 | BI19: =($S19*BE19)/1000 -> 0 | BJ19: =IF(BI19>0,SQRT(($Y19*$Y19)+(BH19*BH19)),0) -> 0 | BK19: =(BI19*BJ19)^2 -> 0 | BL19: 0 | BM19: 0 | BN19: 0 | BO19: 0 | BP19: =($S19*BL19)/1000 -> 0 | BQ19: =BP19*$CE$404 -> 0 | BR19: =IF(BP19>0,SQRT(($Y19*$Y19)+(BO19*BO19)),0) -> 0 | BS19: =(BQ19*BR19)^2 -> 0 | BT19: =VLOOKUP($E19,$CD$114:$DI$479,32,FALSE) -> 0 | BU19: =VLOOKUP($E19,$CD$114:$DH$479,4,FALSE) -> 0 | BV19: =IF($S19>0,VLOOKUP($E19,$CD$114:$DH$479,7,FALSE),0) -> 0 | BW19: =IF($S19>0,VLOOKUP($E19,$CD$114:$DH$479,6,FALSE),0) -> 0 | BX19: =($S19*BT19)/1000 -> 0 | BY19: =IF(BX19>0,SQRT(($Y19*$Y19)+(BW19*BW19)),0) -> 0 | BZ19: =(BX19*BY19)^2 -> 0 | CA19: =IF(C19="EmisionesGEI",D19,AE19+AM19+AU19+BB19+BQ19) -> 0 | CB19: =IF(CA19>0,SQRT(AG19+AO19+AW19+BD19+BS19)/CA19,0) -> 0 | CC19: =(CA19*CB19)^2 -> 0
B20: Consumo de combustibles gaseosos | C20: DatosActividad | F20: =VLOOKUP($E20,$CD$114:$DH$479,2,FALSE) -> 0 | S20: =SUM(G20:R20) -> 0 | T20: =COUNT(G20:R20) -> 0 | U20: =IF(T20>1,AVERAGE(G20:R20),0) -> 0 | V20: =IF(T20>1,STDEV(G20:R20),0) -> 0 | W20: =IF(T20>1,VLOOKUP($T20,$CD$383:$CE$395,2,FALSE),0) -> 0 | Y20: =IF(X20>0,X20,IF(T20>1,1-((U20-((V20*W20)/(SQRT(T20))))/U20),VLOOKUP($E20,$CD$114:$DK$479,34,FALSE))) -> 0.05 | Z20: =VLOOKUP($E20,$CD$114:$DH$479,3,FALSE) -> 0 | AA20: =VLOOKUP($E20,$CD$114:$DH$479,4,FALSE) -> 0 | AB20: =IF($S20>0,VLOOKUP($E20,$CD$114:$DH$479,7,FALSE),0) -> 0 | AC20: =IF($S20>0,VLOOKUP($E20,$CD$114:$DH$479,6,FALSE),0) -> 0 | AD20: =($S20*Z20)/1000 -> 0 | AE20: =AD20*$CE$401 -> 0 | AF20: =IF(AD20>0,SQRT(($Y20*$Y20)+(AC20*AC20)),0) -> 0 | AG20: =(AE20*AF20)^2 -> 0 | AH20: =VLOOKUP($E20,$CD$114:$DH$479,21,FALSE) -> 0 | AI20: =VLOOKUP($E20,$CD$114:$DH$479,22,FALSE) -> 0 | AJ20: =IF($S20>0,VLOOKUP($E20,$CD$114:$DH$479,25,FALSE),0) -> 0 | AK20: =IF($S20>0,VLOOKUP($E20,$CD$114:$DH$479,24,FALSE),0) -> 0 | AL20: =($S20*AH20)/1000 -> 0 | AM20: =AL20*$CE$402 -> 0 | AN20: =IF(AL20>0,SQRT(($Y20*$Y20)+(AK20*AK20)),0) -> 0 | AO20: =(AM20*AN20)^2 -> 0 | AP20: =VLOOKUP($E20,$CD$114:$DH$479,27,FALSE) -> 0 | AQ20: =VLOOKUP($E20,$CD$114:$DH$479,28,FALSE) -> 0 | AR20: =IF($S20>0,VLOOKUP($E20,$CD$114:$DH$479,31,FALSE),0) -> 0 | AS20: =IF($S20>0,VLOOKUP($E20,$CD$114:$DH$479,30,FALSE),0) -> 0 | AT20: =($S20*AP20)/1000 -> 0 | AU20: =AT20*$CE$403 -> 0 | AV20: =IF(AT20>0,SQRT(($Y20*$Y20)+(AS20*AS20)),0) -> 0 | AW20: =(AU20*AV20)^2 -> 0 | AX20: 0 | AY20: 0 | AZ20: 0 | BA20: 0 | BB20: =($S20*AX20)/1000 -> 0 | BC20: =IF(BB20>0,SQRT(($Y20*$Y20)+(BA20*BA20)),0) -> 0 | BD20: =(BB20*BC20)^2 -> 0 | BE20: 0 | BF20: 0 | BG20: 0 | BH20: 0 | BI20: =($S20*BE20)/1000 -> 0 | BJ20: =IF(BI20>0,SQRT(($Y20*$Y20)+(BH20*BH20)),0) -> 0 | BK20: =(BI20*BJ20)^2 -> 0 | BL20: 0 | BM20: 0 | BN20: 0 | BO20: 0 | BP20: =($S20*BL20)/1000 -> 0 | BQ20: =BP20*$CE$404 -> 0 | BR20: =IF(BP20>0,SQRT(($Y20*$Y20)+(BO20*BO20)),0) -> 0 | BS20: =(BQ20*BR20)^2 -> 0 | BT20: =VLOOKUP($E20,$CD$114:$DI$479,32,FALSE) -> 0 | BU20: =VLOOKUP($E20,$CD$114:$DH$479,4,FALSE) -> 0 | BV20: =IF($S20>0,VLOOKUP($E20,$CD$114:$DH$479,7,FALSE),0) -> 0 | BW20: =IF($S20>0,VLOOKUP($E20,$CD$114:$DH$479,6,FALSE),0) -> 0 | BX20: =($S20*BT20)/1000 -> 0 | BY20: =IF(BX20>0,SQRT(($Y20*$Y20)+(BW20*BW20)),0) -> 0 | BZ20: =(BX20*BY20)^2 -> 0 | CA20: =IF(C20="EmisionesGEI",D20,AE20+AM20+AU20+BB20+BQ20) -> 0 | CB20: =IF(CA20>0,SQRT(AG20+AO20+AW20+BD20+BS20)/CA20,0) -> 0 | CC20: =(CA20*CB20)^2 -> 0
B21: (Fuentes Móviles) | C21: DatosActividad | F21: =VLOOKUP($E21,$CD$114:$DH$479,2,FALSE) -> 0 | S21: =SUM(G21:R21) -> 0 | T21: =COUNT(G21:R21) -> 0 | U21: =IF(T21>1,AVERAGE(G21:R21),0) -> 0 | V21: =IF(T21>1,STDEV(G21:R21),0) -> 0 | W21: =IF(T21>1,VLOOKUP($T21,$CD$383:$CE$395,2,FALSE),0) -> 0 | Y21: =IF(X21>0,X21,IF(T21>1,1-((U21-((V21*W21)/(SQRT(T21))))/U21),VLOOKUP($E21,$CD$114:$DK$479,34,FALSE))) -> 0.05 | Z21: =VLOOKUP($E21,$CD$114:$DH$479,3,FALSE) -> 0 | AA21: =VLOOKUP($E21,$CD$114:$DH$479,4,FALSE) -> 0 | AB21: =IF($S21>0,VLOOKUP($E21,$CD$114:$DH$479,7,FALSE),0) -> 0 | AC21: =IF($S21>0,VLOOKUP($E21,$CD$114:$DH$479,6,FALSE),0) -> 0 | AD21: =($S21*Z21)/1000 -> 0 | AE21: =AD21*$CE$401 -> 0 | AF21: =IF(AD21>0,SQRT(($Y21*$Y21)+(AC21*AC21)),0) -> 0 | AG21: =(AE21*AF21)^2 -> 0 | AH21: =VLOOKUP($E21,$CD$114:$DH$479,21,FALSE) -> 0 | AI21: =VLOOKUP($E21,$CD$114:$DH$479,22,FALSE) -> 0 | AJ21: =IF($S21>0,VLOOKUP($E21,$CD$114:$DH$479,25,FALSE),0) -> 0 | AK21: =IF($S21>0,VLOOKUP($E21,$CD$114:$DH$479,24,FALSE),0) -> 0 | AL21: =($S21*AH21)/1000 -> 0 | AM21: =AL21*$CE$402 -> 0 | AN21: =IF(AL21>0,SQRT(($Y21*$Y21)+(AK21*AK21)),0) -> 0 | AO21: =(AM21*AN21)^2 -> 0 | AP21: =VLOOKUP($E21,$CD$114:$DH$479,27,FALSE) -> 0 | AQ21: =VLOOKUP($E21,$CD$114:$DH$479,28,FALSE) -> 0 | AR21: =IF($S21>0,VLOOKUP($E21,$CD$114:$DH$479,31,FALSE),0) -> 0 | AS21: =IF($S21>0,VLOOKUP($E21,$CD$114:$DH$479,30,FALSE),0) -> 0 | AT21: =($S21*AP21)/1000 -> 0 | AU21: =AT21*$CE$403 -> 0 | AV21: =IF(AT21>0,SQRT(($Y21*$Y21)+(AS21*AS21)),0) -> 0 | AW21: =(AU21*AV21)^2 -> 0 | AX21: 0 | AY21: 0 | AZ21: 0 | BA21: 0 | BB21: =($S21*AX21)/1000 -> 0 | BC21: =IF(BB21>0,SQRT(($Y21*$Y21)+(BA21*BA21)),0) -> 0 | BD21: =(BB21*BC21)^2 -> 0 | BE21: 0 | BF21: 0 | BG21: 0 | BH21: 0 | BI21: =($S21*BE21)/1000 -> 0 | BJ21: =IF(BI21>0,SQRT(($Y21*$Y21)+(BH21*BH21)),0) -> 0 | BK21: =(BI21*BJ21)^2 -> 0 | BL21: 0 | BM21: 0 | BN21: 0 | BO21: 0 | BP21: =($S21*BL21)/1000 -> 0 | BQ21: =BP21*$CE$404 -> 0 | BR21: =IF(BP21>0,SQRT(($Y21*$Y21)+(BO21*BO21)),0) -> 0 | BS21: =(BQ21*BR21)^2 -> 0 | BT21: =VLOOKUP($E21,$CD$114:$DI$479,32,FALSE) -> 0 | BU21: =VLOOKUP($E21,$CD$114:$DH$479,4,FALSE) -> 0 | BV21: =IF($S21>0,VLOOKUP($E21,$CD$114:$DH$479,7,FALSE),0) -> 0 | BW21: =IF($S21>0,VLOOKUP($E21,$CD$114:$DH$479,6,FALSE),0) -> 0 | BX21: =($S21*BT21)/1000 -> 0 | BY21: =IF(BX21>0,SQRT(($Y21*$Y21)+(BW21*BW21)),0) -> 0 | BZ21: =(BX21*BY21)^2 -> 0 | CA21: =IF(C21="EmisionesGEI",D21,AE21+AM21+AU21+BB21+BQ21) -> 0 | CB21: =IF(CA21>0,SQRT(AG21+AO21+AW21+BD21+BS21)/CA21,0) -> 0 | CC21: =(CA21*CB21)^2 -> 0
C22: DatosActividad | F22: =VLOOKUP($E22,$CD$114:$DH$479,2,FALSE) -> 0 | S22: =SUM(G22:R22) -> 0 | T22: =COUNT(G22:R22) -> 0 | U22: =IF(T22>1,AVERAGE(G22:R22),0) -> 0 | V22: =IF(T22>1,STDEV(G22:R22),0) -> 0 | W22: =IF(T22>1,VLOOKUP($T22,$CD$383:$CE$395,2,FALSE),0) -> 0 | Y22: =IF(X22>0,X22,IF(T22>1,1-((U22-((V22*W22)/(SQRT(T22))))/U22),VLOOKUP($E22,$CD$114:$DK$479,34,FALSE))) -> 0.05 | Z22: =VLOOKUP($E22,$CD$114:$DH$479,3,FALSE) -> 0 | AA22: =VLOOKUP($E22,$CD$114:$DH$479,4,FALSE) -> 0 | AB22: =IF($S22>0,VLOOKUP($E22,$CD$114:$DH$479,7,FALSE),0) -> 0 | AC22: =IF($S22>0,VLOOKUP($E22,$CD$114:$DH$479,6,FALSE),0) -> 0 | AD22: =($S22*Z22)/1000 -> 0 | AE22: =AD22*$CE$401 -> 0 | AF22: =IF(AD22>0,SQRT(($Y22*$Y22)+(AC22*AC22)),0) -> 0 | AG22: =(AE22*AF22)^2 -> 0 | AH22: =VLOOKUP($E22,$CD$114:$DH$479,21,FALSE) -> 0 | AI22: =VLOOKUP($E22,$CD$114:$DH$479,22,FALSE) -> 0 | AJ22: =IF($S22>0,VLOOKUP($E22,$CD$114:$DH$479,25,FALSE),0) -> 0 | AK22: =IF($S22>0,VLOOKUP($E22,$CD$114:$DH$479,24,FALSE),0) -> 0 | AL22: =($S22*AH22)/1000 -> 0 | AM22: =AL22*$CE$402 -> 0 | AN22: =IF(AL22>0,SQRT(($Y22*$Y22)+(AK22*AK22)),0) -> 0 | AO22: =(AM22*AN22)^2 -> 0 | AP22: =VLOOKUP($E22,$CD$114:$DH$479,27,FALSE) -> 0 | AQ22: =VLOOKUP($E22,$CD$114:$DH$479,28,FALSE) -> 0 | AR22: =IF($S22>0,VLOOKUP($E22,$CD$114:$DH$479,31,FALSE),0) -> 0 | AS22: =IF($S22>0,VLOOKUP($E22,$CD$114:$DH$479,30,FALSE),0) -> 0 | AT22: =($S22*AP22)/1000 -> 0 | AU22: =AT22*$CE$403 -> 0 | AV22: =IF(AT22>0,SQRT(($Y22*$Y22)+(AS22*AS22)),0) -> 0 | AW22: =(AU22*AV22)^2 -> 0 | AX22: 0 | AY22: 0 | AZ22: 0 | BA22: 0 | BB22: =($S22*AX22)/1000 -> 0 | BC22: =IF(BB22>0,SQRT(($Y22*$Y22)+(BA22*BA22)),0) -> 0 | BD22: =(BB22*BC22)^2 -> 0 | BE22: 0 | BF22: 0 | BG22: 0 | BH22: 0 | BI22: =($S22*BE22)/1000 -> 0 | BJ22: =IF(BI22>0,SQRT(($Y22*$Y22)+(BH22*BH22)),0) -> 0 | BK22: =(BI22*BJ22)^2 -> 0 | BL22: 0 | BM22: 0 | BN22: 0 | BO22: 0 | BP22: =($S22*BL22)/1000 -> 0 | BQ22: =BP22*$CE$404 -> 0 | BR22: =IF(BP22>0,SQRT(($Y22*$Y22)+(BO22*BO22)),0) -> 0 | BS22: =(BQ22*BR22)^2 -> 0 | BT22: =VLOOKUP($E22,$CD$114:$DI$479,32,FALSE) -> 0 | BU22: =VLOOKUP($E22,$CD$114:$DH$479,4,FALSE) -> 0 | BV22: =IF($S22>0,VLOOKUP($E22,$CD$114:$DH$479,7,FALSE),0) -> 0 | BW22: =IF($S22>0,VLOOKUP($E22,$CD$114:$DH$479,6,FALSE),0) -> 0 | BX22: =($S22*BT22)/1000 -> 0 | BY22: =IF(BX22>0,SQRT(($Y22*$Y22)+(BW22*BW22)),0) -> 0 | BZ22: =(BX22*BY22)^2 -> 0 | CA22: =IF(C22="EmisionesGEI",D22,AE22+AM22+AU22+BB22+BQ22) -> 0 | CB22: =IF(CA22>0,SQRT(AG22+AO22+AW22+BD22+BS22)/CA22,0) -> 0 | CC22: =(CA22*CB22)^2 -> 0
C23: DatosActividad | F23: =VLOOKUP($E23,$CD$114:$DH$479,2,FALSE) -> 0 | S23: =SUM(G23:R23) -> 0 | T23: =COUNT(G23:R23) -> 0 | U23: =IF(T23>1,AVERAGE(G23:R23),0) -> 0 | V23: =IF(T23>1,STDEV(G23:R23),0) -> 0 | W23: =IF(T23>1,VLOOKUP($T23,$CD$383:$CE$395,2,FALSE),0) -> 0 | Y23: =IF(X23>0,X23,IF(T23>1,1-((U23-((V23*W23)/(SQRT(T23))))/U23),VLOOKUP($E23,$CD$114:$DK$479,34,FALSE))) -> 0.05 | Z23: =VLOOKUP($E23,$CD$114:$DH$479,3,FALSE) -> 0 | AA23: =VLOOKUP($E23,$CD$114:$DH$479,4,FALSE) -> 0 | AB23: =IF($S23>0,VLOOKUP($E23,$CD$114:$DH$479,7,FALSE),0) -> 0 | AC23: =IF($S23>0,VLOOKUP($E23,$CD$114:$DH$479,6,FALSE),0) -> 0 | AD23: =($S23*Z23)/1000 -> 0 | AE23: =AD23*$CE$401 -> 0 | AF23: =IF(AD23>0,SQRT(($Y23*$Y23)+(AC23*AC23)),0) -> 0 | AG23: =(AE23*AF23)^2 -> 0 | AH23: =VLOOKUP($E23,$CD$114:$DH$479,21,FALSE) -> 0 | AI23: =VLOOKUP($E23,$CD$114:$DH$479,22,FALSE) -> 0 | AJ23: =IF($S23>0,VLOOKUP($E23,$CD$114:$DH$479,25,FALSE),0) -> 0 | AK23: =IF($S23>0,VLOOKUP($E23,$CD$114:$DH$479,24,FALSE),0) -> 0 | AL23: =($S23*AH23)/1000 -> 0 | AM23: =AL23*$CE$402 -> 0 | AN23: =IF(AL23>0,SQRT(($Y23*$Y23)+(AK23*AK23)),0) -> 0 | AO23: =(AM23*AN23)^2 -> 0 | AP23: =VLOOKUP($E23,$CD$114:$DH$479,27,FALSE) -> 0 | AQ23: =VLOOKUP($E23,$CD$114:$DH$479,28,FALSE) -> 0 | AR23: =IF($S23>0,VLOOKUP($E23,$CD$114:$DH$479,31,FALSE),0) -> 0 | AS23: =IF($S23>0,VLOOKUP($E23,$CD$114:$DH$479,30,FALSE),0) -> 0 | AT23: =($S23*AP23)/1000 -> 0 | AU23: =AT23*$CE$403 -> 0 | AV23: =IF(AT23>0,SQRT(($Y23*$Y23)+(AS23*AS23)),0) -> 0 | AW23: =(AU23*AV23)^2 -> 0 | AX23: 0 | AY23: 0 | AZ23: 0 | BA23: 0 | BB23: =($S23*AX23)/1000 -> 0 | BC23: =IF(BB23>0,SQRT(($Y23*$Y23)+(BA23*BA23)),0) -> 0 | BD23: =(BB23*BC23)^2 -> 0 | BE23: 0 | BF23: 0 | BG23: 0 | BH23: 0 | BI23: =($S23*BE23)/1000 -> 0 | BJ23: =IF(BI23>0,SQRT(($Y23*$Y23)+(BH23*BH23)),0) -> 0 | BK23: =(BI23*BJ23)^2 -> 0 | BL23: 0 | BM23: 0 | BN23: 0 | BO23: 0 | BP23: =($S23*BL23)/1000 -> 0 | BQ23: =BP23*$CE$404 -> 0 | BR23: =IF(BP23>0,SQRT(($Y23*$Y23)+(BO23*BO23)),0) -> 0 | BS23: =(BQ23*BR23)^2 -> 0 | BT23: =VLOOKUP($E23,$CD$114:$DI$479,32,FALSE) -> 0 | BU23: =VLOOKUP($E23,$CD$114:$DH$479,4,FALSE) -> 0 | BV23: =IF($S23>0,VLOOKUP($E23,$CD$114:$DH$479,7,FALSE),0) -> 0 | BW23: =IF($S23>0,VLOOKUP($E23,$CD$114:$DH$479,6,FALSE),0) -> 0 | BX23: =($S23*BT23)/1000 -> 0 | BY23: =IF(BX23>0,SQRT(($Y23*$Y23)+(BW23*BW23)),0) -> 0 | BZ23: =(BX23*BY23)^2 -> 0 | CA23: =IF(C23="EmisionesGEI",D23,AE23+AM23+AU23+BB23+BQ23) -> 0 | CB23: =IF(CA23>0,SQRT(AG23+AO23+AW23+BD23+BS23)/CA23,0) -> 0 | CC23: =(CA23*CB23)^2 -> 0
B24: SUBTOTAL COMBUSTIBLES | AE24: =SUM(AE16:AE23) -> 0 | AF24: =IF(AE24>0,SQRT(SUM(AG16:AG23))/AE24,0) -> 0 | AG24: =(AE24*AF24)^2 -> 0 | AM24: =SUM(AM16:AM23) -> 0 | AN24: =IF(AM24>0,SQRT(SUM(AO16:AO23))/AM24,0) -> 0 | AO24: =(AM24*AN24)^2 -> 0 | AU24: =SUM(AU16:AU23) -> 0 | AV24: =IF(AU24>0,SQRT(SUM(AW16:AW23))/AU24,0) -> 0 | AW24: =(AU24*AV24)^2 -> 0 | BB24: =SUM(BB16:BB23) -> 0 | BC24: =IF(BB24>0,SQRT(SUM(BD16:BD23))/BB24,0) -> 0 | BD24: =(BB24*BC24)^2 -> 0 | BI24: =SUM(BI16:BI23) -> 0 | BJ24: =IF(BI24>0,SQRT(SUM(BK16:BK23))/BI24,0) -> 0 | BK24: =(BI24*BJ24)^2 -> 0 | BQ24: =SUM(BQ16:BQ23) -> 0 | BR24: =IF(BQ24>0,SQRT(SUM(BS16:BS23))/BQ24,0) -> 0 | BS24: =(BQ24*BR24)^2 -> 0 | BX24: =SUM(BX16:BX23) -> 0 | BY24: =IF(BX24>0,SQRT(SUM(BZ16:BZ23))/BX24,0) -> 0 | BZ24: =(BX24*BY24)^2 -> 0 | CA24: =SUM(CA16:CA23) -> 0 | CB24: =IF(CA24>0,SQRT(SUM(CC16:CC23))/CA24,0) -> 0 | CC24: =(CA24*CB24)^2 -> 0
B25: Extintores (Fuentes Móviles) | C25: DatosActividad | F25: =VLOOKUP($E25,$CD$114:$DH$479,2,FALSE) -> 0 | S25: =SUM(G25:R25) -> 0 | T25: =COUNT(G25:R25) -> 0 | U25: =IF(T25>1,AVERAGE(G25:R25),0) -> 0 | V25: =IF(T25>1,STDEV(G25:R25),0) -> 0 | W25: =IF(T25>1,VLOOKUP($T25,$CD$383:$CE$395,2,FALSE),0) -> 0 | Y25: =IF(X25>0,X25,IF(T25>1,1-((U25-((V25*W25)/(SQRT(T25))))/U25),VLOOKUP($E25,$CD$114:$DK$479,34,FALSE))) -> 0.05 | Z25: =VLOOKUP($E25,$CD$114:$DH$479,3,FALSE) -> 0 | AA25: =VLOOKUP($E25,$CD$114:$DH$479,4,FALSE) -> 0 | AB25: =IF($S25>0,VLOOKUP($E25,$CD$114:$DH$479,7,FALSE),0) -> 0 | AC25: =IF($S25>0,VLOOKUP($E25,$CD$114:$DH$479,6,FALSE),0) -> 0 | AD25: =($S25*Z25)/1000 -> 0 | AE25: =AD25*$CE$401 -> 0 | AF25: =IF(AD25>0,SQRT(($Y25*$Y25)+(AC25*AC25)),0) -> 0 | AG25: =(AE25*AF25)^2 -> 0 | AH25: 0 | AI25: 0 | AJ25: 0 | AK25: 0 | AL25: =($S25*AH25)/1000 -> 0 | AM25: =AL25*$CE$402 -> 0 | AN25: =IF(AL25>0,SQRT(($Y25*$Y25)+(AK25*AK25)),0) -> 0 | AO25: =(AM25*AN25)^2 -> 0 | AP25: 0 | AQ25: 0 | AR25: 0 | AS25: 0 | AT25: =($S25*AP25)/1000 -> 0 | AU25: =AT25*$CE$403 -> 0 | AV25: =IF(AT25>0,SQRT(($Y25*$Y25)+(AS25*AS25)),0) -> 0 | AW25: =(AU25*AV25)^2 -> 0 | AX25: 0 | AY25: 0 | AZ25: 0 | BA25: 0 | BB25: =($S25*AX25)/1000 -> 0 | BC25: =IF(BB25>0,SQRT(($Y25*$Y25)+(BA25*BA25)),0) -> 0 | BD25: =(BB25*BC25)^2 -> 0 | BE25: 0 | BF25: 0 | BG25: 0 | BH25: 0 | BI25: =($S25*BE25)/1000 -> 0 | BJ25: =IF(BI25>0,SQRT(($Y25*$Y25)+(BH25*BH25)),0) -> 0 | BK25: =(BI25*BJ25)^2 -> 0 | BL25: 0 | BM25: 0 | BN25: 0 | BO25: 0 | BP25: =($S25*BL25)/1000 -> 0 | BQ25: =BP25*$CE$404 -> 0 | BR25: =IF(BP25>0,SQRT(($Y25*$Y25)+(BO25*BO25)),0) -> 0 | BS25: =(BQ25*BR25)^2 -> 0 | BT25: 0 | BU25: 0 | BV25: 0 | BW25: 0 | BX25: 0 | BY25: 0 | BZ25: =(BX25*BY25)^2 -> 0 | CA25: =IF(C25="EmisionesGEI",D25,AE25+AM25+AU25+BB25+BQ25) -> 0 | CB25: =IF(CA25>0,SQRT(AG25+AO25+AW25+BD25+BS25)/CA25,0) -> 0 | CC25: =(CA25*CB25)^2 -> 0
C26: DatosActividad | F26: =VLOOKUP($E26,$CD$114:$DH$479,2,FALSE) -> 0 | S26: =SUM(G26:R26) -> 0 | T26: =COUNT(G26:R26) -> 0 | U26: =IF(T26>1,AVERAGE(G26:R26),0) -> 0 | V26: =IF(T26>1,STDEV(G26:R26),0) -> 0 | W26: =IF(T26>1,VLOOKUP($T26,$CD$383:$CE$395,2,FALSE),0) -> 0 | Y26: =IF(X26>0,X26,IF(T26>1,1-((U26-((V26*W26)/(SQRT(T26))))/U26),VLOOKUP($E26,$CD$114:$DK$479,34,FALSE))) -> 0.05 | Z26: 0 | AA26: 0 | AB26: 0 | AC26: 0 | AD26: =($S26*Z26)/1000 -> 0 | AE26: =AD26*$CE$401 -> 0 | AF26: =IF(AD26>0,SQRT(($Y26*$Y26)+(AC26*AC26)),0) -> 0 | AG26: =(AE26*AF26)^2 -> 0 | AH26: 0 | AI26: 0 | AJ26: 0 | AK26: 0 | AL26: =($S26*AH26)/1000 -> 0 | AM26: =AL26*$CE$402 -> 0 | AN26: =IF(AL26>0,SQRT(($Y26*$Y26)+(AK26*AK26)),0) -> 0 | AO26: =(AM26*AN26)^2 -> 0 | AP26: 0 | AQ26: 0 | AR26: 0 | AS26: 0 | AT26: =($S26*AP26)/1000 -> 0 | AU26: =AT26*$CE$403 -> 0 | AV26: =IF(AT26>0,SQRT(($Y26*$Y26)+(AS26*AS26)),0) -> 0 | AW26: =(AU26*AV26)^2 -> 0 | AX26: =VLOOKUP($E26,$CD$114:$DH$479,3,FALSE) -> 0 | AY26: =VLOOKUP($E26,$CD$114:$DH$479,4,FALSE) -> 0 | AZ26: =IF($S26>0,VLOOKUP($E26,$CD$114:$DH$479,7,FALSE),0) -> 0 | BA26: =IF($S26>0,VLOOKUP($E26,$CD$114:$DH$479,6,FALSE),0) -> 0 | BB26: =($S26*AX26)/1000 -> 0 | BC26: =IF(BB26>0,SQRT(($Y26*$Y26)+(BA26*BA26)),0) -> 0 | BD26: =(BB26*BC26)^2 -> 0 | BE26: 0 | BF26: =VLOOKUP($E26,$CD$114:$DH$479,4,FALSE) -> 0 | BG26: =IF($S26>0,VLOOKUP($E26,$CD$114:$DH$479,7,FALSE),0) -> 0 | BH26: =IF($S26>0,VLOOKUP($E26,$CD$114:$DH$479,6,FALSE),0) -> 0 | BI26: =($S26*BE26)/1000 -> 0 | BJ26: =IF(BI26>0,SQRT(($Y26*$Y26)+(BH26*BH26)),0) -> 0 | BK26: =(BI26*BJ26)^2 -> 0 | BL26: 0 | BM26: 0 | BN26: 0 | BO26: 0 | BP26: =($S26*BL26)/1000 -> 0 | BQ26: =BP26*$CE$404 -> 0 | BR26: =IF(BP26>0,SQRT(($Y26*$Y26)+(BO26*BO26)),0) -> 0 | BS26: =(BQ26*BR26)^2 -> 0 | BT26: 0 | BU26: 0 | BV26: 0 | BW26: 0 | BX26: 0 | BY26: 0 | BZ26: =(BX26*BY26)^2 -> 0 | CA26: =IF(C26="EmisionesGEI",D26,AE26+AM26+AU26+BB26+BQ26) -> 0 | CB26: =IF(CA26>0,SQRT(AG26+AO26+AW26+BD26+BS26)/CA26,0) -> 0 | CC26: =(CA26*CB26)^2 -> 0
B27: SUBTOTAL OTROS | AE27: =SUM(AE25:AE26) -> 0 | AF27: =IF(AE27>0,SQRT(SUM(AG25:AG26))/AE27,0) -> 0 | AG27: =(AE27*AF27)^2 -> 0 | AM27: =SUM(AM25:AM26) -> 0 | AN27: =IF(AM27>0,SQRT(SUM(AO25:AO26))/AM27,0) -> 0 | AO27: =(AM27*AN27)^2 -> 0 | AU27: =SUM(AU25:AU26) -> 0 | AV27: =IF(AU27>0,SQRT(SUM(AW25:AW26))/AU27,0) -> 0 | AW27: =(AU27*AV27)^2 -> 0 | BB27: =SUM(BB25:BB26) -> 0 | BC27: =IF(BB27>0,SQRT(SUM(BD25:BD26))/BB27,0) -> 0 | BD27: =(BB27*BC27)^2 -> 0 | BI27: =SUM(BI25:BI26) -> 0 | BJ27: =IF(BI27>0,SQRT(SUM(BK25:BK26))/BI27,0) -> 0 | BK27: =(BI27*BJ27)^2 -> 0 | BQ27: =SUM(BQ25:BQ26) -> 0 | BR27: =IF(BQ27>0,SQRT(SUM(BS25:BS26))/BQ27,0) -> 0 | BS27: =(BQ27*BR27)^2 -> 0 | BX27: =SUM(BX25:BX26) -> 0 | BY27: =IF(BX27>0,SQRT(SUM(BZ25:BZ26))/BX27,0) -> 0 | BZ27: =(BX27*BY27)^2 -> 0 | CA27: =SUM(CA25:CA26) -> 0 | CB27: =IF(CA27>0,SQRT(SUM(CC25:CC26))/CA27,0) -> 0 | CC27: =(CA27*CB27)^2 -> 0
B28: SUBTOTAL FUENTES MÓVILES | AE28: =+AE24+AE27 -> 0 | AF28: =IF(AE28>0,(SQRT(AG24+AG27))/AE28,0) -> 0 | AG28: =(AE28*AF28)^2 -> 0 | AM28: =+AM24+AM27 -> 0 | AN28: =IF(AM28>0,(SQRT(AO24+AO27))/AM28,0) -> 0 | AO28: =(AM28*AN28)^2 -> 0 | AU28: =+AU24+AU27 -> 0 | AV28: =IF(AU28>0,(SQRT(AW24+AW27))/AU28,0) -> 0 | AW28: =(AU28*AV28)^2 -> 0 | BB28: =+BB24+BB27 -> 0 | BC28: =IF(BB28>0,(SQRT(BD24+BD27))/BB28,0) -> 0 | BD28: =(BB28*BC28)^2 -> 0 | BI28: =+BI24+BI27 -> 0 | BJ28: =IF(BI28>0,(SQRT(BK24+BK27))/BI28,0) -> 0 | BK28: =(BI28*BJ28)^2 -> 0 | BQ28: =+BQ24+BQ27 -> 0 | BR28: =IF(BQ28>0,(SQRT(BS24+BS27))/BQ28,0) -> 0 | BS28: =(BQ28*BR28)^2 -> 0 | BX28: =+BX24+BX27 -> 0 | BY28: =IF(BX28>0,(SQRT(BZ24+BZ27))/BX28,0) -> 0 | BZ28: =(BX28*BY28)^2 -> 0 | CA28: =+CA24+CA27 -> 0 | CB28: =IF(CA28>0,(SQRT(CC24+CC27))/CA28,0) -> 0 | CC28: =(CA28*CB28)^2 -> 0
B30: FUENTES FIJAS
B31: FUENTE DE EMISIÓN DE GEI (Seleccione de la lista) | C31: REPORTE | D31: N/A | E31: DATOS DE ACTIVIDAD (Seleccione de la lista el dato de actividad que va a reportar) | F31: VALOR DE DATO DE ACTIVIDAD | U31: INCERTIDUMBRE DATOS | Z31: EMISIONES CO2 | AH31: EMISIONES CH4 | AP31: EMISIONES N2O | AX31: EMISIONES HFC | BE31: EMISIONES PFC | BL31: EMISIONES SF6 | BT31: EMISIONES CO2 BIOGÉNICO | CA31: HUELLA DE CARBONO (t CO2 eq) | CB31: INCERTIDUMBRE DE LA FUENTE
F32: UNIDAD | G32: DATO 1 | H32: DATO 2 | I32: DATO 3 | J32: DATO 4 | K32: DATO 5 | L32: DATO 6 | M32: DATO 7 | N32: DATO 8 | O32: DATO 9 | P32: DATO 10 | Q32: DATO 11 | R32: DATO 12 | S32: TOTAL | T32: No. DATOS | U32: PROMEDIO | V32: DESVIACION ESTÁNDAR | W32: FACTOR T | X32: INCERTIDUMBRE SISTEMATICA DATOS | Y32: INCERTIDUMBRE DATOS | Z32: FACTOR DE EMISIÓN CO2eq | AB32: FUENTE BIBLIOGRÁFICA | AC32: INCERTIDUMBRE FACTOR EMISIÓN CO2eq | AD32: EMISIONES CO2eq (tCO2eq) | AE32: EMISIONES CO2eq (tCO2eq) | AF32: INCERTIDUMBRE EMISIONES CO2eq | AG32: Columna Auxiliar | AH32: FACTOR DE EMISIÓN CH4 | AJ32: FUENTE BIBLIOGRÁFICA | AK32: INCERTIDUMBRE FACTOR EMISIÓN CH4 | AL32: EMISIONES CH4 (tCH4) | AM32: EMISIONES CH4 (tCO2eq) | AN32: INCERTIDUMBRE EMISIONES CH4 | AO32: Columna Auxiliar | AP32: FACTOR DE EMISIÓN N2O | AR32: FUENTE BIBLIOGRÁFICA | AS32: INCERTIDUMBRE FACTOR EMISIÓN N2O | AT32: EMISIONES N2O (tN2O) | AU32: EMISIONES N2O (tCO2eq) | AV32: INCERTIDUMBRE EMISIONES N2O | AW32: Columna Auxiliar | AX32: FACTOR DE EMISIÓN HFC | AZ32: FUENTE BIBLIOGRÁFICA | BA32: INCERTIDUMBRE FACTOR EMISIÓN HFC | BB32: EMISIONES HFC (tCO2eq) | BC32: INCERTIDUMBRE EMISIONES HFC | BD32: Columna Auxiliar | BE32: FACTOR DE EMISIÓN PFC | BG32: FUENTE BIBLIOGRÁFICA | BH32: INCERTIDUMBRE FACTOR EMISIÓN PFC | BI32: EMISIONES PFC (tCO2eq) | BJ32: INCERTIDUMBRE EMISIONES PFC | BK32: Columna Auxiliar | BL32: FACTOR DE EMISIÓN SF6 | BN32: FUENTE BIBLIOGRÁFICA | BO32: INCERTIDUMBRE FACTOR EMISIÓN SF6 | BP32: EMISIONES SF6 (tSF6) | BQ32: EMISIONES SF6 (tCO2eq) | BR32: INCERTIDUMBRE EMISIONES SF6 | BS32: Columna Auxiliar | BT32: FACTOR DE EMISIÓN CO2 (biogénico) | BV32: FUENTE BIBLIOGRÁFICA | BW32: INCERTIDUMBRE FACTOR EMISIÓN CO2 (Biogénico) | BX32: EMISIONES CO2Biogénico (tCO2 Biogénico) | BY32: INCERTIDUMBRE EMISIONES CO2 Biogénico | BZ32: Columna Auxiliar | CC32: Variable Auxiliar = (Huella de carbono x Incertidumbre de la fuente)^2
B33: Consumo de combustibles sólidos | C33: DatosActividad | F33: =VLOOKUP($E33,$CD$114:$DH$479,2,FALSE) -> 0 | S33: =SUM(G33:R33) -> 0 | T33: =COUNT(G33:R33) -> 0 | U33: =IF(T33>1,AVERAGE(G33:R33),0) -> 0 | V33: =IF(T33>1,STDEV(G33:R33),0) -> 0 | W33: =IF(T33>1,VLOOKUP($T33,$CD$383:$CE$395,2,FALSE),0) -> 0 | Y33: =IF(X33>0,X33,IF(T33>1,1-((U33-((V33*W33)/(SQRT(T33))))/U33),VLOOKUP($E33,$CD$114:$DK$479,34,FALSE))) -> 0.05 | Z33: =VLOOKUP($E33,$CD$114:$DH$479,3,FALSE) -> 0 | AA33: =VLOOKUP($E33,$CD$114:$DH$479,4,FALSE) -> 0 | AB33: =IF($S33>0,VLOOKUP($E33,$CD$114:$DH$479,7,FALSE),0) -> 0 | AC33: =IF($S33>0,VLOOKUP($E33,$CD$114:$DH$479,6,FALSE),0) -> 0 | AD33: =($S33*Z33)/1000 -> 0 | AE33: =AD33*$CE$401 -> 0 | AF33: =IF(AD33>0,SQRT(($Y33*$Y33)+(AC33*AC33)),0) -> 0 | AG33: =(AE33*AF33)^2 -> 0 | AH33: =VLOOKUP($E33,$CD$114:$DH$479,9,FALSE) -> 0 | AI33: =VLOOKUP($E33,$CD$114:$DH$479,10,FALSE) -> 0 | AJ33: =IF($S33>0,VLOOKUP($E33,$CD$114:$DH$479,13,FALSE),0) -> 0 | AK33: =IF($S33>0,VLOOKUP($E33,$CD$114:$DH$479,12,FALSE),0) -> 0 | AL33: =($S33*AH33)/1000 -> 0 | AM33: =AL33*$CE$402 -> 0 | AN33: =IF(AL33>0,SQRT(($Y33*$Y33)+(AK33*AK33)),0) -> 0 | AO33: =(AM33*AN33)^2 -> 0 | AP33: =VLOOKUP($E33,$CD$114:$DH$479,15,FALSE) -> 0 | AQ33: =VLOOKUP($E33,$CD$114:$DH$479,16,FALSE) -> 0 | AR33: =IF($S33>0,VLOOKUP($E33,$CD$114:$DH$479,19,FALSE),0) -> 0 | AS33: =IF($S33>0,VLOOKUP($E33,$CD$114:$DH$479,18,FALSE),0) -> 0 | AT33: =($S33*AP33)/1000 -> 0 | AU33: =AT33*$CE$403 -> 0 | AV33: =IF(AT33>0,SQRT(($Y33*$Y33)+(AS33*AS33)),0) -> 0 | AW33: =(AU33*AV33)^2 -> 0 | AX33: 0 | AY33: 0 | AZ33: 0 | BA33: 0 | BB33: =($S33*AX33)/1000 -> 0 | BC33: =IF(BB33>0,SQRT(($Y33*$Y33)+(BA33*BA33)),0) -> 0 | BD33: =(BB33*BC33)^2 -> 0 | BE33: 0 | BF33: 0 | BG33: 0 | BH33: 0 | BI33: =($S33*BE33)/1000 -> 0 | BJ33: =IF(BI33>0,SQRT(($Y33*$Y33)+(BH33*BH33)),0) -> 0 | BK33: =(BI33*BJ33)^2 -> 0 | BL33: 0 | BM33: 0 | BN33: 0 | BO33: 0 | BP33: =($S33*BL33)/1000 -> 0 | BQ33: =BP33*$CE$404 -> 0 | BR33: =IF(BP33>0,SQRT(($Y33*$Y33)+(BO33*BO33)),0) -> 0 | BS33: =(BQ33*BR33)^2 -> 0 | BT33: =VLOOKUP($E33,$CD$114:$DI$479,32,FALSE) -> 0 | BU33: =VLOOKUP($E33,$CD$114:$DH$479,4,FALSE) -> 0 | BV33: =IF($S33>0,VLOOKUP($E33,$CD$114:$DH$479,7,FALSE),0) -> 0 | BW33: =IF($S33>0,VLOOKUP($E33,$CD$114:$DH$479,6,FALSE),0) -> 0 | BX33: =($S33*BT33)/1000 -> 0 | BY33: =IF(BX33>0,SQRT(($Y33*$Y33)+(BW33*BW33)),0) -> 0 | BZ33: =(BX33*BY33)^2 -> 0 | CA33: =IF(C33="EmisionesGEI",D33,AE33+AM33+AU33+BB33+BQ33) -> 0 | CB33: =IF(CA33>0,SQRT(AG33+AO33+AW33+BD33+BS33)/CA33,0) -> 0 | CC33: =(CA33*CB33)^2 -> 0
B34: (Fuentes Fijas) | C34: DatosActividad | F34: =VLOOKUP($E34,$CD$114:$DH$479,2,FALSE) -> 0 | S34: =SUM(G34:R34) -> 0 | T34: =COUNT(G34:R34) -> 0 | U34: =IF(T34>1,AVERAGE(G34:R34),0) -> 0 | V34: =IF(T34>1,STDEV(G34:R34),0) -> 0 | W34: =IF(T34>1,VLOOKUP($T34,$CD$383:$CE$395,2,FALSE),0) -> 0 | Y34: =IF(X34>0,X34,IF(T34>1,1-((U34-((V34*W34)/(SQRT(T34))))/U34),VLOOKUP($E34,$CD$114:$DK$479,34,FALSE))) -> 0.05 | Z34: =VLOOKUP($E34,$CD$114:$DH$479,3,FALSE) -> 0 | AA34: =VLOOKUP($E34,$CD$114:$DH$479,4,FALSE) -> 0 | AB34: =IF($S34>0,VLOOKUP($E34,$CD$114:$DH$479,7,FALSE),0) -> 0 | AC34: =IF($S34>0,VLOOKUP($E34,$CD$114:$DH$479,6,FALSE),0) -> 0 | AD34: =($S34*Z34)/1000 -> 0 | AE34: =AD34*$CE$401 -> 0 | AF34: =IF(AD34>0,SQRT(($Y34*$Y34)+(AC34*AC34)),0) -> 0 | AG34: =(AE34*AF34)^2 -> 0 | AH34: =VLOOKUP($E34,$CD$114:$DH$479,9,FALSE) -> 0 | AI34: =VLOOKUP($E34,$CD$114:$DH$479,10,FALSE) -> 0 | AJ34: =IF($S34>0,VLOOKUP($E34,$CD$114:$DH$479,13,FALSE),0) -> 0 | AK34: =IF($S34>0,VLOOKUP($E34,$CD$114:$DH$479,12,FALSE),0) -> 0 | AL34: =($S34*AH34)/1000 -> 0 | AM34: =AL34*$CE$402 -> 0 | AN34: =IF(AL34>0,SQRT(($Y34*$Y34)+(AK34*AK34)),0) -> 0 | AO34: =(AM34*AN34)^2 -> 0 | AP34: =VLOOKUP($E34,$CD$114:$DH$479,15,FALSE) -> 0 | AQ34: =VLOOKUP($E34,$CD$114:$DH$479,16,FALSE) -> 0 | AR34: =IF($S34>0,VLOOKUP($E34,$CD$114:$DH$479,19,FALSE),0) -> 0 | AS34: =IF($S34>0,VLOOKUP($E34,$CD$114:$DH$479,18,FALSE),0) -> 0 | AT34: =($S34*AP34)/1000 -> 0 | AU34: =AT34*$CE$403 -> 0 | AV34: =IF(AT34>0,SQRT(($Y34*$Y34)+(AS34*AS34)),0) -> 0 | AW34: =(AU34*AV34)^2 -> 0 | AX34: 0 | AY34: 0 | AZ34: 0 | BA34: 0 | BB34: =($S34*AX34)/1000 -> 0 | BC34: =IF(BB34>0,SQRT(($Y34*$Y34)+(BA34*BA34)),0) -> 0 | BD34: =(BB34*BC34)^2 -> 0 | BE34: 0 | BF34: 0 | BG34: 0 | BH34: 0 | BI34: =($S34*BE34)/1000 -> 0 | BJ34: =IF(BI34>0,SQRT(($Y34*$Y34)+(BH34*BH34)),0) -> 0 | BK34: =(BI34*BJ34)^2 -> 0 | BL34: 0 | BM34: 0 | BN34: 0 | BO34: 0 | BP34: =($S34*BL34)/1000 -> 0 | BQ34: =BP34*$CE$404 -> 0 | BR34: =IF(BP34>0,SQRT(($Y34*$Y34)+(BO34*BO34)),0) -> 0 | BS34: =(BQ34*BR34)^2 -> 0 | BT34: =VLOOKUP($E34,$CD$114:$DI$479,32,FALSE) -> 0 | BU34: =VLOOKUP($E34,$CD$114:$DH$479,4,FALSE) -> 0 | BV34: =IF($S34>0,VLOOKUP($E34,$CD$114:$DH$479,7,FALSE),0) -> 0 | BW34: =IF($S34>0,VLOOKUP($E34,$CD$114:$DH$479,6,FALSE),0) -> 0 | BX34: =($S34*BT34)/1000 -> 0 | BY34: =IF(BX34>0,SQRT(($Y34*$Y34)+(BW34*BW34)),0) -> 0 | BZ34: =(BX34*BY34)^2 -> 0 | CA34: =IF(C34="EmisionesGEI",D34,AE34+AM34+AU34+BB34+BQ34) -> 0 | CB34: =IF(CA34>0,SQRT(AG34+AO34+AW34+BD34+BS34)/CA34,0) -> 0 | CC34: =(CA34*CB34)^2 -> 0
C35: DatosActividad | F35: =VLOOKUP($E35,$CD$114:$DH$479,2,FALSE) -> 0 | S35: =SUM(G35:R35) -> 0 | T35: =COUNT(G35:R35) -> 0 | U35: =IF(T35>1,AVERAGE(G35:R35),0) -> 0 | V35: =IF(T35>1,STDEV(G35:R35),0) -> 0 | W35: =IF(T35>1,VLOOKUP($T35,$CD$383:$CE$395,2,FALSE),0) -> 0 | Y35: =IF(X35>0,X35,IF(T35>1,1-((U35-((V35*W35)/(SQRT(T35))))/U35),VLOOKUP($E35,$CD$114:$DK$479,34,FALSE))) -> 0.05 | Z35: =VLOOKUP($E35,$CD$114:$DH$479,3,FALSE) -> 0 | AA35: =VLOOKUP($E35,$CD$114:$DH$479,4,FALSE) -> 0 | AB35: =IF($S35>0,VLOOKUP($E35,$CD$114:$DH$479,7,FALSE),0) -> 0 | AC35: =IF($S35>0,VLOOKUP($E35,$CD$114:$DH$479,6,FALSE),0) -> 0 | AD35: =($S35*Z35)/1000 -> 0 | AE35: =AD35*$CE$401 -> 0 | AF35: =IF(AD35>0,SQRT(($Y35*$Y35)+(AC35*AC35)),0) -> 0 | AG35: =(AE35*AF35)^2 -> 0 | AH35: =VLOOKUP($E35,$CD$114:$DH$479,9,FALSE) -> 0 | AI35: =VLOOKUP($E35,$CD$114:$DH$479,10,FALSE) -> 0 | AJ35: =IF($S35>0,VLOOKUP($E35,$CD$114:$DH$479,13,FALSE),0) -> 0 | AK35: =IF($S35>0,VLOOKUP($E35,$CD$114:$DH$479,12,FALSE),0) -> 0 | AL35: =($S35*AH35)/1000 -> 0 | AM35: =AL35*$CE$402 -> 0 | AN35: =IF(AL35>0,SQRT(($Y35*$Y35)+(AK35*AK35)),0) -> 0 | AO35: =(AM35*AN35)^2 -> 0 | AP35: =VLOOKUP($E35,$CD$114:$DH$479,15,FALSE) -> 0 | AQ35: =VLOOKUP($E35,$CD$114:$DH$479,16,FALSE) -> 0 | AR35: =IF($S35>0,VLOOKUP($E35,$CD$114:$DH$479,19,FALSE),0) -> 0 | AS35: =IF($S35>0,VLOOKUP($E35,$CD$114:$DH$479,18,FALSE),0) -> 0 | AT35: =($S35*AP35)/1000 -> 0 | AU35: =AT35*$CE$403 -> 0 | AV35: =IF(AT35>0,SQRT(($Y35*$Y35)+(AS35*AS35)),0) -> 0 | AW35: =(AU35*AV35)^2 -> 0 | AX35: 0 | AY35: 0 | AZ35: 0 | BA35: 0 | BB35: =($S35*AX35)/1000 -> 0 | BC35: =IF(BB35>0,SQRT(($Y35*$Y35)+(BA35*BA35)),0) -> 0 | BD35: =(BB35*BC35)^2 -> 0 | BE35: 0 | BF35: 0 | BG35: 0 | BH35: 0 | BI35: =($S35*BE35)/1000 -> 0 | BJ35: =IF(BI35>0,SQRT(($Y35*$Y35)+(BH35*BH35)),0) -> 0 | BK35: =(BI35*BJ35)^2 -> 0 | BL35: 0 | BM35: 0 | BN35: 0 | BO35: 0 | BP35: =($S35*BL35)/1000 -> 0 | BQ35: =BP35*$CE$404 -> 0 | BR35: =IF(BP35>0,SQRT(($Y35*$Y35)+(BO35*BO35)),0) -> 0 | BS35: =(BQ35*BR35)^2 -> 0 | BT35: =VLOOKUP($E35,$CD$114:$DI$479,32,FALSE) -> 0 | BU35: =VLOOKUP($E35,$CD$114:$DH$479,4,FALSE) -> 0 | BV35: =IF($S35>0,VLOOKUP($E35,$CD$114:$DH$479,7,FALSE),0) -> 0 | BW35: =IF($S35>0,VLOOKUP($E35,$CD$114:$DH$479,6,FALSE),0) -> 0 | BX35: =($S35*BT35)/1000 -> 0 | BY35: =IF(BX35>0,SQRT(($Y35*$Y35)+(BW35*BW35)),0) -> 0 | BZ35: =(BX35*BY35)^2 -> 0 | CA35: =IF(C35="EmisionesGEI",D35,AE35+AM35+AU35+BB35+BQ35) -> 0 | CB35: =IF(CA35>0,SQRT(AG35+AO35+AW35+BD35+BS35)/CA35,0) -> 0 | CC35: =(CA35*CB35)^2 -> 0
C36: DatosActividad | F36: =VLOOKUP($E36,$CD$114:$DH$479,2,FALSE) -> 0 | S36: =SUM(G36:R36) -> 0 | T36: =COUNT(G36:R36) -> 0 | U36: =IF(T36>1,AVERAGE(G36:R36),0) -> 0 | V36: =IF(T36>1,STDEV(G36:R36),0) -> 0 | W36: =IF(T36>1,VLOOKUP($T36,$CD$383:$CE$395,2,FALSE),0) -> 0 | Y36: =IF(X36>0,X36,IF(T36>1,1-((U36-((V36*W36)/(SQRT(T36))))/U36),VLOOKUP($E36,$CD$114:$DK$479,34,FALSE))) -> 0.05 | Z36: =VLOOKUP($E36,$CD$114:$DH$479,3,FALSE) -> 0 | AA36: =VLOOKUP($E36,$CD$114:$DH$479,4,FALSE) -> 0 | AB36: =IF($S36>0,VLOOKUP($E36,$CD$114:$DH$479,7,FALSE),0) -> 0 | AC36: =IF($S36>0,VLOOKUP($E36,$CD$114:$DH$479,6,FALSE),0) -> 0 | AD36: =($S36*Z36)/1000 -> 0 | AE36: =AD36*$CE$401 -> 0 | AF36: =IF(AD36>0,SQRT(($Y36*$Y36)+(AC36*AC36)),0) -> 0 | AG36: =(AE36*AF36)^2 -> 0 | AH36: =VLOOKUP($E36,$CD$114:$DH$479,9,FALSE) -> 0 | AI36: =VLOOKUP($E36,$CD$114:$DH$479,10,FALSE) -> 0 | AJ36: =IF($S36>0,VLOOKUP($E36,$CD$114:$DH$479,13,FALSE),0) -> 0 | AK36: =IF($S36>0,VLOOKUP($E36,$CD$114:$DH$479,12,FALSE),0) -> 0 | AL36: =($S36*AH36)/1000 -> 0 | AM36: =AL36*$CE$402 -> 0 | AN36: =IF(AL36>0,SQRT(($Y36*$Y36)+(AK36*AK36)),0) -> 0 | AO36: =(AM36*AN36)^2 -> 0 | AP36: =VLOOKUP($E36,$CD$114:$DH$479,15,FALSE) -> 0 | AQ36: =VLOOKUP($E36,$CD$114:$DH$479,16,FALSE) -> 0 | AR36: =IF($S36>0,VLOOKUP($E36,$CD$114:$DH$479,19,FALSE),0) -> 0 | AS36: =IF($S36>0,VLOOKUP($E36,$CD$114:$DH$479,18,FALSE),0) -> 0 | AT36: =($S36*AP36)/1000 -> 0 | AU36: =AT36*$CE$403 -> 0 | AV36: =IF(AT36>0,SQRT(($Y36*$Y36)+(AS36*AS36)),0) -> 0 | AW36: =(AU36*AV36)^2 -> 0 | AX36: 0 | AY36: 0 | AZ36: 0 | BA36: 0 | BB36: =($S36*AX36)/1000 -> 0 | BC36: =IF(BB36>0,SQRT(($Y36*$Y36)+(BA36*BA36)),0) -> 0 | BD36: =(BB36*BC36)^2 -> 0 | BE36: 0 | BF36: 0 | BG36: 0 | BH36: 0 | BI36: =($S36*BE36)/1000 -> 0 | BJ36: =IF(BI36>0,SQRT(($Y36*$Y36)+(BH36*BH36)),0) -> 0 | BK36: =(BI36*BJ36)^2 -> 0 | BL36: 0 | BM36: 0 | BN36: 0 | BO36: 0 | BP36: =($S36*BL36)/1000 -> 0 | BQ36: =BP36*$CE$404 -> 0 | BR36: =IF(BP36>0,SQRT(($Y36*$Y36)+(BO36*BO36)),0) -> 0 | BS36: =(BQ36*BR36)^2 -> 0 | BT36: =VLOOKUP($E36,$CD$114:$DI$479,32,FALSE) -> 0 | BU36: =VLOOKUP($E36,$CD$114:$DH$479,4,FALSE) -> 0 | BV36: =IF($S36>0,VLOOKUP($E36,$CD$114:$DH$479,7,FALSE),0) -> 0 | BW36: =IF($S36>0,VLOOKUP($E36,$CD$114:$DH$479,6,FALSE),0) -> 0 | BX36: =($S36*BT36)/1000 -> 0 | BY36: =IF(BX36>0,SQRT(($Y36*$Y36)+(BW36*BW36)),0) -> 0 | BZ36: =(BX36*BY36)^2 -> 0 | CA36: =IF(C36="EmisionesGEI",D36,AE36+AM36+AU36+BB36+BQ36) -> 0 | CB36: =IF(CA36>0,SQRT(AG36+AO36+AW36+BD36+BS36)/CA36,0) -> 0 | CC36: =(CA36*CB36)^2 -> 0
B37: Consumo de combustibles líquidos | C37: DatosActividad | F37: =VLOOKUP($E37,$CD$114:$DH$479,2,FALSE) -> 0 | S37: =SUM(G37:R37) -> 0 | T37: =COUNT(G37:R37) -> 0 | U37: =IF(T37>1,AVERAGE(G37:R37),0) -> 0 | V37: =IF(T37>1,STDEV(G37:R37),0) -> 0 | W37: =IF(T37>1,VLOOKUP($T37,$CD$383:$CE$395,2,FALSE),0) -> 0 | Y37: =IF(X37>0,X37,IF(T37>1,1-((U37-((V37*W37)/(SQRT(T37))))/U37),VLOOKUP($E37,$CD$114:$DK$479,34,FALSE))) -> 0.05 | Z37: =VLOOKUP($E37,$CD$114:$DH$479,3,FALSE) -> 0 | AA37: =VLOOKUP($E37,$CD$114:$DH$479,4,FALSE) -> 0 | AB37: =IF($S37>0,VLOOKUP($E37,$CD$114:$DH$479,7,FALSE),0) -> 0 | AC37: =IF($S37>0,VLOOKUP($E37,$CD$114:$DH$479,6,FALSE),0) -> 0 | AD37: =($S37*Z37)/1000 -> 0 | AE37: =AD37*$CE$401 -> 0 | AF37: =IF(AD37>0,SQRT(($Y37*$Y37)+(AC37*AC37)),0) -> 0 | AG37: =(AE37*AF37)^2 -> 0 | AH37: =VLOOKUP($E37,$CD$114:$DH$479,9,FALSE) -> 0 | AI37: =VLOOKUP($E37,$CD$114:$DH$479,10,FALSE) -> 0 | AJ37: =IF($S37>0,VLOOKUP($E37,$CD$114:$DH$479,13,FALSE),0) -> 0 | AK37: =IF($S37>0,VLOOKUP($E37,$CD$114:$DH$479,12,FALSE),0) -> 0 | AL37: =($S37*AH37)/1000 -> 0 | AM37: =AL37*$CE$402 -> 0 | AN37: =IF(AL37>0,SQRT(($Y37*$Y37)+(AK37*AK37)),0) -> 0 | AO37: =(AM37*AN37)^2 -> 0 | AP37: =VLOOKUP($E37,$CD$114:$DH$479,15,FALSE) -> 0 | AQ37: =VLOOKUP($E37,$CD$114:$DH$479,16,FALSE) -> 0 | AR37: =IF($S37>0,VLOOKUP($E37,$CD$114:$DH$479,19,FALSE),0) -> 0 | AS37: =IF($S37>0,VLOOKUP($E37,$CD$114:$DH$479,18,FALSE),0) -> 0 | AT37: =($S37*AP37)/1000 -> 0 | AU37: =AT37*$CE$403 -> 0 | AV37: =IF(AT37>0,SQRT(($Y37*$Y37)+(AS37*AS37)),0) -> 0 | AW37: =(AU37*AV37)^2 -> 0 | AX37: 0 | AY37: 0 | AZ37: 0 | BA37: 0 | BB37: =($S37*AX37)/1000 -> 0 | BC37: =IF(BB37>0,SQRT(($Y37*$Y37)+(BA37*BA37)),0) -> 0 | BD37: =(BB37*BC37)^2 -> 0 | BE37: 0 | BF37: 0 | BG37: 0 | BH37: 0 | BI37: =($S37*BE37)/1000 -> 0 | BJ37: =IF(BI37>0,SQRT(($Y37*$Y37)+(BH37*BH37)),0) -> 0 | BK37: =(BI37*BJ37)^2 -> 0 | BL37: 0 | BM37: 0 | BN37: 0 | BO37: 0 | BP37: =($S37*BL37)/1000 -> 0 | BQ37: =BP37*$CE$404 -> 0 | BR37: =IF(BP37>0,SQRT(($Y37*$Y37)+(BO37*BO37)),0) -> 0 | BS37: =(BQ37*BR37)^2 -> 0 | BT37: =VLOOKUP($E37,$CD$114:$DI$479,32,FALSE) -> 0 | BU37: =VLOOKUP($E37,$CD$114:$DH$479,4,FALSE) -> 0 | BV37: =IF($S37>0,VLOOKUP($E37,$CD$114:$DH$479,7,FALSE),0) -> 0 | BW37: =IF($S37>0,VLOOKUP($E37,$CD$114:$DH$479,6,FALSE),0) -> 0 | BX37: =($S37*BT37)/1000 -> 0 | BY37: =IF(BX37>0,SQRT(($Y37*$Y37)+(BW37*BW37)),0) -> 0 | BZ37: =(BX37*BY37)^2 -> 0 | CA37: =IF(C37="EmisionesGEI",D37,AE37+AM37+AU37+BB37+BQ37) -> 0 | CB37: =IF(CA37>0,SQRT(AG37+AO37+AW37+BD37+BS37)/CA37,0) -> 0 | CC37: =(CA37*CB37)^2 -> 0
B38: (Fuentes Fijas) | C38: DatosActividad | F38: =VLOOKUP($E38,$CD$114:$DH$479,2,FALSE) -> 0 | S38: =SUM(G38:R38) -> 0 | T38: =COUNT(G38:R38) -> 0 | U38: =IF(T38>1,AVERAGE(G38:R38),0) -> 0 | V38: =IF(T38>1,STDEV(G38:R38),0) -> 0 | W38: =IF(T38>1,VLOOKUP($T38,$CD$383:$CE$395,2,FALSE),0) -> 0 | Y38: =IF(X38>0,X38,IF(T38>1,1-((U38-((V38*W38)/(SQRT(T38))))/U38),VLOOKUP($E38,$CD$114:$DK$479,34,FALSE))) -> 0.05 | Z38: =VLOOKUP($E38,$CD$114:$DH$479,3,FALSE) -> 0 | AA38: =VLOOKUP($E38,$CD$114:$DH$479,4,FALSE) -> 0 | AB38: =IF($S38>0,VLOOKUP($E38,$CD$114:$DH$479,7,FALSE),0) -> 0 | AC38: =IF($S38>0,VLOOKUP($E38,$CD$114:$DH$479,6,FALSE),0) -> 0 | AD38: =($S38*Z38)/1000 -> 0 | AE38: =AD38*$CE$401 -> 0 | AF38: =IF(AD38>0,SQRT(($Y38*$Y38)+(AC38*AC38)),0) -> 0 | AG38: =(AE38*AF38)^2 -> 0 | AH38: =VLOOKUP($E38,$CD$114:$DH$479,9,FALSE) -> 0 | AI38: =VLOOKUP($E38,$CD$114:$DH$479,10,FALSE) -> 0 | AJ38: =IF($S38>0,VLOOKUP($E38,$CD$114:$DH$479,13,FALSE),0) -> 0 | AK38: =IF($S38>0,VLOOKUP($E38,$CD$114:$DH$479,12,FALSE),0) -> 0 | AL38: =($S38*AH38)/1000 -> 0 | AM38: =AL38*$CE$402 -> 0 | AN38: =IF(AL38>0,SQRT(($Y38*$Y38)+(AK38*AK38)),0) -> 0 | AO38: =(AM38*AN38)^2 -> 0 | AP38: =VLOOKUP($E38,$CD$114:$DH$479,15,FALSE) -> 0 | AQ38: =VLOOKUP($E38,$CD$114:$DH$479,16,FALSE) -> 0 | AR38: =IF($S38>0,VLOOKUP($E38,$CD$114:$DH$479,19,FALSE),0) -> 0 | AS38: =IF($S38>0,VLOOKUP($E38,$CD$114:$DH$479,18,FALSE),0) -> 0 | AT38: =($S38*AP38)/1000 -> 0 | AU38: =AT38*$CE$403 -> 0 | AV38: =IF(AT38>0,SQRT(($Y38*$Y38)+(AS38*AS38)),0) -> 0 | AW38: =(AU38*AV38)^2 -> 0 | AX38: 0 | AY38: 0 | AZ38: 0 | BA38: 0 | BB38: =($S38*AX38)/1000 -> 0 | BC38: =IF(BB38>0,SQRT(($Y38*$Y38)+(BA38*BA38)),0) -> 0 | BD38: =(BB38*BC38)^2 -> 0 | BE38: 0 | BF38: 0 | BG38: 0 | BH38: 0 | BI38: =($S38*BE38)/1000 -> 0 | BJ38: =IF(BI38>0,SQRT(($Y38*$Y38)+(BH38*BH38)),0) -> 0 | BK38: =(BI38*BJ38)^2 -> 0 | BL38: 0 | BM38: 0 | BN38: 0 | BO38: 0 | BP38: =($S38*BL38)/1000 -> 0 | BQ38: =BP38*$CE$404 -> 0 | BR38: =IF(BP38>0,SQRT(($Y38*$Y38)+(BO38*BO38)),0) -> 0 | BS38: =(BQ38*BR38)^2 -> 0 | BT38: =VLOOKUP($E38,$CD$114:$DI$479,32,FALSE) -> 0 | BU38: =VLOOKUP($E38,$CD$114:$DH$479,4,FALSE) -> 0 | BV38: =IF($S38>0,VLOOKUP($E38,$CD$114:$DH$479,7,FALSE),0) -> 0 | BW38: =IF($S38>0,VLOOKUP($E38,$CD$114:$DH$479,6,FALSE),0) -> 0 | BX38: =($S38*BT38)/1000 -> 0 | BY38: =IF(BX38>0,SQRT(($Y38*$Y38)+(BW38*BW38)),0) -> 0 | BZ38: =(BX38*BY38)^2 -> 0 | CA38: =IF(C38="EmisionesGEI",D38,AE38+AM38+AU38+BB38+BQ38) -> 0 | CB38: =IF(CA38>0,SQRT(AG38+AO38+AW38+BD38+BS38)/CA38,0) -> 0 | CC38: =(CA38*CB38)^2 -> 0
C39: DatosActividad | F39: =VLOOKUP($E39,$CD$114:$DH$479,2,FALSE) -> 0 | S39: =SUM(G39:R39) -> 0 | T39: =COUNT(G39:R39) -> 0 | U39: =IF(T39>1,AVERAGE(G39:R39),0) -> 0 | V39: =IF(T39>1,STDEV(G39:R39),0) -> 0 | W39: =IF(T39>1,VLOOKUP($T39,$CD$383:$CE$395,2,FALSE),0) -> 0 | Y39: =IF(X39>0,X39,IF(T39>1,1-((U39-((V39*W39)/(SQRT(T39))))/U39),VLOOKUP($E39,$CD$114:$DK$479,34,FALSE))) -> 0.05 | Z39: =VLOOKUP($E39,$CD$114:$DH$479,3,FALSE) -> 0 | AA39: =VLOOKUP($E39,$CD$114:$DH$479,4,FALSE) -> 0 | AB39: =IF($S39>0,VLOOKUP($E39,$CD$114:$DH$479,7,FALSE),0) -> 0 | AC39: =IF($S39>0,VLOOKUP($E39,$CD$114:$DH$479,6,FALSE),0) -> 0 | AD39: =($S39*Z39)/1000 -> 0 | AE39: =AD39*$CE$401 -> 0 | AF39: =IF(AD39>0,SQRT(($Y39*$Y39)+(AC39*AC39)),0) -> 0 | AG39: =(AE39*AF39)^2 -> 0 | AH39: =VLOOKUP($E39,$CD$114:$DH$479,9,FALSE) -> 0 | AI39: =VLOOKUP($E39,$CD$114:$DH$479,10,FALSE) -> 0 | AJ39: =IF($S39>0,VLOOKUP($E39,$CD$114:$DH$479,13,FALSE),0) -> 0 | AK39: =IF($S39>0,VLOOKUP($E39,$CD$114:$DH$479,12,FALSE),0) -> 0 | AL39: =($S39*AH39)/1000 -> 0 | AM39: =AL39*$CE$402 -> 0 | AN39: =IF(AL39>0,SQRT(($Y39*$Y39)+(AK39*AK39)),0) -> 0 | AO39: =(AM39*AN39)^2 -> 0 | AP39: =VLOOKUP($E39,$CD$114:$DH$479,15,FALSE) -> 0 | AQ39: =VLOOKUP($E39,$CD$114:$DH$479,16,FALSE) -> 0 | AR39: =IF($S39>0,VLOOKUP($E39,$CD$114:$DH$479,19,FALSE),0) -> 0 | AS39: =IF($S39>0,VLOOKUP($E39,$CD$114:$DH$479,18,FALSE),0) -> 0 | AT39: =($S39*AP39)/1000 -> 0 | AU39: =AT39*$CE$403 -> 0 | AV39: =IF(AT39>0,SQRT(($Y39*$Y39)+(AS39*AS39)),0) -> 0 | AW39: =(AU39*AV39)^2 -> 0 | AX39: 0 | AY39: 0 | AZ39: 0 | BA39: 0 | BB39: =($S39*AX39)/1000 -> 0 | BC39: =IF(BB39>0,SQRT(($Y39*$Y39)+(BA39*BA39)),0) -> 0 | BD39: =(BB39*BC39)^2 -> 0 | BE39: 0 | BF39: 0 | BG39: 0 | BH39: 0 | BI39: =($S39*BE39)/1000 -> 0 | BJ39: =IF(BI39>0,SQRT(($Y39*$Y39)+(BH39*BH39)),0) -> 0 | BK39: =(BI39*BJ39)^2 -> 0 | BL39: 0 | BM39: 0 | BN39: 0 | BO39: 0 | BP39: =($S39*BL39)/1000 -> 0 | BQ39: =BP39*$CE$404 -> 0 | BR39: =IF(BP39>0,SQRT(($Y39*$Y39)+(BO39*BO39)),0) -> 0 | BS39: =(BQ39*BR39)^2 -> 0 | BT39: =VLOOKUP($E39,$CD$114:$DI$479,32,FALSE) -> 0 | BU39: =VLOOKUP($E39,$CD$114:$DH$479,4,FALSE) -> 0 | BV39: =IF($S39>0,VLOOKUP($E39,$CD$114:$DH$479,7,FALSE),0) -> 0 | BW39: =IF($S39>0,VLOOKUP($E39,$CD$114:$DH$479,6,FALSE),0) -> 0 | BX39: =($S39*BT39)/1000 -> 0 | BY39: =IF(BX39>0,SQRT(($Y39*$Y39)+(BW39*BW39)),0) -> 0 | BZ39: =(BX39*BY39)^2 -> 0 | CA39: =IF(C39="EmisionesGEI",D39,AE39+AM39+AU39+BB39+BQ39) -> 0 | CB39: =IF(CA39>0,SQRT(AG39+AO39+AW39+BD39+BS39)/CA39,0) -> 0 | CC39: =(CA39*CB39)^2 -> 0
C40: DatosActividad | F40: =VLOOKUP($E40,$CD$114:$DH$479,2,FALSE) -> 0 | S40: =SUM(G40:R40) -> 0 | T40: =COUNT(G40:R40) -> 0 | U40: =IF(T40>1,AVERAGE(G40:R40),0) -> 0 | V40: =IF(T40>1,STDEV(G40:R40),0) -> 0 | W40: =IF(T40>1,VLOOKUP($T40,$CD$383:$CE$395,2,FALSE),0) -> 0 | Y40: =IF(X40>0,X40,IF(T40>1,1-((U40-((V40*W40)/(SQRT(T40))))/U40),VLOOKUP($E40,$CD$114:$DK$479,34,FALSE))) -> 0.05 | Z40: =VLOOKUP($E40,$CD$114:$DH$479,3,FALSE) -> 0 | AA40: =VLOOKUP($E40,$CD$114:$DH$479,4,FALSE) -> 0 | AB40: =IF($S40>0,VLOOKUP($E40,$CD$114:$DH$479,7,FALSE),0) -> 0 | AC40: =IF($S40>0,VLOOKUP($E40,$CD$114:$DH$479,6,FALSE),0) -> 0 | AD40: =($S40*Z40)/1000 -> 0 | AE40: =AD40*$CE$401 -> 0 | AF40: =IF(AD40>0,SQRT(($Y40*$Y40)+(AC40*AC40)),0) -> 0 | AG40: =(AE40*AF40)^2 -> 0 | AH40: =VLOOKUP($E40,$CD$114:$DH$479,9,FALSE) -> 0 | AI40: =VLOOKUP($E40,$CD$114:$DH$479,10,FALSE) -> 0 | AJ40: =IF($S40>0,VLOOKUP($E40,$CD$114:$DH$479,13,FALSE),0) -> 0 | AK40: =IF($S40>0,VLOOKUP($E40,$CD$114:$DH$479,12,FALSE),0) -> 0 | AL40: =($S40*AH40)/1000 -> 0 | AM40: =AL40*$CE$402 -> 0 | AN40: =IF(AL40>0,SQRT(($Y40*$Y40)+(AK40*AK40)),0) -> 0 | AO40: =(AM40*AN40)^2 -> 0 | AP40: =VLOOKUP($E40,$CD$114:$DH$479,15,FALSE) -> 0 | AQ40: =VLOOKUP($E40,$CD$114:$DH$479,16,FALSE) -> 0 | AR40: =IF($S40>0,VLOOKUP($E40,$CD$114:$DH$479,19,FALSE),0) -> 0 | AS40: =IF($S40>0,VLOOKUP($E40,$CD$114:$DH$479,18,FALSE),0) -> 0 | AT40: =($S40*AP40)/1000 -> 0 | AU40: =AT40*$CE$403 -> 0 | AV40: =IF(AT40>0,SQRT(($Y40*$Y40)+(AS40*AS40)),0) -> 0 | AW40: =(AU40*AV40)^2 -> 0 | AX40: 0 | AY40: 0 | AZ40: 0 | BA40: 0 | BB40: =($S40*AX40)/1000 -> 0 | BC40: =IF(BB40>0,SQRT(($Y40*$Y40)+(BA40*BA40)),0) -> 0 | BD40: =(BB40*BC40)^2 -> 0 | BE40: 0 | BF40: 0 | BG40: 0 | BH40: 0 | BI40: =($S40*BE40)/1000 -> 0 | BJ40: =IF(BI40>0,SQRT(($Y40*$Y40)+(BH40*BH40)),0) -> 0 | BK40: =(BI40*BJ40)^2 -> 0 | BL40: 0 | BM40: 0 | BN40: 0 | BO40: 0 | BP40: =($S40*BL40)/1000 -> 0 | BQ40: =BP40*$CE$404 -> 0 | BR40: =IF(BP40>0,SQRT(($Y40*$Y40)+(BO40*BO40)),0) -> 0 | BS40: =(BQ40*BR40)^2 -> 0 | BT40: =VLOOKUP($E40,$CD$114:$DI$479,32,FALSE) -> 0 | BU40: =VLOOKUP($E40,$CD$114:$DH$479,4,FALSE) -> 0 | BV40: =IF($S40>0,VLOOKUP($E40,$CD$114:$DH$479,7,FALSE),0) -> 0 | BW40: =IF($S40>0,VLOOKUP($E40,$CD$114:$DH$479,6,FALSE),0) -> 0 | BX40: =($S40*BT40)/1000 -> 0 | BY40: =IF(BX40>0,SQRT(($Y40*$Y40)+(BW40*BW40)),0) -> 0 | BZ40: =(BX40*BY40)^2 -> 0 | CA40: =IF(C40="EmisionesGEI",D40,AE40+AM40+AU40+BB40+BQ40) -> 0 | CB40: =IF(CA40>0,SQRT(AG40+AO40+AW40+BD40+BS40)/CA40,0) -> 0 | CC40: =(CA40*CB40)^2 -> 0
B41: Consumo de combustibles gaseosos | C41: DatosActividad | F41: =VLOOKUP($E41,$CD$114:$DH$479,2,FALSE) -> 0 | S41: =SUM(G41:R41) -> 0 | T41: =COUNT(G41:R41) -> 0 | U41: =IF(T41>1,AVERAGE(G41:R41),0) -> 0 | V41: =IF(T41>1,STDEV(G41:R41),0) -> 0 | W41: =IF(T41>1,VLOOKUP($T41,$CD$383:$CE$395,2,FALSE),0) -> 0 | Y41: =IF(X41>0,X41,IF(T41>1,1-((U41-((V41*W41)/(SQRT(T41))))/U41),VLOOKUP($E41,$CD$114:$DK$479,34,FALSE))) -> 0.05 | Z41: =VLOOKUP($E41,$CD$114:$DH$479,3,FALSE) -> 0 | AA41: =VLOOKUP($E41,$CD$114:$DH$479,4,FALSE) -> 0 | AB41: =IF($S41>0,VLOOKUP($E41,$CD$114:$DH$479,7,FALSE),0) -> 0 | AC41: =IF($S41>0,VLOOKUP($E41,$CD$114:$DH$479,6,FALSE),0) -> 0 | AD41: =($S41*Z41)/1000 -> 0 | AE41: =AD41*$CE$401 -> 0 | AF41: =IF(AD41>0,SQRT(($Y41*$Y41)+(AC41*AC41)),0) -> 0 | AG41: =(AE41*AF41)^2 -> 0 | AH41: =VLOOKUP($E41,$CD$114:$DH$479,9,FALSE) -> 0 | AI41: =VLOOKUP($E41,$CD$114:$DH$479,10,FALSE) -> 0 | AJ41: =IF($S41>0,VLOOKUP($E41,$CD$114:$DH$479,13,FALSE),0) -> 0 | AK41: =IF($S41>0,VLOOKUP($E41,$CD$114:$DH$479,12,FALSE),0) -> 0 | AL41: =($S41*AH41)/1000 -> 0 | AM41: =AL41*$CE$402 -> 0 | AN41: =IF(AL41>0,SQRT(($Y41*$Y41)+(AK41*AK41)),0) -> 0 | AO41: =(AM41*AN41)^2 -> 0 | AP41: =VLOOKUP($E41,$CD$114:$DH$479,15,FALSE) -> 0 | AQ41: =VLOOKUP($E41,$CD$114:$DH$479,16,FALSE) -> 0 | AR41: =IF($S41>0,VLOOKUP($E41,$CD$114:$DH$479,19,FALSE),0) -> 0 | AS41: =IF($S41>0,VLOOKUP($E41,$CD$114:$DH$479,18,FALSE),0) -> 0 | AT41: =($S41*AP41)/1000 -> 0 | AU41: =AT41*$CE$403 -> 0 | AV41: =IF(AT41>0,SQRT(($Y41*$Y41)+(AS41*AS41)),0) -> 0 | AW41: =(AU41*AV41)^2 -> 0 | AX41: 0 | AY41: 0 | AZ41: 0 | BA41: 0 | BB41: =($S41*AX41)/1000 -> 0 | BC41: =IF(BB41>0,SQRT(($Y41*$Y41)+(BA41*BA41)),0) -> 0 | BD41: =(BB41*BC41)^2 -> 0 | BE41: 0 | BF41: 0 | BG41: 0 | BH41: 0 | BI41: =($S41*BE41)/1000 -> 0 | BJ41: =IF(BI41>0,SQRT(($Y41*$Y41)+(BH41*BH41)),0) -> 0 | BK41: =(BI41*BJ41)^2 -> 0 | BL41: 0 | BM41: 0 | BN41: 0 | BO41: 0 | BP41: =($S41*BL41)/1000 -> 0 | BQ41: =BP41*$CE$404 -> 0 | BR41: =IF(BP41>0,SQRT(($Y41*$Y41)+(BO41*BO41)),0) -> 0 | BS41: =(BQ41*BR41)^2 -> 0 | BT41: =VLOOKUP($E41,$CD$114:$DI$479,32,FALSE) -> 0 | BU41: =VLOOKUP($E41,$CD$114:$DH$479,4,FALSE) -> 0 | BV41: =IF($S41>0,VLOOKUP($E41,$CD$114:$DH$479,7,FALSE),0) -> 0 | BW41: =IF($S41>0,VLOOKUP($E41,$CD$114:$DH$479,6,FALSE),0) -> 0 | BX41: =($S41*BT41)/1000 -> 0 | BY41: =IF(BX41>0,SQRT(($Y41*$Y41)+(BW41*BW41)),0) -> 0 | BZ41: =(BX41*BY41)^2 -> 0 | CA41: =IF(C41="EmisionesGEI",D41,AE41+AM41+AU41+BB41+BQ41) -> 0 | CB41: =IF(CA41>0,SQRT(AG41+AO41+AW41+BD41+BS41)/CA41,0) -> 0 | CC41: =(CA41*CB41)^2 -> 0
B42: (Fuentes Fijas) | C42: DatosActividad | F42: =VLOOKUP($E42,$CD$114:$DH$479,2,FALSE) -> 0 | S42: =SUM(G42:R42) -> 0 | T42: =COUNT(G42:R42) -> 0 | U42: =IF(T42>1,AVERAGE(G42:R42),0) -> 0 | V42: =IF(T42>1,STDEV(G42:R42),0) -> 0 | W42: =IF(T42>1,VLOOKUP($T42,$CD$383:$CE$395,2,FALSE),0) -> 0 | Y42: =IF(X42>0,X42,IF(T42>1,1-((U42-((V42*W42)/(SQRT(T42))))/U42),VLOOKUP($E42,$CD$114:$DK$479,34,FALSE))) -> 0.05 | Z42: =VLOOKUP($E42,$CD$114:$DH$479,3,FALSE) -> 0 | AA42: =VLOOKUP($E42,$CD$114:$DH$479,4,FALSE) -> 0 | AB42: =IF($S42>0,VLOOKUP($E42,$CD$114:$DH$479,7,FALSE),0) -> 0 | AC42: =IF($S42>0,VLOOKUP($E42,$CD$114:$DH$479,6,FALSE),0) -> 0 | AD42: =($S42*Z42)/1000 -> 0 | AE42: =AD42*$CE$401 -> 0 | AF42: =IF(AD42>0,SQRT(($Y42*$Y42)+(AC42*AC42)),0) -> 0 | AG42: =(AE42*AF42)^2 -> 0 | AH42: =VLOOKUP($E42,$CD$114:$DH$479,9,FALSE) -> 0 | AI42: =VLOOKUP($E42,$CD$114:$DH$479,10,FALSE) -> 0 | AJ42: =IF($S42>0,VLOOKUP($E42,$CD$114:$DH$479,13,FALSE),0) -> 0 | AK42: =IF($S42>0,VLOOKUP($E42,$CD$114:$DH$479,12,FALSE),0) -> 0 | AL42: =($S42*AH42)/1000 -> 0 | AM42: =AL42*$CE$402 -> 0 | AN42: =IF(AL42>0,SQRT(($Y42*$Y42)+(AK42*AK42)),0) -> 0 | AO42: =(AM42*AN42)^2 -> 0 | AP42: =VLOOKUP($E42,$CD$114:$DH$479,15,FALSE) -> 0 | AQ42: =VLOOKUP($E42,$CD$114:$DH$479,16,FALSE) -> 0 | AR42: =IF($S42>0,VLOOKUP($E42,$CD$114:$DH$479,19,FALSE),0) -> 0 | AS42: =IF($S42>0,VLOOKUP($E42,$CD$114:$DH$479,18,FALSE),0) -> 0 | AT42: =($S42*AP42)/1000 -> 0 | AU42: =AT42*$CE$403 -> 0 | AV42: =IF(AT42>0,SQRT(($Y42*$Y42)+(AS42*AS42)),0) -> 0 | AW42: =(AU42*AV42)^2 -> 0 | AX42: 0 | AY42: 0 | AZ42: 0 | BA42: 0 | BB42: =($S42*AX42)/1000 -> 0 | BC42: =IF(BB42>0,SQRT(($Y42*$Y42)+(BA42*BA42)),0) -> 0 | BD42: =(BB42*BC42)^2 -> 0 | BE42: 0 | BF42: 0 | BG42: 0 | BH42: 0 | BI42: =($S42*BE42)/1000 -> 0 | BJ42: =IF(BI42>0,SQRT(($Y42*$Y42)+(BH42*BH42)),0) -> 0 | BK42: =(BI42*BJ42)^2 -> 0 | BL42: 0 | BM42: 0 | BN42: 0 | BO42: 0 | BP42: =($S42*BL42)/1000 -> 0 | BQ42: =BP42*$CE$404 -> 0 | BR42: =IF(BP42>0,SQRT(($Y42*$Y42)+(BO42*BO42)),0) -> 0 | BS42: =(BQ42*BR42)^2 -> 0 | BT42: =VLOOKUP($E42,$CD$114:$DI$479,32,FALSE) -> 0 | BU42: =VLOOKUP($E42,$CD$114:$DH$479,4,FALSE) -> 0 | BV42: =IF($S42>0,VLOOKUP($E42,$CD$114:$DH$479,7,FALSE),0) -> 0 | BW42: =IF($S42>0,VLOOKUP($E42,$CD$114:$DH$479,6,FALSE),0) -> 0 | BX42: =($S42*BT42)/1000 -> 0 | BY42: =IF(BX42>0,SQRT(($Y42*$Y42)+(BW42*BW42)),0) -> 0 | BZ42: =(BX42*BY42)^2 -> 0 | CA42: =IF(C42="EmisionesGEI",D42,AE42+AM42+AU42+BB42+BQ42) -> 0 | CB42: =IF(CA42>0,SQRT(AG42+AO42+AW42+BD42+BS42)/CA42,0) -> 0 | CC42: =(CA42*CB42)^2 -> 0
